BEGIN:VCALENDAR
VERSION:2.0
PRODID:-//UM//UM*Events//EN
CALSCALE:GREGORIAN
BEGIN:VTIMEZONE
TZID:America/Detroit
TZURL:http://tzurl.org/zoneinfo/America/Detroit
X-LIC-LOCATION:America/Detroit
BEGIN:DAYLIGHT
TZOFFSETFROM:-0500
TZOFFSETTO:-0400
TZNAME:EDT
DTSTART:20070311T020000
RRULE:FREQ=YEARLY;BYMONTH=3;BYDAY=2SU
END:DAYLIGHT
BEGIN:STANDARD
TZOFFSETFROM:-0400
TZOFFSETTO:-0500
TZNAME:EST
DTSTART:20071104T020000
RRULE:FREQ=YEARLY;BYMONTH=11;BYDAY=1SU
END:STANDARD
END:VTIMEZONE
BEGIN:VEVENT
DTSTAMP:20240326T121704
DTSTART;TZID=America/Detroit:20240428T200000
DTEND;TZID=America/Detroit:20240428T213000
SUMMARY:Performance:Halfway There: Health\, Home\, & Hope in Art Song
DESCRIPTION:*Halfway There: Health\, Home & Hope in Art Song* is a concert program featuring two new song cycles by Mikeila McQueston\, pre-candidate for the DMA in Composition\, with performances by Loren Reash-Henz\, baritone\; John Morefield\, piano\; and guest artist Jenna Grissom\, soprano.\n \n*Saltblue & Other Missing Memories* explores how physical\, temporal\, and metaphorical distances shape our perceptions of home. Ultimately\, it emphasizes the importance of personal connection to our overall sense of well-being.   \n\n*Ditties for the Struggling Soprano* is a self-care cabaret-style song cycle that highlights serious issues through seriously light-hearted music. American popular culture routinely glorifies busyness and “toughing it out” over self-care\, and social media trends perpetuate this image\, teaching users to casually embrace terms like “girl dinner\,” “fo-mo\,” and “binge watching.” Research has shown these trends lead to a decrease in physical and mental well-being\, including symptoms like heightened anxiety\, sleep problems\, and body dysmorphia\, among others. For vocal performance majors whose instruments are their bodies\, this is of particular concern. Therefore\, each ditty is a conversation starter to encourage students to engage in healthier habits and to seek out time for their physical and mental health during the rigors of their collegiate or conservatory education.\n\n*This performance is made possible by a grant from the University of Michigan School of Music\, Theatre & Dance Wellness Program\, the EXCEL Lab\, and U-M's Eisenberg Family Depression Center.*\n
UID:120693-21845145@events.umich.edu
URL:https://events.umich.edu/event/120693
CLASS:PUBLIC
STATUS:CONFIRMED
CATEGORIES:Concert,Well-being,Social Impact,North Campus,Music,Free
LOCATION:Earl V. Moore Building - Britton Recital Hall
CONTACT:
END:VEVENT
BEGIN:VEVENT
DTSTAMP:20240501T120006
DTSTART;TZID=America/Detroit:20240429T000000
DTEND;TZID=America/Detroit:20240429T235959
SUMMARY:Social / Informal Gathering:IdeaHub Check-In
DESCRIPTION:Please check-in when visiting the IdeaHub.
UID:120861-21845485@events.umich.edu
URL:https://events.umich.edu/event/120861
CLASS:PUBLIC
STATUS:CONFIRMED
CATEGORIES:
LOCATION:IdeaHub
CONTACT:
END:VEVENT
BEGIN:VEVENT
DTSTAMP:20240428T120006
DTSTART;TZID=America/Detroit:20240429T000000
DTEND;TZID=America/Detroit:20240429T133000
SUMMARY:Other:MACRA Championships
DESCRIPTION:Beagle but different
UID:121651-21846867@events.umich.edu
URL:https://events.umich.edu/event/121651
CLASS:PUBLIC
STATUS:CONFIRMED
CATEGORIES:
LOCATION:Bald Eagle Course Indianapolis, IN USA
CONTACT:
END:VEVENT
END:VCALENDAR