BEGIN:VCALENDAR
VERSION:2.0
PRODID:-//UM//UM*Events//EN
CALSCALE:GREGORIAN
BEGIN:VTIMEZONE
TZID:America/Detroit
TZURL:http://tzurl.org/zoneinfo/America/Detroit
X-LIC-LOCATION:America/Detroit
BEGIN:DAYLIGHT
TZOFFSETFROM:-0500
TZOFFSETTO:-0400
TZNAME:EDT
DTSTART:20070311T020000
RRULE:FREQ=YEARLY;BYMONTH=3;BYDAY=2SU
END:DAYLIGHT
BEGIN:STANDARD
TZOFFSETFROM:-0400
TZOFFSETTO:-0500
TZNAME:EST
DTSTART:20071104T020000
RRULE:FREQ=YEARLY;BYMONTH=11;BYDAY=1SU
END:STANDARD
END:VTIMEZONE
BEGIN:VEVENT
DTSTAMP:20240428T120007
DTSTART;TZID=America/Detroit:20240429T000000
DTEND;TZID=America/Detroit:20240429T160000
SUMMARY:Other:NCSA Regionals
DESCRIPTION:The University of Michigan Club Softball team will be playing in the NCSA Regional tournament in Elkhart\, IN. Game times will be dependent on wins and losses but the first game will be against Wisconsin at 10am on Saturday April 27 and the second game will be at 12pm. If we make it to the championship that will be played on Sunday at 10 am. Go Blue!!
UID:121680-21846908@events.umich.edu
URL:https://events.umich.edu/event/121680
CLASS:PUBLIC
STATUS:CONFIRMED
CATEGORIES:
LOCATION:Elkhart Fields
CONTACT:
END:VEVENT
BEGIN:VEVENT
DTSTAMP:20240428T180006
DTSTART;TZID=America/Detroit:20240429T000000
DTEND;TZID=America/Detroit:20240429T234500
SUMMARY:Other:Regionals
DESCRIPTION:Frisbee tournament in Zeeland\, MI
UID:121109-21845837@events.umich.edu
URL:https://events.umich.edu/event/121109
CLASS:PUBLIC
STATUS:CONFIRMED
CATEGORIES:
LOCATION:Zeeland, Michigan
CONTACT:
END:VEVENT
BEGIN:VEVENT
DTSTAMP:20240326T162353
DTSTART;TZID=America/Detroit:20240429T073000
DTEND;TZID=America/Detroit:20240429T124500
SUMMARY:Conference / Symposium:2024 Single Cell and Spatial Analysis Core Services at UM Event
DESCRIPTION:The goal of this half-day event is to help encourage SC/SA researchers to both utilize and advance single-cell spatial analysis research by highlighting resources and technologies available on campus. We will have 11 UM cores that provide single-cell and spatial related services present overviews of their services.
UID:120765-21845273@events.umich.edu
URL:https://events.umich.edu/event/120765
CLASS:PUBLIC
STATUS:CONFIRMED
CATEGORIES:Graduate School,Information and Technology,Life Science,Mechanical Engineering,Natural Sciences,Postdoctoral Research Fellows,Public Health,Research,Science,symposium,Bsbsigns,Basic Science,Biointerfaces,Biology,Biomedical Engineering,Biosciences,Chemistry,Drug Discovery,Engineering,Faculty,Faculty Candidate
LOCATION:North Campus Research Complex Building 18 - Dining Hall
CONTACT:
END:VEVENT
END:VCALENDAR