BEGIN:VCALENDAR
VERSION:2.0
PRODID:-//UM//UM*Events//EN
CALSCALE:GREGORIAN
BEGIN:VTIMEZONE
TZID:America/Detroit
TZURL:http://tzurl.org/zoneinfo/America/Detroit
X-LIC-LOCATION:America/Detroit
BEGIN:DAYLIGHT
TZOFFSETFROM:-0500
TZOFFSETTO:-0400
TZNAME:EDT
DTSTART:20070311T020000
RRULE:FREQ=YEARLY;BYMONTH=3;BYDAY=2SU
END:DAYLIGHT
BEGIN:STANDARD
TZOFFSETFROM:-0400
TZOFFSETTO:-0500
TZNAME:EST
DTSTART:20071104T020000
RRULE:FREQ=YEARLY;BYMONTH=11;BYDAY=1SU
END:STANDARD
END:VTIMEZONE
BEGIN:VEVENT
DTSTAMP:20240414T220445
DTSTART;TZID=America/Detroit:20240415T160000
DTEND;TZID=America/Detroit:20240415T170000
SUMMARY:Workshop / Seminar:Connection Between Representation Theory and Schubert Calculus
DESCRIPTION:The Representation Ring of $GL_n$ and the cohomology ring of the Grassmanian have (almost) identical structure and the analysis of the structure of these rings is in terms of irreducible representations and schubert varieties respectively. We will construct a direct map between these two rings and see how the corresponding basis relate to each other.
UID:121453-21846563@events.umich.edu
URL:https://events.umich.edu/event/121453
CLASS:PUBLIC
STATUS:CONFIRMED
CATEGORIES:Graduate Students
LOCATION:East Hall - 3866
CONTACT:
END:VEVENT
BEGIN:VEVENT
DTSTAMP:20240328T133223
DTSTART;TZID=America/Detroit:20240415T160000
DTEND;TZID=America/Detroit:20240415T173000
SUMMARY:Lecture / Discussion:Gomberg Lecture - Particulate methane monooxygenase structure in situ
DESCRIPTION:Under the mounting threat of climate change\, increasing atmospheric methane concentrations are a constant source of concern and debate. Conversion of methane to desirable fuels and chemicals could simultaneously mitigate global warming and meet increasing energy demands. Industrial catalysts that can selectively activate the 105 kcal mol-1 C-H bond in methane require high temperatures and pressures\, along with significant capital expenses. The use of biocatalysts produced by methanotrophic bacteria provides an environmentally friendly alternative. The primary biocatalyst in methanotrophic bacteria is the copper-dependent\, membrane-bound enzyme particulate methane monooxygenase (pMMO). Any use of methanotrophs for biological gas-to-liquids conversion or for bioremediation requires a detailed understanding of pMMO structure and function. Despite extensive research\, the molecular details of the pMMO copper active site remain controversial\, in part because the enzyme loses activity upon isolation from methanotroph membranes. Thus\, it is critical to structurally characterize pMMO in its native cellular environment. Our quest to achieve molecular characterization of pMMO in situ will be discussed.
UID:108132-21818977@events.umich.edu
URL:https://events.umich.edu/event/108132
CLASS:PUBLIC
STATUS:CONFIRMED
CATEGORIES:Chemistry,Inorganic Chemistry,Science
LOCATION:Chemistry Dow Lab
CONTACT:
END:VEVENT
BEGIN:VEVENT
DTSTAMP:20240430T123130
DTSTART;TZID=America/Detroit:20240415T160000
DTEND;TZID=America/Detroit:20240415T163000
SUMMARY:Careers / Jobs:Ignite Your Future: Empowering Growth with Michigan Education Corps
DESCRIPTION:Michigan Education Corps doesn't just focus on the academic success of the students we serve\; we're equally committed to nurturing the professional growth and development of our AmeriCorps members. Join us foran exclusive session featuring Karandeep Sandhu (she/her)\, MEC's esteemed Learning and Development Coordinator\, as she shares insights into the organization's comprehensive learning and development initiatives.\n\nDuring this event\, you'll learn about the various programs and resources available to support your personal and professional advancement during and after your AmeriCorps service term with MEC. From specialized training\, coaching\, information sessions on career pathways\, affinity groups and the AmeriCorps Education Award\, we're dedicated to empowering you every step ofthe way.\n\nDon't miss this opportunity to learn more about how Michigan Education Corps can elevate your career and provide you with the tools andsupport you need to thrive.
UID:121127-21845859@events.umich.edu
URL:https://events.umich.edu/event/121127
CLASS:PUBLIC
STATUS:CONFIRMED
CATEGORIES:
LOCATION:
CONTACT:
END:VEVENT
END:VCALENDAR