BEGIN:VCALENDAR
VERSION:2.0
PRODID:-//UM//UM*Events//EN
CALSCALE:GREGORIAN
BEGIN:VTIMEZONE
TZID:America/Detroit
TZURL:http://tzurl.org/zoneinfo/America/Detroit
X-LIC-LOCATION:America/Detroit
BEGIN:DAYLIGHT
TZOFFSETFROM:-0500
TZOFFSETTO:-0400
TZNAME:EDT
DTSTART:20070311T020000
RRULE:FREQ=YEARLY;BYMONTH=3;BYDAY=2SU
END:DAYLIGHT
BEGIN:STANDARD
TZOFFSETFROM:-0400
TZOFFSETTO:-0500
TZNAME:EST
DTSTART:20071104T020000
RRULE:FREQ=YEARLY;BYMONTH=11;BYDAY=1SU
END:STANDARD
END:VTIMEZONE
BEGIN:VEVENT
DTSTAMP:20240930T140441
DTSTART;TZID=America/Detroit:20241022T190000
DTEND;TZID=America/Detroit:20241022T200000
SUMMARY:Presentation:MA with Teacher Certification Info Session
DESCRIPTION:During this information session\, our staff and a current student will provide an overview of what makes us a top ranked education program! The session will cover details about the application process\, academic program schedule\, courses\, funding\, and will conclude with time for questions.
UID:127138-21858547@events.umich.edu
URL:https://events.umich.edu/event/127138
CLASS:PUBLIC
STATUS:CONFIRMED
CATEGORIES:Graduate,Graduate School,Graduate Students,Prospective Graduate Students
LOCATION:Off Campus Location
CONTACT:
END:VEVENT
BEGIN:VEVENT
DTSTAMP:20241121T025448
DTSTART;TZID=America/Detroit:20241022T190000
DTEND;TZID=America/Detroit:20241022T200000
SUMMARY:Social / Informal Gathering:That Tuesday Thing: Christmas and Advent Celebration
DESCRIPTION:That Tuesday Thing is a community gathering to engage in various study opportunities or fun activities.\nThis Tuesday\, we will celebrate Advent and Christmas by decorating the tree\, watching a festive movie\, and enjoying good food. All are welcome to come even if you have not previously attended any That Tuesday Thing events!
UID:124923-21854056@events.umich.edu
URL:https://events.umich.edu/event/124923
CLASS:PUBLIC
STATUS:CONFIRMED
CATEGORIES:Holiday,Religious,Social
LOCATION:Off Campus Location - Wesley Lounge
CONTACT:
END:VEVENT
BEGIN:VEVENT
DTSTAMP:20241016T181704
DTSTART;TZID=America/Detroit:20241022T191500
DTEND;TZID=America/Detroit:20241022T194500
SUMMARY:Lecture / Discussion:[Cancelled] Pre-Concert Lecture: University Choir
DESCRIPTION:There will be no Pre-Concert Lecture prior to the University Choir performance. We apologize for any inconvenience.
UID:122596-21849426@events.umich.edu
URL:https://events.umich.edu/event/122596
CLASS:PUBLIC
STATUS:CONFIRMED
CATEGORIES:Concert,Free,Lecture,Music,Talk
LOCATION:Hill Auditorium - Lower Level Lobby
CONTACT:
END:VEVENT
END:VCALENDAR