BEGIN:VCALENDAR
VERSION:2.0
PRODID:-//UM//UM*Events//EN
CALSCALE:GREGORIAN
BEGIN:VTIMEZONE
TZID:America/Detroit
TZURL:http://tzurl.org/zoneinfo/America/Detroit
X-LIC-LOCATION:America/Detroit
BEGIN:DAYLIGHT
TZOFFSETFROM:-0500
TZOFFSETTO:-0400
TZNAME:EDT
DTSTART:20070311T020000
RRULE:FREQ=YEARLY;BYMONTH=3;BYDAY=2SU
END:DAYLIGHT
BEGIN:STANDARD
TZOFFSETFROM:-0400
TZOFFSETTO:-0500
TZNAME:EST
DTSTART:20071104T020000
RRULE:FREQ=YEARLY;BYMONTH=11;BYDAY=1SU
END:STANDARD
END:VTIMEZONE
BEGIN:VEVENT
DTSTAMP:20241128T183116
DTSTART;TZID=America/Detroit:20241113T190000
SUMMARY:Careers / Jobs:PwC Entry Level Virtual Event Series - Where accounting can take you
DESCRIPTION:You should consider being an accountant. Yes\, you. Workingas an accountant today is more than just numbers. The accounting field isundergoing a transformation and can offer you a pathway to gain experience and knowledge to create the career of your dreams at PwC and beyond.By attending this session you'll learn more about what accountants do and the benefits\, skills\, and value a career as a CPA can provide including: \nFlexibility and the ability to work anywhere or for anyone\nAlways in demand skills that last your entire career\nInnovative tools and technology\nCollaborative teamwork environment\nHigh earning potential\nPrestige of obtaining your CPA \nYou won't want to miss out on learning moreabout why accounting might be the right field for you. Note: thisis one of two duplicative sessions being offered this fall.
UID:127625-21859409@events.umich.edu
URL:https://events.umich.edu/event/127625
CLASS:PUBLIC
STATUS:CONFIRMED
CATEGORIES:
LOCATION:
CONTACT:
END:VEVENT
BEGIN:VEVENT
DTSTAMP:20240826T121909
DTSTART;TZID=America/Detroit:20241113T190000
DTEND;TZID=America/Detroit:20241113T200000
SUMMARY:Class / Instruction:Q+A (Queer and Affirming)
DESCRIPTION:We'll gather for discussion\, Bible or book studies\, and discover the intersection of faith and identity. This group is for the LGBTQIA2S+ community and allies.
UID:124924-21854080@events.umich.edu
URL:https://events.umich.edu/event/124924
CLASS:PUBLIC
STATUS:CONFIRMED
CATEGORIES:Lgbt,Religious,Social
LOCATION:Off Campus Location - Pine Room
CONTACT:
END:VEVENT
BEGIN:VEVENT
DTSTAMP:20241106T170950
DTSTART;TZID=America/Detroit:20241113T190000
DTEND;TZID=America/Detroit:20241113T210000
SUMMARY:Social / Informal Gathering:Tote Bag Painting
DESCRIPTION:Join Clean Up Campus for our sustainable tote bag painting event! We'll be promoting the use of reusable grocery bags by creating hand-painted tote bags!\n\nNov. 13 from 7-9pm in DANA 1046\n\nRSVP is required for this event. All supplies are provided\, and no experience is necessary.\nThere are a limited number of spots for this event\, so please RSVP as soon as possible. We'll create a waitlist if necessary.
UID:128854-21861704@events.umich.edu
URL:https://events.umich.edu/event/128854
CLASS:PUBLIC
STATUS:CONFIRMED
CATEGORIES:Art,Biology,Community Service,Ecology,Environment,Social,Student Org,Sustainability,Undergraduate,Volunteer
LOCATION:Dana Natural Resources  Building - 1046
CONTACT:
END:VEVENT
END:VCALENDAR