BEGIN:VCALENDAR
VERSION:2.0
PRODID:-//UM//UM*Events//EN
CALSCALE:GREGORIAN
BEGIN:VTIMEZONE
TZID:America/Detroit
TZURL:http://tzurl.org/zoneinfo/America/Detroit
X-LIC-LOCATION:America/Detroit
BEGIN:DAYLIGHT
TZOFFSETFROM:-0500
TZOFFSETTO:-0400
TZNAME:EDT
DTSTART:20070311T020000
RRULE:FREQ=YEARLY;BYMONTH=3;BYDAY=2SU
END:DAYLIGHT
BEGIN:STANDARD
TZOFFSETFROM:-0400
TZOFFSETTO:-0500
TZNAME:EST
DTSTART:20071104T020000
RRULE:FREQ=YEARLY;BYMONTH=11;BYDAY=1SU
END:STANDARD
END:VTIMEZONE
BEGIN:VEVENT
DTSTAMP:20240308T165618
DTSTART;TZID=America/Detroit:20240429T080000
DTEND;TZID=America/Detroit:20240429T230000
SUMMARY:Exhibition:Souq Stories: Gaza Lives
DESCRIPTION:This exhibit is an extension of Souq Stories (https://souqstories.insaniyyat.org/)\, which was displayed in 2021 in all seven of the historic markets it depicts in Gaza\, Nazareth\, Acre\, Nablus\, Jerusalem\, Khalil\, and Jaffa. Its youth group organizers aimed to bolster Palestinian unity across the systemic barriers — colonial divides\, military checkpoints\, walls\, etc. — that fragment the lives of people living in Palestine. \n\nSouq Stories: Gaza Lives brings us to present-day Gaza\, sharing the stories of\, and images captured by\, young journalists and photographers who have continued to document the realities of life in Palestine. It also honors one among them\, Fouad Abu Khammash\, who was killed in January 2024 in an Israeli bomb attack on Gaza.\n\n< The exhibit includes images of people suffering the aftermath of the ongoing violence. >\n\nThis exhibit was curated by Souq Stories team members Shareef Sarhan and Waed Abbas in partnership with U-M students Amir Marshi\, Zainab Hakim\, Mariam Odeh\, and Vivian M. Nguyen. It’s offered in conjunction with this year’s Palestine Awareness Week\, an annual series of educational events related to Palestinian history\, culture\, and politics. Presented in association with Insaniyyat: Society of Palestinian Anthropologists.
UID:119219-21846056@events.umich.edu
URL:https://events.umich.edu/event/119219
CLASS:PUBLIC
STATUS:CONFIRMED
CATEGORIES:Free,Library
LOCATION:Hatcher Graduate Library - Gallery, 1st Floor
CONTACT:
END:VEVENT
BEGIN:VEVENT
DTSTAMP:20240313T132052
DTSTART;TZID=America/Detroit:20240429T090000
DTEND;TZID=America/Detroit:20240429T140000
SUMMARY:Conference / Symposium:AI in Health Ethics and Policy
DESCRIPTION:Artificial Intelligence (AI) is transforming healthcare in major ways. It has the potential to help clinicians make better diagnoses and offer personalized treatment\, while also promising to revolutionize how healthcare is delivered. However\, healthcare systems that deploy AI\, and patients whose care is impacted by AI face many ethical considerations. How will access to appropriate data be balanced with privacy? Who is responsible for the quality of AI tools? Are AI technologies contributing to or mitigating health inequities? Are the AI systems we are building trustworthy? \n\nThe Michigan Institute for Data Science (MIDAS)\, the Learning Health System Collaboratory\, the E-Health and Artificial Intelligence (e-HAIL) program and Trust\, Innovation and Ethics Research for Responsible AI (TIERRA) invite you to a joint mini-symposium featuring prominent speakers from the U.S. and Canada to explore ethical issues and regulations of health AI. The event aims to stimulate new ideas and collaboration for the development and implementation of ethical and trustworthy AI systems for healthcare.\n\nFor more information\, please visit our event page: https://midas.umich.edu/health-ai-ethics-symposium/
UID:120130-21844100@events.umich.edu
URL:https://events.umich.edu/event/120130
CLASS:PUBLIC
STATUS:CONFIRMED
CATEGORIES:Applications,Artificial Intelligence,Computer Science,Graduate,Graduate And Professional Students,Healthcare,Information And Technology,Research
LOCATION:Palmer Commons - Great Lakes Room
CONTACT:
END:VEVENT
BEGIN:VEVENT
DTSTAMP:20240423T152636
DTSTART;TZID=America/Detroit:20240429T090000
DTEND;TZID=America/Detroit:20240429T170000
SUMMARY:Exhibition:Bill Jackson Photography Exhibition
DESCRIPTION:This exhibition is entitled HOMECOMING because it has been almost 6 years since Bill was scheduled to have an exhibition at NCRC Gallery.  However\, his untimely passing in 2018 prevented the exhibition.  In honor of the artist\, his wife Meighen Jackson has assembled this body of work for this exhibition.\n\nA 1960’s graduate of Monteith College at Wayne State\, Bill saw himself not as a storyteller nor a documentarian\, but as a photographer seeking images with the power and creativity of late 20th century painting and music making.\n\nBill Jackson’s work is represented nationally by Walter Wickiser Gallery in Manhattan and regionally by M Contemporary in Ferndale\, MI.   It is included in many permanent collections including Wayne State University in Detroit.
UID:121687-21846921@events.umich.edu
URL:https://events.umich.edu/event/121687
CLASS:PUBLIC
STATUS:CONFIRMED
CATEGORIES:Art,Culture,Detroit,Exhibition,Free,Humanities,North Campus,Visual Arts
LOCATION:North Campus Research Complex Building 18 - Rotunda Gallery
CONTACT:
END:VEVENT
END:VCALENDAR