BEGIN:VCALENDAR
VERSION:2.0
PRODID:-//UM//UM*Events//EN
CALSCALE:GREGORIAN
BEGIN:VTIMEZONE
TZID:America/Detroit
TZURL:http://tzurl.org/zoneinfo/America/Detroit
X-LIC-LOCATION:America/Detroit
BEGIN:DAYLIGHT
TZOFFSETFROM:-0500
TZOFFSETTO:-0400
TZNAME:EDT
DTSTART:20070311T020000
RRULE:FREQ=YEARLY;BYMONTH=3;BYDAY=2SU
END:DAYLIGHT
BEGIN:STANDARD
TZOFFSETFROM:-0400
TZOFFSETTO:-0500
TZNAME:EST
DTSTART:20071104T020000
RRULE:FREQ=YEARLY;BYMONTH=11;BYDAY=1SU
END:STANDARD
END:VTIMEZONE
BEGIN:VEVENT
DTSTAMP:20231205T144915
DTSTART;TZID=America/Detroit:20240429T090000
DTEND;TZID=America/Detroit:20240429T230000
SUMMARY:Exhibition:Orson Welles as Family Man: Son\, Husband\, Father
DESCRIPTION:This exhibit provides a unique glimpse into the actor/director Orson Welles’ private life. Unlike previous U-M Library exhibits that focused on the artist at work\, this display shows him in informal and familial environments\, revealing a depth and complexity of character that are often overshadowed by his fame and professional achievements. The photographs and documents displayed showcase a variety of emotional tones — warmth\, humor\, tenderness\, and passion. Candid and relaxed more than posed\, they are similar to most people's pictures in old family albums.\n\nCulled from the Orson Welles-Beatrice Welles materials that are part of the Mavericks & Makers collection within the U-M Library’s Special Collections Research Center\, each photo or letter tells a story of a connection Welles held dearly. The materials included are from two periods: the late 1920s and early 1930s\, when Welles was a teenager\, and the mid-1950s to early 1960s\, during the early years of his marriage to his third wife\, Paola Mori. \n\nIt should be noted that Welles’s personal life was messy at best. Other collections housed at U-M that include personal materials related to Welles document his first and second marriages\, including the Welles-Feder Collection and the Wilson-Welles Collection. The items on display here were saved by his third and final child\, Beatrice Welles\, and reflect her childhood memories of her parents.\n\nThe exhibit is available during Hatcher Gallery Exhibit Room hours (https://umlib.us/hatchergalleryexhibits).
UID:115811-21835661@events.umich.edu
URL:https://events.umich.edu/event/115811
CLASS:PUBLIC
STATUS:CONFIRMED
CATEGORIES:Free,Library,Exhibition
LOCATION:Hatcher Graduate Library - Gallery Exhibit Room (1st floor)
CONTACT:
END:VEVENT
BEGIN:VEVENT
DTSTAMP:20240514T063126
DTSTART;TZID=America/Detroit:20240429T093000
DTEND;TZID=America/Detroit:20240429T103000
SUMMARY:Careers / Jobs:J&J WiSTEM2D - Pathway for Patient Health Quality Science Professional Certification
DESCRIPTION:In 2015\, JNJ launched WISTEM2D-Women in Science\, Technology\, Engineering\, Math\, Manufacturing\, and Design (STEM2D)-initiative to promote learning and career opportunities in STEM2D disciplines. Led by a network of volunteers from across JNJ and its local operating companies\, this ambitious initiative seeks to promote learning across Youth\, University and Professional audiences. \n\nWe are pleased to announce WISTEM2D’snew partnership with Pathway – a free online learning platform for students interested in the Life Science industries. Our Pathway student courses are designed to equip you with the knowledge to succeed in the workforce. We offer courses on topics such as Global Regulatory and Legal Requirements of Quality\, Product Development and Validation\, and Risk and FailureAnalysis. Join us for our information session to learn more! \n\nZoom link provided after registration. (https://jnjmeetings.zoom.us/webinar/register/WN_FGgbQiOjRseCtnfhaWuGfQ#/registration)\n\n
UID:121708-21847129@events.umich.edu
URL:https://events.umich.edu/event/121708
CLASS:PUBLIC
STATUS:CONFIRMED
CATEGORIES:
LOCATION:
CONTACT:
END:VEVENT
BEGIN:VEVENT
DTSTAMP:20240424T124345
DTSTART;TZID=America/Detroit:20240429T100000
DTEND;TZID=America/Detroit:20240429T110000
SUMMARY:Workshop / Seminar:EEB Student Thesis Defense: Understanding Shifts in Soil Function Along a Successional Gradient in a  Temperate Forest
DESCRIPTION:About: Forest ecosystems provide a multitude of ecosystem services\, making it crucial to understand their dynamics during succession. Soil responds to disturbances like fires and tree harvesting along with the forest\, and thus plays a pivotal role in forest succession. The response of forest soils to fires and tree harvesting varies depending on factors such as climate and time. These factors can significantly influence soil functions including nitrogen availability\, mineralization\, and decomposition during succession. To understand how these soil functions are influenced by succession\, I leveraged a burn chrono-sequence at the University of Michigan Biological Station. This talk will highlight the variation of soil function across a chronosequence and possible environmental drivers of soil function. \nEmail eeb.gradcoord@umich.edu for access to this seminar virtually.
UID:121375-21846473@events.umich.edu
URL:https://events.umich.edu/event/121375
CLASS:PUBLIC
STATUS:CONFIRMED
CATEGORIES:biodiversity,Biology,Biosciences,Bsbsigns,ecology,Ecology & Biology,Ecology And Evolutionary Biology,Herbarium,Museum - Herbarium,Museum - Zoology,Thesis Defense,AEM Featured
LOCATION:Biological Sciences Building - 1010
CONTACT:
END:VEVENT
END:VCALENDAR