BEGIN:VCALENDAR
VERSION:2.0
PRODID:-//UM//UM*Events//EN
CALSCALE:GREGORIAN
BEGIN:VTIMEZONE
TZID:America/Detroit
TZURL:http://tzurl.org/zoneinfo/America/Detroit
X-LIC-LOCATION:America/Detroit
BEGIN:DAYLIGHT
TZOFFSETFROM:-0500
TZOFFSETTO:-0400
TZNAME:EDT
DTSTART:20070311T020000
RRULE:FREQ=YEARLY;BYMONTH=3;BYDAY=2SU
END:DAYLIGHT
BEGIN:STANDARD
TZOFFSETFROM:-0400
TZOFFSETTO:-0500
TZNAME:EST
DTSTART:20071104T020000
RRULE:FREQ=YEARLY;BYMONTH=11;BYDAY=1SU
END:STANDARD
END:VTIMEZONE
BEGIN:VEVENT
DTSTAMP:20240514T063125
DTSTART;TZID=America/Detroit:20240429T115500
DTEND;TZID=America/Detroit:20240429T130000
SUMMARY:Careers / Jobs:Find Your Future With Us - Plant Protection and Quarantine Career Fair!
DESCRIPTION:Find Your Future With Us! Drop in to learn about \"Entry-Level\"USDA - APHIS - Plant Protection Quarantine Job openings which are open the week of this event!\n\nWe will highlight some information about these positions\, their locations\, and the best way to apply and be considered!\n\nPlease note\, this is intended for students and graduates who have a background\, interest and degree in Biology\, Natural Resources\, Agriculture\, and related sciences. Due to HR Requirements\, applicants in non-science backgrounds will not be considered for the positions.
UID:121666-21846889@events.umich.edu
URL:https://events.umich.edu/event/121666
CLASS:PUBLIC
STATUS:CONFIRMED
CATEGORIES:
LOCATION:
CONTACT:
END:VEVENT
BEGIN:VEVENT
DTSTAMP:20240314T121507
DTSTART;TZID=America/Detroit:20240429T120000
DTEND;TZID=America/Detroit:20240429T170000
SUMMARY:Exhibition:Anedged: 2024 MFA First Year Exhibition
DESCRIPTION:This annual celebration of the work of Stamps MFA in Art candidates features work by first-year students:\nHannah BuchananSam GriffithLaura MackieAndy MaticorenaCharlie ReynoldsDarren SpirkCress Thibodeaux\nThe 2024 MFA First Year Exhibition takes place March 22 - April 29\, 2024 at the Stamps Graduate/Faculty Studios\, 1919 Green Rd\, Ann Arbor\, MI 48109. \nJoin us at the public exhibition reception on Friday\, March 22 from 6-8pm (no RSVP required). Viewings March 23-April 29 are available by appointment only\; please contact Hannah Buchanan to arrange a visit.
UID:119889-21843775@events.umich.edu
URL:https://events.umich.edu/event/119889
CLASS:PUBLIC
STATUS:CONFIRMED
CATEGORIES:Art
LOCATION:Off Campus Location
CONTACT:
END:VEVENT
BEGIN:VEVENT
DTSTAMP:20240514T063119
DTSTART;TZID=America/Detroit:20240429T120000
DTEND;TZID=America/Detroit:20240429T130000
SUMMARY:Careers / Jobs:Learn About Capital One's 2025 Programs & Recruiter Q&A
DESCRIPTION:By attending this event\, you will find out more about our Students &amp\; Grads program offerings ahead of our 2025 internship &amp\; full-time applications opening this summer! \n\nJoin us for an informative and engaging session that will provide an overview of the following programs: Analyst Development*\, Capital One Developer Academy\, Commercial Rotation*\, Cyber Security Development*\, Design Development*\, Finance Rotation*\, Human Resources Rotation*\, Machine Learning Development\, Management Rotation Program*\, Product Development*\, Technology Development* &amp\; Investment Banking and Analyst &amp\; Tech Early Internship Program.  After the overview\, there will be time for questions through breakout sessions!\n\nAt this time\, Capital One will not sponsor a new applicant for employment authorization for the Students &amp\; Grads Programs aligned to this event. For a full list of positions at Capital One\, please visit the Capital One Careers website.\n\nTo view a list of other upcoming events\, check out our landing page. If you’d like to learn more about us\, feel free to browse our blog homepage and a get a snapshot of #LifeAtCapitalOne.\"\n
UID:121621-21846835@events.umich.edu
URL:https://events.umich.edu/event/121621
CLASS:PUBLIC
STATUS:CONFIRMED
CATEGORIES:
LOCATION:
CONTACT:
END:VEVENT
END:VCALENDAR