BEGIN:VCALENDAR
VERSION:2.0
PRODID:-//UM//UM*Events//EN
CALSCALE:GREGORIAN
BEGIN:VTIMEZONE
TZID:America/Detroit
TZURL:http://tzurl.org/zoneinfo/America/Detroit
X-LIC-LOCATION:America/Detroit
BEGIN:DAYLIGHT
TZOFFSETFROM:-0500
TZOFFSETTO:-0400
TZNAME:EDT
DTSTART:20070311T020000
RRULE:FREQ=YEARLY;BYMONTH=3;BYDAY=2SU
END:DAYLIGHT
BEGIN:STANDARD
TZOFFSETFROM:-0400
TZOFFSETTO:-0500
TZNAME:EST
DTSTART:20071104T020000
RRULE:FREQ=YEARLY;BYMONTH=11;BYDAY=1SU
END:STANDARD
END:VTIMEZONE
BEGIN:VEVENT
DTSTAMP:20240215T102356
DTSTART;TZID=America/Detroit:20240429T130000
DTEND;TZID=America/Detroit:20240429T160000
SUMMARY:Lecture / Discussion:23rd Annual James Neel M.D. Lecture in Human Genetics featuring
DESCRIPTION:23rd Annual James V. Neel Lectureship\nMonday April 29\, 2024 (1:00-4:00PM)\n\nThis annual lectureship honors James V. Neel\, M.D.\, Ph.D.\, a pioneer in the study of human genetics and one of the first to foresee its importance in the diagnosis and treatment of medical conditions.\n\n1:00 PM Graduate Student Awards & Presentation\, Keynote Lecture\; Kahn Auditorium \n3:00 PM Poster Session & Reception\; ABC Seminar Rooms (Sign up to present a poster here)\nBiomedical Science Research Building (BSRB)\, 109 Zina Pitcher Pl\, Ann Arbor\n\nKeynote Speaker: Jenny Tung\, Ph.D.\nDirector\, Department of Primate Behavior and Evolution\, Max Planck Institute for Evolutionary Anthropology\nProfessor\, Evolutionary Anthropology and Biology\, Duke University\nSeminar Talk: \"A Proper Study for Mankind: Understanding the Human Condition Through the Lens of Other Primates.\"\nHosted By: Xinjun Zhang\, Ph.D.\, Assistant Professor of Human Genetics\nSponsored By: The Department of Human Genetics\, Medical School\, University of Michigan\n\nEvent Website: https://medicine.umich.edu/dept/human-genetics/news-events/events/23rd-annual-james-neel-md-lecture-human-genetics \nPoster Sign Up Form: https://forms.gle/6M4NbpdytVNCrSg49
UID:118911-21841877@events.umich.edu
URL:https://events.umich.edu/event/118911
CLASS:PUBLIC
STATUS:CONFIRMED
CATEGORIES:Life Science,neurological disease,neel,Natural Sciences,Medicine,Postdoctoral Research Fellows,lecture,Information and Technology,Human Genetics\, Genetics\, Neurogenetic Diseases,Human Genetics\, Genetics\, Epidemiology,research,symposium,sodium channel,seminar,Science,Basic Science,Reception,Public Policy,Public Health,biological science,cancer,Bsbsigns,Biosciences,Biology,human genetics,biological chemistry,biolgical chemistry,basic sciences,Chemistry,genomics,genome,genetics,Free,Faculty,epilepsy,Discussion
LOCATION:Taubman Biomedical Science Research Building - Kahn Auditorium &amp; ABC Seminar Rooms
CONTACT:
END:VEVENT
BEGIN:VEVENT
DTSTAMP:20240514T123128
DTSTART;TZID=America/Detroit:20240429T133000
DTEND;TZID=America/Detroit:20240429T140000
SUMMARY:Careers / Jobs:AMA with a platform engineer (and tech startup founder)
DESCRIPTION:What’s it really like to start your own company? NJ Umoh\, platform engineer and founder of CompSciLib\, joins Handshake for an AMA about DevOps\, the process of becoming a startup founder\, lessons he’s learned while making the leap\, and how his professional experience in platform engineering has helped him in his early career.  \nBonus: attendees will receive an exclusive CompSciLib discount code to access helpful educational resources for CS and math. \n \nHope to see you there! \n \n
UID:121759-21847250@events.umich.edu
URL:https://events.umich.edu/event/121759
CLASS:PUBLIC
STATUS:CONFIRMED
CATEGORIES:
LOCATION:
CONTACT:
END:VEVENT
BEGIN:VEVENT
DTSTAMP:20240429T132014
DTSTART;TZID=America/Detroit:20240429T133000
DTEND;TZID=America/Detroit:20240429T134000
SUMMARY:Workshop / Seminar:Public Health Graduation Kickoff &  Photo Celebration
DESCRIPTION:The excitement of graduation is building up\, and we want to celebrate this significant milestone. Join us as we kick off the celebration with professional photo opportunities\, treats\, and a chance to bid farewell to the place that has been the heart of your educational journey.Date: April 29\, 2024  Time: 1:00 pm - 3:00 pm  Location: SPH 1: Professional Photos in the Cafe and Public Health Sign\, celebrations around SPH 1 Highlights:Professional Photos:Capture the magic with snapshots alongside Dean Bowman and Dr. Emily Youatt.Iconic Moment:  Freeze time with a professional photo at the School of Public Health sign.Creative Captures: Have fun with DIY photos using imaginative backdrops and props.Get Informed: Gain insights into graduation resources and a Q&A session to address all your queries.Dress the Part: Wear your regalia or come business casual and showcase your unique style.Bring along your friends\, family\, or that favorite professor who left an indelible mark on your public health journey and document this big occasion. This isn't just a celebration\; it's a golden opportunity to access valuable resources and find answers to all your graduation-related questions ahead of the big day. Secure your spot now to snap a photo with Dean Bowman or Dr. Emily Youatt and make the most of numerous additional photo opportunities. Don't miss out on this fun event that marks the beginning of your graduation festivities!
UID:119775-21843560@events.umich.edu
URL:https://events.umich.edu/event/119775
CLASS:PUBLIC
STATUS:CONFIRMED
CATEGORIES:Sessions
LOCATION:SPH 1
CONTACT:
END:VEVENT
END:VCALENDAR