BEGIN:VCALENDAR
VERSION:2.0
PRODID:-//UM//UM*Events//EN
CALSCALE:GREGORIAN
BEGIN:VTIMEZONE
TZID:America/Detroit
TZURL:http://tzurl.org/zoneinfo/America/Detroit
X-LIC-LOCATION:America/Detroit
BEGIN:DAYLIGHT
TZOFFSETFROM:-0500
TZOFFSETTO:-0400
TZNAME:EDT
DTSTART:20070311T020000
RRULE:FREQ=YEARLY;BYMONTH=3;BYDAY=2SU
END:DAYLIGHT
BEGIN:STANDARD
TZOFFSETFROM:-0400
TZOFFSETTO:-0500
TZNAME:EST
DTSTART:20071104T020000
RRULE:FREQ=YEARLY;BYMONTH=11;BYDAY=1SU
END:STANDARD
END:VTIMEZONE
BEGIN:VEVENT
DTSTAMP:20240429T132014
DTSTART;TZID=America/Detroit:20240429T140000
DTEND;TZID=America/Detroit:20240429T141000
SUMMARY:Workshop / Seminar:Public Health Graduation Kickoff &  Photo Celebration
DESCRIPTION:The excitement of graduation is building up\, and we want to celebrate this significant milestone. Join us as we kick off the celebration with professional photo opportunities\, treats\, and a chance to bid farewell to the place that has been the heart of your educational journey.Date: April 29\, 2024  Time: 1:00 pm - 3:00 pm  Location: SPH 1: Professional Photos in the Cafe and Public Health Sign\, celebrations around SPH 1 Highlights:Professional Photos:Capture the magic with snapshots alongside Dean Bowman and Dr. Emily Youatt.Iconic Moment:  Freeze time with a professional photo at the School of Public Health sign.Creative Captures: Have fun with DIY photos using imaginative backdrops and props.Get Informed: Gain insights into graduation resources and a Q&A session to address all your queries.Dress the Part: Wear your regalia or come business casual and showcase your unique style.Bring along your friends\, family\, or that favorite professor who left an indelible mark on your public health journey and document this big occasion. This isn't just a celebration\; it's a golden opportunity to access valuable resources and find answers to all your graduation-related questions ahead of the big day. Secure your spot now to snap a photo with Dean Bowman or Dr. Emily Youatt and make the most of numerous additional photo opportunities. Don't miss out on this fun event that marks the beginning of your graduation festivities!
UID:119775-21846743@events.umich.edu
URL:https://events.umich.edu/event/119775
CLASS:PUBLIC
STATUS:CONFIRMED
CATEGORIES:Sessions
LOCATION:SPH 1
CONTACT:
END:VEVENT
BEGIN:VEVENT
DTSTAMP:20240428T205756
DTSTART;TZID=America/Detroit:20240429T150000
DTEND;TZID=America/Detroit:20240429T160000
SUMMARY:Workshop / Seminar:RTG NT: Affine Soergel bimodules and flattening
DESCRIPTION:Abstract: Soergel bimodules categorify the Hecke algebra of a Coxeter group and have been useful in studying Kazhdan-Lusztig polynomials.  Khovanov used Soergel bimodules for the symmetric group to construct a triply graded link invariant which is notoriously difficult to compute. Recently\, Mellit and Hogancamp computed this invariant for torus links. Affine Soergel bimodules are an analogous categorification of affine Hecke algebras. Categorifying the flattening homomorphism from the affine Hecke algebra to the finite Hecke algebra could shed light on this computation of Mellit and Hogancamp. I will explain approaches to defining this functor and conjectures involving this functor and the categorical center of affine Soergel bimodules.
UID:117830-21840082@events.umich.edu
URL:https://events.umich.edu/event/117830
CLASS:PUBLIC
STATUS:CONFIRMED
CATEGORIES:Mathematics
LOCATION:East Hall - 3088
CONTACT:
END:VEVENT
BEGIN:VEVENT
DTSTAMP:20240514T123122
DTSTART;TZID=America/Detroit:20240429T160000
DTEND;TZID=America/Detroit:20240429T170000
SUMMARY:Careers / Jobs: Explore a Career in Education at Uncommon Schools!
DESCRIPTION:Uncommon Schools is thrilled to host an Information Session onHandshake. Join us to explore exciting career opportunities in education.Our event is entirely virtual\, making it easy for students to engage with recruiters and explore open positions without leaving their homes. We'llprovide an informative and interactive platform that will allow you to learn more about Uncommon Schools and our mission to close the achievement gap in public schools. Plus\, we have multiple open positions in Camden\, New Jersey\, where we are committed to supporting students and families in underserved communities. Don't miss this chance to connect with our recruiter and take the first step toward a fulfilling career with Uncommon Schools. Register now to attend our Virtual Information Session and discover your passion for education. We can't wait to meet you!
UID:121641-21846855@events.umich.edu
URL:https://events.umich.edu/event/121641
CLASS:PUBLIC
STATUS:CONFIRMED
CATEGORIES:
LOCATION:
CONTACT:
END:VEVENT
END:VCALENDAR