BEGIN:VCALENDAR
VERSION:2.0
PRODID:-//UM//UM*Events//EN
CALSCALE:GREGORIAN
BEGIN:VTIMEZONE
TZID:America/Detroit
TZURL:http://tzurl.org/zoneinfo/America/Detroit
X-LIC-LOCATION:America/Detroit
BEGIN:DAYLIGHT
TZOFFSETFROM:-0500
TZOFFSETTO:-0400
TZNAME:EDT
DTSTART:20070311T020000
RRULE:FREQ=YEARLY;BYMONTH=3;BYDAY=2SU
END:DAYLIGHT
BEGIN:STANDARD
TZOFFSETFROM:-0400
TZOFFSETTO:-0500
TZNAME:EST
DTSTART:20071104T020000
RRULE:FREQ=YEARLY;BYMONTH=11;BYDAY=1SU
END:STANDARD
END:VTIMEZONE
BEGIN:VEVENT
DTSTAMP:20240514T123052
DTSTART;TZID=America/Detroit:20240429T160000
DTEND;TZID=America/Detroit:20240429T163000
SUMMARY:Careers / Jobs:Certification Q&A
DESCRIPTION:Every month from now until April\, Cherokee County School District will be hosting virtual TEAMS sessions for future educators from 4:00-4:30 PM EST covering multiple education-related topics. These professional development events are FREE and open to all students\, and they are designed for someone to listen in as they are walking to class or driving homefrom placement.\n\nPlease RSVP\n\nHere are the dates and topics:\n9/25 - Educational Acronyms: Solving the Puzzle of School Jargon\n10/30 - Hocus Focus: Classroom Management Hacks for a Spooktacular School Year\n11/27 - The First Year Teacher's Roadmap: Strategies for a Successful Start\n12/18 - Navigating Job Search Part 1\n1/29 - Navigating Job Search Part 2\n2/26 - Teacher Q&A\n3/25 - Unlocking Potential: Practical Strategies for Supporting All Learners\n4/29 - Certification Q&A
UID:114812-21833643@events.umich.edu
URL:https://events.umich.edu/event/114812
CLASS:PUBLIC
STATUS:CONFIRMED
CATEGORIES:
LOCATION:
CONTACT:
END:VEVENT
BEGIN:VEVENT
DTSTAMP:20240514T123058
DTSTART;TZID=America/Detroit:20240429T170000
DTEND;TZID=America/Detroit:20240429T180000
SUMMARY:Careers / Jobs:Info Session for University of Michigan-Northwestern MS in Education & Social Policy
DESCRIPTION:Attend a live-streamed information session about the Master ofScience in Education & Social Policy Program at Northwestern University. Presentations will include information about the curriculum\, the master'sproject\, field experiences for teachers\, the application process\, and financial aid. Attendees will have the opportunity to ask questions of program administrators.\n\nIf you are registering to participate in the live-streamed information session about the program and admissions with our program directors\, go to https://northwestern.zoom.us/j/98047374075 at the scheduled time. When you log in to the session\, you must allow audio in order to hear us. The session is interactive. You will have the opportunity to ask questions\, and you will be asked to introduce yourself and specifywhich program you are interested in. You may either unmute yourself or type in the chat.
UID:119750-21843531@events.umich.edu
URL:https://events.umich.edu/event/119750
CLASS:PUBLIC
STATUS:CONFIRMED
CATEGORIES:
LOCATION:
CONTACT:
END:VEVENT
BEGIN:VEVENT
DTSTAMP:20260417T095756
DTSTART;TZID=America/Detroit:20240429T190000
DTEND;TZID=America/Detroit:20240429T210000
SUMMARY:Performance:The Human Voice - RC End of Term Performance
DESCRIPTION:Join us for an end-of-term performance from students in The Human Voice\, as part of the music program at the Residential College.\n\nHuman Voice develops the student's voice for singing and speaking\, expands the student's comfort performing in public\, and teaches the principles of vocal health and good technique. It meets the student at their entry level\, fostering growth using repertoire from the Western classical canon\, popular styles\, and diverse global influences.\n\nFree and open to the public.
UID:120126-21844098@events.umich.edu
URL:https://events.umich.edu/event/120126
CLASS:PUBLIC
STATUS:CONFIRMED
CATEGORIES:Culture,Ann Arbor,cultural,arts at michigan,arts,artists,Art,Voice,Faculty,Free,In Person,Music,performance,Undergraduate,Undergraduate Students
LOCATION:East Quadrangle - Keene Theater
CONTACT:
END:VEVENT
END:VCALENDAR