BEGIN:VCALENDAR
VERSION:2.0
PRODID:-//UM//UM*Events//EN
CALSCALE:GREGORIAN
BEGIN:VTIMEZONE
TZID:America/Detroit
TZURL:http://tzurl.org/zoneinfo/America/Detroit
X-LIC-LOCATION:America/Detroit
BEGIN:DAYLIGHT
TZOFFSETFROM:-0500
TZOFFSETTO:-0400
TZNAME:EDT
DTSTART:20070311T020000
RRULE:FREQ=YEARLY;BYMONTH=3;BYDAY=2SU
END:DAYLIGHT
BEGIN:STANDARD
TZOFFSETFROM:-0400
TZOFFSETTO:-0500
TZNAME:EST
DTSTART:20071104T020000
RRULE:FREQ=YEARLY;BYMONTH=11;BYDAY=1SU
END:STANDARD
END:VTIMEZONE
BEGIN:VEVENT
DTSTAMP:20241106T123212
DTSTART;TZID=America/Detroit:20241022T193000
DTEND;TZID=America/Detroit:20241022T204500
SUMMARY:Careers / Jobs:Teach For America Corps Info Session + Q&A 
DESCRIPTION:Interested in learning more about Teach For America and jump-starting a purpose-driven career? Join us for an upcoming informational session where you'll discover who we are\, what we do\, and how our programs work. The first 30 minutes will address the most common questions we receive:1. What is Teach For America2. What and where will I teach?3. What will my salary and finances look like?4. How does teacher certification work?5. How will I be trained and supported?Our remaining time will be spent in open Q&amp\;A\, where you’ll have a choice: stay in the main room for general Q&amp\;A or join one of our regional breakout spaces where representatives from all 40+ TFA regions will share more about the logistics of their region and answer any specific questions. We will also be sending follow-up resources ahead of our applicationdeadline on October 25th. We hope to see you there!
UID:127369-21858949@events.umich.edu
URL:https://events.umich.edu/event/127369
CLASS:PUBLIC
STATUS:CONFIRMED
CATEGORIES:
LOCATION:
CONTACT:
END:VEVENT
BEGIN:VEVENT
DTSTAMP:20241021T121644
DTSTART;TZID=America/Detroit:20241022T200000
DTEND;TZID=America/Detroit:20241022T213000
SUMMARY:Performance:Alexander Scott\, conducting
DESCRIPTION:Graduate student in conducting Alexander Scott performs a recital.
UID:127174-21858619@events.umich.edu
URL:https://events.umich.edu/event/127174
CLASS:PUBLIC
STATUS:CONFIRMED
CATEGORIES:Free,Music,North Campus
LOCATION:Walgreen Drama Center - Stamps Auditorium
CONTACT:
END:VEVENT
BEGIN:VEVENT
DTSTAMP:20241021T121645
DTSTART;TZID=America/Detroit:20241022T200000
DTEND;TZID=America/Detroit:20241022T220000
SUMMARY:Performance:University Choir
DESCRIPTION:Visiting professor of choral music\, Dr. Reed Criddle\, leads the University Choir in a program that focuses on the sublime and the heavenly\, highlighting several British and American composers.\n\nGuest conductor and alum Dr. Reed Criddle (DMA ‘11) serves as a visiting professor and visiting associate director of choirs for the fall semester. Criddle is a professor of music and director of choral activities at Utah Valley University.\n\nPROGRAM\n\nJonathan Dove\, *Seek Him that Maketh the Stars*\n\nFinzi\, *Seven pastoral partsongs: Clear and gentle stream*\n\nJester Hairston\, *Wade in the Water*\n\nNed Rorem\, *Tears from From an Unknown Past*\n\nHenk Badings\, *Trois Chansons Bretonnes: 1. Nuit en mer*\n\nMargaret Bonds\, *The Negro Speaks of Rivers*\n\nRingwald\, *Deep River*\n\nMoira Smiley\, *Stand in that river*\n\nRon Staheli\, *Peace like a river*
UID:122597-21849427@events.umich.edu
URL:https://events.umich.edu/event/122597
CLASS:PUBLIC
STATUS:CONFIRMED
CATEGORIES:Alumni,Concert,Free,Music
LOCATION:Hill Auditorium
CONTACT:
END:VEVENT
END:VCALENDAR