BEGIN:VCALENDAR
VERSION:2.0
PRODID:-//UM//UM*Events//EN
CALSCALE:GREGORIAN
BEGIN:VTIMEZONE
TZID:America/Detroit
TZURL:http://tzurl.org/zoneinfo/America/Detroit
X-LIC-LOCATION:America/Detroit
BEGIN:DAYLIGHT
TZOFFSETFROM:-0500
TZOFFSETTO:-0400
TZNAME:EDT
DTSTART:20070311T020000
RRULE:FREQ=YEARLY;BYMONTH=3;BYDAY=2SU
END:DAYLIGHT
BEGIN:STANDARD
TZOFFSETFROM:-0400
TZOFFSETTO:-0500
TZNAME:EST
DTSTART:20071104T020000
RRULE:FREQ=YEARLY;BYMONTH=11;BYDAY=1SU
END:STANDARD
END:VTIMEZONE
BEGIN:VEVENT
DTSTAMP:20241105T181713
DTSTART;TZID=America/Detroit:20241113T193000
DTEND;TZID=America/Detroit:20241113T210000
SUMMARY:Performance:Nikolaas Kende\, piano & Jolente De Maeyer\, violin
DESCRIPTION:Guest artists Nikolaas Kende\, piano & Jolente De Maeyer\, violin\, perform a program including music by Stravinsky\, Lera Auerbach\, and Beethoven (“Kretzer” sonata).\n\nGUEST ARTIST BIOS\n\nOne of the leading Belgian violinists\, JOLENTE De MAEYER\, has brought her virtuosity and passionate interpretations to diverse global audiences. She is recognized as an exceptionally gifted artist\, reflected in the numerous awards and effusive reviews she has received for both her live performances and recordings.\n\nPrizewinner of several international competitions in Portugal (Cardona Competition)\, Russia (Liana Issakadze Competition) and London (Benjamin Britten Competition)\, the international career of Jolente started with a successful participation at the Queen Elisabeth Competition in Brussels. Performances with all major Belgian orchestras and concert tours in Europe and the United States followed. She made her debut in Florida\, Vermont\, California\, Washington DC and Canada in 2017. This was followed by an extensive tour in South Africa. Future engagements include concert tours in Europe\, Canada\, United States and China.\n\nHer recordings include concerti by Saint-Saëns and Vieuxtemps with the Philharmonic Orchestra of Liège with Christian Arming\, awarded an ‘Editors Choice’ from Diapason\, and the CD *Kreutzer Sonata* with duo partner Nikolaas Kende\, awarded a ‘Gold Label’ from Klassiek Centraal.\n \nAfter an invitation from Yehudi Menuhin when she was 14 years old\, Jolente studied at the Yehudi Menuhin School near London. She continued her studies in London\, Berlin and Waterloo where she graduated in the class of Augustin Dumay in 2013.\n\nSince 2018 Jolente is professor violin at the Conservatory of Tilburg\, the Netherlands and since 2021 also at the Royal Conservatory of Antwerp. Jolente has given masterclasses in Belgium\, Germany\, Italy\, Texas and California.\n\n \n“Poet in every inch of his fingers” - *Le Progres*\n\nNIKOLAAS KENDE has been praised for his poetic playing and honest\, passionate musicality. Critics have honored his sensitive and visionary musicianship and his flawless skills always serving the music. Both as soloist and chamber musician he is a highly demanded pianist on international concert stages.\n\nA winner of several competitions\, including the Cantabile\, EPTA\, Vriendenkrans Concertgebouw Amsterdam and Tenuto competitions\, Nikolaas started performing in all major halls in Belgium and the Netherlands. Highlights included the performances of the piano concertos by Brahms\, Beethoven\, Chopin\, Schumann and Bartok with Brussels Philharmonic\, Antwerp Symphony Orchestra\, National Radio Orchestra Romania\, among others.\n\nAfter a concert at the Festival de Dansa y Musica Granada in 2019 *Ideal* wrote: \"This promising pianist caresses the keyboard\, expressive with colors and tender with the melody and all the degrees of affection that typify the romantic soul.\"\n\nBesides being a regular guest at the Festival of Flanders\, he has also performed at festivals in Italy (Ravello\, Rome\, Bari)\, France (Menton\, Montpellier\, Vexin)\, Portugal (Coimbra)\, Germany (Görlitz\, Munich\, Bad Berleburg) \, Austria (Salzburg)\, Ireland (Westport)\, UK (Cotswolds)\, Czech Republic (Prague)\, Spain (Zaragoza\, Madrid).\n\nNikolaas made his debut in America in 2009 with the 1st piano concerto of Brahms. This debut was well received in the press\, “One could almost imagine a young Brahms at the keyboard doing precisely the same thing: more intent on communicating his piece than dazzling listeners with his performance.” Since then he has returned to America annually and has toured in Texas (Houston\, Austin\, San Antonio)\, California (San Francisco\, Fresno\, LA) and Vermont\, Florida\, California\, Texas\, Washington DC and New York. In 2019 amongst others his debut for the 'Dame Myra Hess Memorial Concerts' in Chicago. He also performed in the Netherlands Antilles\, Canada and South Africa\, where several tours followed.\n\nIn 2018 he made his debut in China with recitals in Bejijng\, Harbin\, Chongqing and Chengdu. Concerts in Shanghai\, Xi'An\, Yangzhou and Guangzhou followed in 2019. Also for the next seasons\, concerts are planned in North America\, Canada\, South Africa and China.\n\nAs a chamber music partner he was a member of the Narziss und Goldmund trio and the Rubens Ensemble. His duo with violinist Jolente De Maeyer\, which exists for almost 20 years\, is often praised in the press for its exceptional synergy and harmony. The duo's debut CD *Kreutzer Sonata* was released by Warner and won a Golden Label from Klassiek Centraal for best chamber music album of 2016. De Standaard wrote about this: \"You want to listen to this captivating recital album again immediately after the last track.\" In 2020 their next CD *Remains* was released by Evil Penguin Records.\n\nNikolaas studied in Antwerp with his parents\, Heidi Hendrickx and Levente Kende\, in Amsterdam with Jan Wijn and in Munich and Fiesole with Elisso Virsaladze. In addition he studied with such artists as Murray Perahia\, Aldo Ciccolini and Radu Lupu.\n\nIn 2015\, Nikolaas was appointed professor of piano at the Royal Conservatoire of Antwerp. He has given masterclasses in Belgium\, Germany\, Italy\, Portugal\, Texas\, California and China.
UID:127507-21859240@events.umich.edu
URL:https://events.umich.edu/event/127507
CLASS:PUBLIC
STATUS:CONFIRMED
CATEGORIES:Free,Music,North Campus
LOCATION:Earl V. Moore Building - Britton Recital Hall
CONTACT:
END:VEVENT
BEGIN:VEVENT
DTSTAMP:20241113T180002
DTSTART;TZID=America/Detroit:20241113T200000
DTEND;TZID=America/Detroit:20241113T213000
SUMMARY:Exercise / Fitness:Bujinkan Budo Training Session
DESCRIPTION:During the Fall 2024 semester\, Bujinkan Budo Club training will be held on Wednesdays from 20:00 - 21:30 (8-9:30pm) at the Intramural Sports Building (IMSB) in Room MPR B. If you are interested in trying out a class\, please send a message through Maize Pages or an email to michiganbujinkan@gmail.com. --For more information\, email us at michiganbujinkan@gmail.com or checkout our website\, which also includes a training schedule!
UID:123452-21850927@events.umich.edu
URL:https://events.umich.edu/event/123452
CLASS:PUBLIC
STATUS:CONFIRMED
CATEGORIES:
LOCATION:Intramural Sports Building
CONTACT:
END:VEVENT
BEGIN:VEVENT
DTSTAMP:20241112T181655
DTSTART;TZID=America/Detroit:20241113T200000
DTEND;TZID=America/Detroit:20241113T213000
SUMMARY:Performance:Campus Philharmonia Chamber Strings
DESCRIPTION:Conducted by SMTD graduate student conductors\, members of the Campus Philharmonia will perform a program of chamber music.\n\nKendra Chao & Evan Hagan\, conductors\n\nThe U-M Campus Orchestras are made up of two main orchestras: Campus Symphony Orchestra (CSO) and Campus Philharmonia Orchestra (CPO). Both groups are comprised of non-music major students\, faculty members\, staff\, and alumni of the University of Michigan.
UID:127528-21859270@events.umich.edu
URL:https://events.umich.edu/event/127528
CLASS:PUBLIC
STATUS:CONFIRMED
CATEGORIES:Concert,Free,Music,North Campus
LOCATION:Earl V. Moore Building - McIntosh Theatre
CONTACT:
END:VEVENT
END:VCALENDAR