BEGIN:VCALENDAR
VERSION:2.0
PRODID:-//UM//UM*Events//EN
CALSCALE:GREGORIAN
BEGIN:VTIMEZONE
TZID:America/Detroit
TZURL:http://tzurl.org/zoneinfo/America/Detroit
X-LIC-LOCATION:America/Detroit
BEGIN:DAYLIGHT
TZOFFSETFROM:-0500
TZOFFSETTO:-0400
TZNAME:EDT
DTSTART:20070311T020000
RRULE:FREQ=YEARLY;BYMONTH=3;BYDAY=2SU
END:DAYLIGHT
BEGIN:STANDARD
TZOFFSETFROM:-0400
TZOFFSETTO:-0500
TZNAME:EST
DTSTART:20071104T020000
RRULE:FREQ=YEARLY;BYMONTH=11;BYDAY=1SU
END:STANDARD
END:VTIMEZONE
BEGIN:VEVENT
DTSTAMP:20240308T165618
DTSTART;TZID=America/Detroit:20240430T080000
DTEND;TZID=America/Detroit:20240430T230000
SUMMARY:Exhibition:Souq Stories: Gaza Lives
DESCRIPTION:This exhibit is an extension of Souq Stories (https://souqstories.insaniyyat.org/)\, which was displayed in 2021 in all seven of the historic markets it depicts in Gaza\, Nazareth\, Acre\, Nablus\, Jerusalem\, Khalil\, and Jaffa. Its youth group organizers aimed to bolster Palestinian unity across the systemic barriers — colonial divides\, military checkpoints\, walls\, etc. — that fragment the lives of people living in Palestine. \n\nSouq Stories: Gaza Lives brings us to present-day Gaza\, sharing the stories of\, and images captured by\, young journalists and photographers who have continued to document the realities of life in Palestine. It also honors one among them\, Fouad Abu Khammash\, who was killed in January 2024 in an Israeli bomb attack on Gaza.\n\n< The exhibit includes images of people suffering the aftermath of the ongoing violence. >\n\nThis exhibit was curated by Souq Stories team members Shareef Sarhan and Waed Abbas in partnership with U-M students Amir Marshi\, Zainab Hakim\, Mariam Odeh\, and Vivian M. Nguyen. It’s offered in conjunction with this year’s Palestine Awareness Week\, an annual series of educational events related to Palestinian history\, culture\, and politics. Presented in association with Insaniyyat: Society of Palestinian Anthropologists.
UID:119219-21846057@events.umich.edu
URL:https://events.umich.edu/event/119219
CLASS:PUBLIC
STATUS:CONFIRMED
CATEGORIES:Free,Library
LOCATION:Hatcher Graduate Library - Gallery, 1st Floor
CONTACT:
END:VEVENT
BEGIN:VEVENT
DTSTAMP:20240423T152636
DTSTART;TZID=America/Detroit:20240430T090000
DTEND;TZID=America/Detroit:20240430T170000
SUMMARY:Exhibition:Bill Jackson Photography Exhibition
DESCRIPTION:This exhibition is entitled HOMECOMING because it has been almost 6 years since Bill was scheduled to have an exhibition at NCRC Gallery.  However\, his untimely passing in 2018 prevented the exhibition.  In honor of the artist\, his wife Meighen Jackson has assembled this body of work for this exhibition.\n\nA 1960’s graduate of Monteith College at Wayne State\, Bill saw himself not as a storyteller nor a documentarian\, but as a photographer seeking images with the power and creativity of late 20th century painting and music making.\n\nBill Jackson’s work is represented nationally by Walter Wickiser Gallery in Manhattan and regionally by M Contemporary in Ferndale\, MI.   It is included in many permanent collections including Wayne State University in Detroit.
UID:121687-21846922@events.umich.edu
URL:https://events.umich.edu/event/121687
CLASS:PUBLIC
STATUS:CONFIRMED
CATEGORIES:Art,Culture,Detroit,Exhibition,Free,Humanities,North Campus,Visual Arts
LOCATION:North Campus Research Complex Building 18 - Rotunda Gallery
CONTACT:
END:VEVENT
BEGIN:VEVENT
DTSTAMP:20240229T170957
DTSTART;TZID=America/Detroit:20240430T090000
DTEND;TZID=America/Detroit:20240430T170000
SUMMARY:Exhibition:Exile and the Mentor-student Relationship: A Force for Resistance and Decolonization
DESCRIPTION:This small exhibit features work in reproduction by Iraqi artists Hanaa Malallah and Mohammed Karim\, as well as an original painting by Karim. Both Malallah and Karim were significantly influenced by their mentors during and after their training in Iraq\, and continue to share their work and ideas with a new generation today.\n\nIn the United States\, Iraq is typically spoken about in a passive position: colonized\, under despotic rule\, occupied. Post-occupied. Through connections between mentors and students\, and students who became mentors to new students\, Iraqi artists have been a force for anti-colonialism\, claiming their heritage and its future for themselves.\n\nView the exhibit Monday-Friday in the Fine Arts Library\, Tappan Hall\, 855 S. University Ave.
UID:119503-21842899@events.umich.edu
URL:https://events.umich.edu/event/119503
CLASS:PUBLIC
STATUS:CONFIRMED
CATEGORIES:Free,Library
LOCATION:Tappan Hall - Fine Arts Library, 2nd Floor
CONTACT:
END:VEVENT
END:VCALENDAR