BEGIN:VCALENDAR
VERSION:2.0
PRODID:-//UM//UM*Events//EN
CALSCALE:GREGORIAN
BEGIN:VTIMEZONE
TZID:America/Detroit
TZURL:http://tzurl.org/zoneinfo/America/Detroit
X-LIC-LOCATION:America/Detroit
BEGIN:DAYLIGHT
TZOFFSETFROM:-0500
TZOFFSETTO:-0400
TZNAME:EDT
DTSTART:20070311T020000
RRULE:FREQ=YEARLY;BYMONTH=3;BYDAY=2SU
END:DAYLIGHT
BEGIN:STANDARD
TZOFFSETFROM:-0400
TZOFFSETTO:-0500
TZNAME:EST
DTSTART:20071104T020000
RRULE:FREQ=YEARLY;BYMONTH=11;BYDAY=1SU
END:STANDARD
END:VTIMEZONE
BEGIN:VEVENT
DTSTAMP:20240515T063136
DTSTART;TZID=America/Detroit:20240430T100000
DTEND;TZID=America/Detroit:20240430T103000
SUMMARY:Careers / Jobs:Get into Energy with NiSource
DESCRIPTION:NiSource Inc. is one of the largest fully regulated utilitycompanies in the United States\, serving approximately 3.3 million natural gas customers and 500\,000 electric customers across six states through its local Columbia Gas and NIPSCO brands. The mission of our approximately 7\,300 employees is to deliver safe\, reliable energy that drivesvalue to our customers. The energy industry is growing! Did you know that more than six million Americans work in energy careers that power our lives? The energy industry powers business\, education\, healthcare and many of our favorite pastimes.During this session\, you learn about NiSource and the energy career you can build and pointto with pride. 
UID:121763-21847254@events.umich.edu
URL:https://events.umich.edu/event/121763
CLASS:PUBLIC
STATUS:CONFIRMED
CATEGORIES:
LOCATION:
CONTACT:
END:VEVENT
BEGIN:VEVENT
DTSTAMP:20240515T063136
DTSTART;TZID=America/Detroit:20240430T100000
DTEND;TZID=America/Detroit:20240430T103000
SUMMARY:Careers / Jobs:Get into Energy with NiSource
DESCRIPTION:NiSource Inc. is one of the largest fully regulated utilitycompanies in the United States\, serving approximately 3.3 million natural gas customers and 500\,000 electric customers across six states through its local Columbia Gas and NIPSCO brands. The mission of our approximately 7\,300 employees is to deliver safe\, reliable energy that drivesvalue to our customers. The energy industry is growing! Did you know that more than six million Americans work in energy careers that power our lives? The energy industry powers business\, education\, healthcare and many of our favorite pastimes.During this session\, you learn about NiSource and the energy career you can build and pointto with pride. 
UID:121764-21847255@events.umich.edu
URL:https://events.umich.edu/event/121764
CLASS:PUBLIC
STATUS:CONFIRMED
CATEGORIES:
LOCATION:
CONTACT:
END:VEVENT
BEGIN:VEVENT
DTSTAMP:20240515T063134
DTSTART;TZID=America/Detroit:20240430T100000
DTEND;TZID=America/Detroit:20240430T113000
SUMMARY:Careers / Jobs:USDA Virtual Career Fair
DESCRIPTION:Come join USDA for a virtual career fair to learn about careeropportunities\, employee engagement\, and USDA culture. At USDA we aim toattract\, inspire\, and retain an engaged and motivated workforce to represent USDA. USDA has eight Mission Areas and 29 Agencies with a variety ofopportunities in many fields. \nThis session will inform potential applicants that are eager to pursue a promising career at USDA\, and how they can become part of our wonderful team of talent. We will provide informational sessions on federal resumes\, the hiring process\, and potential career paths at USDA.  Check us out and join our wonderful team!\n
UID:121712-21847133@events.umich.edu
URL:https://events.umich.edu/event/121712
CLASS:PUBLIC
STATUS:CONFIRMED
CATEGORIES:
LOCATION:
CONTACT:
END:VEVENT
END:VCALENDAR