BEGIN:VCALENDAR
VERSION:2.0
PRODID:-//UM//UM*Events//EN
CALSCALE:GREGORIAN
BEGIN:VTIMEZONE
TZID:America/Detroit
TZURL:http://tzurl.org/zoneinfo/America/Detroit
X-LIC-LOCATION:America/Detroit
BEGIN:DAYLIGHT
TZOFFSETFROM:-0500
TZOFFSETTO:-0400
TZNAME:EDT
DTSTART:20070311T020000
RRULE:FREQ=YEARLY;BYMONTH=3;BYDAY=2SU
END:DAYLIGHT
BEGIN:STANDARD
TZOFFSETFROM:-0400
TZOFFSETTO:-0500
TZNAME:EST
DTSTART:20071104T020000
RRULE:FREQ=YEARLY;BYMONTH=11;BYDAY=1SU
END:STANDARD
END:VTIMEZONE
BEGIN:VEVENT
DTSTAMP:20240130T121550
DTSTART;TZID=America/Detroit:20240430T110000
DTEND;TZID=America/Detroit:20240430T170000
SUMMARY:Exhibition:A Gathering
DESCRIPTION:Welcome. Make Yourself At Home.\n \nA Gathering brings together the newest works of art to enter UMMA’s collection — many on display here for the first time. \n \nAs a free\, public museum\, UMMA staff takes care of art for the benefit of the community and society at large. The works on view in this exhibition\, all brought into the Museum between 2019 and the present\, shows how institutions like UMMA are becoming more permeable to societal challenges\, and more nimble in responding to them in service to all in their communities. In this exhibition you will find works that reflect on how global migrations\, race\, gender\, and ecological change shape the way we engage with the world and inform our visions for the future.\n \nThis collection of artistic engagements with issues give us tools to envision who we want to be as individuals\, as a museum\, and as a society\, connected to one another across space and experience.\n \nSo gather here to take in these latest works of art brought here for you. Gather here to be engulfed in their forms and meanings\, to discuss their takes\, to learn\, to disagree. Gather to relax\, make a friend\, drink a coffee\, finish the daily Wordle. Gather to feel full\, to be moved and inspired by all the possible imaginations of what is yet to come.\n \nCurated by Félix Zamora Gómez Irving Stenn\, Jr. Fellow in Public Humanities & Museum Pedagogy\n\nLead support for this exhibition is provided by Lizzie and Jonathan Tisch\, the Richard and Rosann Noel Endowment\, and the University of Michigan Office of the Provost.\n 
UID:107870-21817794@events.umich.edu
URL:https://events.umich.edu/event/107870
CLASS:PUBLIC
STATUS:CONFIRMED
CATEGORIES:Humanities,Free,Exhibition,Art,Museum,Staff,UMMA
LOCATION:Museum of Art - Lizzie and Jonathan Tisch Apse
CONTACT:
END:VEVENT
BEGIN:VEVENT
DTSTAMP:20240130T121548
DTSTART;TZID=America/Detroit:20240430T110000
DTEND;TZID=America/Detroit:20240430T170000
SUMMARY:Exhibition:Andrea Carlson Future Cache
DESCRIPTION:In Andrea Carlson Future Cache\, a 40-foot-tall memorial wall towers over visitors\, commemorating the Cheboiganing (Burt Lake) Band of Ottawa and Chippewa Indians who were violently burned from their land in Northern Michigan on October 15\, 1900. Written across the walls above and around the memorial\, a statement proclaims Anishinaabe rights to the land we stand on: “You are on Anishinaabe Land.”  \n \nPresented alongside are paintings of imagined decolonized landscapes and a symbolic cache of provisions. Future Cache implicitly asks those who have benefited from the legacies of colonization to consider where they stand and where to go from here and seeks to foster a sense of belonging for displaced Indigenous peoples fighting for restitution.\n\nSpecial thanks to the Cheboiganing (Burt Lake) Band of Ottawa and Chippewa Indians\, Margaret Noodin\, and Richard A. Wiles\, for their consultation on the State Historical Marker text\; to Margaret Noodin and Michael Zimmerman\, Jr. for translating the gallery texts into Anishinaabemowin\; to James Horton and Fritz Swanson for generously producing the letterpress broadsides\; to colleagues at the U-M Biological Station\, U-M Museum of Anthropological Archaeology\, U-M Clements Library\, and U-M Clark Map Library. For more information on the Cheboiganing (Burt Lake) Band of Ottawa and Chippewa Indians visit BurtLakeBand.org. \n\nLead support for Future Cache is provided by Lizzie and Jonathan Tisch\, Erica Gervais Pappendick and Ted Pappendick\, and the U-M Office of the Provost.\n 
UID:95387-21789343@events.umich.edu
URL:https://events.umich.edu/event/95387
CLASS:PUBLIC
STATUS:CONFIRMED
CATEGORIES:Art,UMMA,Exhibition,Museum
LOCATION:Museum of Art - Vertical Gallery
CONTACT:
END:VEVENT
BEGIN:VEVENT
DTSTAMP:20240130T121549
DTSTART;TZID=America/Detroit:20240430T110000
DTEND;TZID=America/Detroit:20240430T170000
SUMMARY:Exhibition:Angkor Complex: ​Cultural Heritage and Post-Genocide Memory in Cambodia.
DESCRIPTION:Care in Uncertain Times\n \nAs crises of public health\, economic instability\, authoritarian regimes\, racial injustice\, and climate change spread around the globe\, millions are experiencing distress\, conflict\, uncertainty\, and vulnerability. This troubling combination of experiences is nothing new for Cambodians. Between 1975-1979\, when the Khmer Rouge ruled Cambodia\, about a quarter of the country’s populations died of infectious diseases\, weapon wounds\, and malnutrition.\n \nThis exhibition brings together more than 80 works of art spanning a millennium to present how the visual culture of Cambodia and its diaspora has evolved in the face of cultural upheaval. Showcasing works from worldwide collections\, including those from some of the foremost members of the Cambodian contemporary art scene\, Angkor Complex allows viewers to encounter the still-fresh scars of a genocide and critically appreciate the strategies evolved to nurture resilience in trying times.\n\nLead support for this exhibition is provided by the U-M Office of the Provost\, U-M Office of the President\, National Endowment for the Arts\, Michigan Arts and Culture Council\, Eleanor Noyes Crumpacker Endowment Fund\, and U-M Ross School of Business.\n 
UID:114750-21833490@events.umich.edu
URL:https://events.umich.edu/event/114750
CLASS:PUBLIC
STATUS:CONFIRMED
CATEGORIES:Museum,Public Health,UMMA,Exhibition,Culture,Art
LOCATION:Museum of Art - A. Alfred Taubman Gallery I
CONTACT:
END:VEVENT
END:VCALENDAR