BEGIN:VCALENDAR
VERSION:2.0
PRODID:-//UM//UM*Events//EN
CALSCALE:GREGORIAN
BEGIN:VTIMEZONE
TZID:America/Detroit
TZURL:http://tzurl.org/zoneinfo/America/Detroit
X-LIC-LOCATION:America/Detroit
BEGIN:DAYLIGHT
TZOFFSETFROM:-0500
TZOFFSETTO:-0400
TZNAME:EDT
DTSTART:20070311T020000
RRULE:FREQ=YEARLY;BYMONTH=3;BYDAY=2SU
END:DAYLIGHT
BEGIN:STANDARD
TZOFFSETFROM:-0400
TZOFFSETTO:-0500
TZNAME:EST
DTSTART:20071104T020000
RRULE:FREQ=YEARLY;BYMONTH=11;BYDAY=1SU
END:STANDARD
END:VTIMEZONE
BEGIN:VEVENT
DTSTAMP:20240130T121547
DTSTART;TZID=America/Detroit:20240430T110000
DTEND;TZID=America/Detroit:20240430T170000
SUMMARY:Exhibition:Curriculum / Collection
DESCRIPTION:In Curriculum / Collection\, an incredible variety of University of Michigan courses take material form. Collected for each course are objects that address the nature of materiality\, time\, and human interaction in relation to our environments\, our wars\, our relationships\, and our eccentricities. \n \nWorking in collaboration with University faculty\, the works in this exhibition were selected for their capacity to provoke engagement with the guiding questions and themes of their specific courses\, while also offering students inspiration for research and art projects in their areas of study. The exhibition demonstrates some of the diverse and creative ways art plays a central role in learning across the disciplines. It also asks us to consider what we can learn from art objects across an infinite variety of specialties and subject matter.\n \nAs classes begin in Fall of 2021\, you’ll be able to use these pages to explore the collections designed for each course\, dive into the works themselves\, and hear from the professors and students about how they are engaging with art and objects in new ways. Who knows\, maybe you’ll learn something surprising along the way\, too.\n\nLead support for this exhibition is provided by the University of Michigan Office of the Provost\, Erica Gervais Pappendick and Ted Pappendick\, and the Eleanor Noyes Crumpacker Endowment Fund\, and the Oakriver Foundation.\n 
UID:86001-21795875@events.umich.edu
URL:https://events.umich.edu/event/86001
CLASS:PUBLIC
STATUS:CONFIRMED
CATEGORIES:Research,Museum,Nature,Art,UMMA,Exhibition,Faculty
LOCATION:Museum of Art - Eleanor Noyes Crumpacker Gallery
CONTACT:
END:VEVENT
BEGIN:VEVENT
DTSTAMP:20240422T121503
DTSTART;TZID=America/Detroit:20240430T110000
DTEND;TZID=America/Detroit:20240430T170000
SUMMARY:Exhibition:Impressions: 2024 Stamps Senior Exhibition
DESCRIPTION:Impressions: 2024 Stamps Senior Exhibition features work in a range of media by graduating Stamps BA\, BFA\, and Interarts Performance students at the University of Michigan Stamps School of Art &amp\; Design.\nOpening Reception: Friday\, April 19\, 2024 from 4 - 8 p.m.Screening of Time-Based Work: Friday\, April 19\, 2024 from 6 - 8 p.m.\, Art &amp\; Architecture Auditorium (room 2104)\nExhibition Hours: Open daily Monday - Saturday\, 11 a.m. - 5 p.m. from April 20 through May 4\, 2024. Closed Sundays.
UID:119891-21843786@events.umich.edu
URL:https://events.umich.edu/event/119891
CLASS:PUBLIC
STATUS:CONFIRMED
CATEGORIES:Art
LOCATION:Off Campus Location
CONTACT:
END:VEVENT
BEGIN:VEVENT
DTSTAMP:20240515T123126
DTSTART;TZID=America/Detroit:20240430T110000
DTEND;TZID=America/Detroit:20240430T140000
SUMMARY:Careers / Jobs:Office Technician Infosession
DESCRIPTION:Are you looking for an entry level office position with the State of California? Come learn about our dynamic team @ CCHCS\, and don’tmiss our virtual event where you can learn about exciting opportunities\,connect with our team\, and discover what makes us the perfect fit for your career goals. RSVP now to join us at our virtual event on April 30th between 11am PST and 3pm PST.
UID:121753-21847244@events.umich.edu
URL:https://events.umich.edu/event/121753
CLASS:PUBLIC
STATUS:CONFIRMED
CATEGORIES:
LOCATION:
CONTACT:
END:VEVENT
END:VCALENDAR