BEGIN:VCALENDAR
VERSION:2.0
PRODID:-//UM//UM*Events//EN
CALSCALE:GREGORIAN
BEGIN:VTIMEZONE
TZID:America/Detroit
TZURL:http://tzurl.org/zoneinfo/America/Detroit
X-LIC-LOCATION:America/Detroit
BEGIN:DAYLIGHT
TZOFFSETFROM:-0500
TZOFFSETTO:-0400
TZNAME:EDT
DTSTART:20070311T020000
RRULE:FREQ=YEARLY;BYMONTH=3;BYDAY=2SU
END:DAYLIGHT
BEGIN:STANDARD
TZOFFSETFROM:-0400
TZOFFSETTO:-0500
TZNAME:EST
DTSTART:20071104T020000
RRULE:FREQ=YEARLY;BYMONTH=11;BYDAY=1SU
END:STANDARD
END:VTIMEZONE
BEGIN:VEVENT
DTSTAMP:20240130T121551
DTSTART;TZID=America/Detroit:20240430T110000
DTEND;TZID=America/Detroit:20240430T170000
SUMMARY:Exhibition:Unsettling Histories: Legacies of Slavery and Colonialism
DESCRIPTION:Organized as a response to the Museum’s recent acquisition of Titus Kaphar’s Flay (James Madison)\, this upcoming reinstallation of one of our most prominent gallery spaces forces us to grapple with our collection of European and American art\, 1650-1850.\n \nIn recent times\, growing public awareness of the continued reverberations of the legacy of slavery and colonization has challenged museums to examine the uncomfortable histories contained in our collections\, and challenged the public to probe the choices we make about those stories. Choices about which artists you see in our galleries\, choices about what relevant facts we share about the works\, and choices about what - out of an infinite number of options - we don’t say about them.\n \nPieces in this exhibition were made at a time when the world came to be shaped by the ideologies of colonial expansion and Western domination. And yet\, that history and the stories of those marginalized do not readily appear in the still lives and portraits on display here. By grappling with what is visible and what remains hidden\, we are forced to examine whose stories and histories are prioritized and why.  \n \nIn this online exhibition\, you can explore our efforts to deeply question the Museum’s collection and our own past complicity in favoring colonial voices. In the Museum gallery\, which will open in early 2021\, you’ll be able to experience the changes we’re making to the physical space to highlight a more honest version of European and American history. \n \nBy challenging our own practice\, and continuing to add to what we know and what we write about the works we display\, UMMA tells a more complex and more complete story of this nation - one that unsettles\, and fails to settle for\, simple narratives. \n \n“Invisible things are not necessarily ‘not there’.... Certain absences are so stressed\, so ornate\, so planned\, they call attention to themselves\; arrest us with intentionality and purpose\, like neighborhoods that are defined by the population held away from them.” \n \n— Toni Morrison\n\nLead support for Unsettling Histories: Legacies of Slavery and Colonialism is provided by the University of Michigan Office of the Provost\, the U-M Arts Initiative\, and the Susan and Richard Gutow Endowed Fund.\n 
UID:84303-21621273@events.umich.edu
URL:https://events.umich.edu/event/84303
CLASS:PUBLIC
STATUS:CONFIRMED
CATEGORIES:History,Art,UMMA,Museum,Exhibition,European
LOCATION:Museum of Art - European and American Decorative Art
CONTACT:
END:VEVENT
BEGIN:VEVENT
DTSTAMP:20240515T063108
DTSTART;TZID=America/Detroit:20240430T111500
DTEND;TZID=America/Detroit:20240430T120000
SUMMARY:Careers / Jobs:J&J WiSTEM2D Presents - Study Break - Developing High Performance Habits
DESCRIPTION:Johnson &amp\; Johnson WiSTEM2D Presents - Study Break - Developing High Performance Habits\n\nFeeling stressed about finals? Worried about burning out? Join Jenn Lea\, the Head of J&amp\;J’s Wellbeing Portfolio Management\, to learn about how you can focus on developing high performance habits to help you succeed. By prioritizing key well-being behaviors\, we can optimize our energy and well-being to avoid burnout and feel confident. Jenn Lea is a nationally recognized authority in health educationand performance training. As Head\, Portfolio Management Jenn is responsible for leading a team that manages program lifecycle\, experience\, and global course delivery for the Well-Being Practice of J&amp\;J Learn.  In addition\, she spends half of her time in the classroom as a coach delivering Energy for Performance®\, Resilience\, and Purpose &amp\; Career Planner courses worldwide to hundreds of top corporate executives. Her passion for developing leaders is evident in her commitment to coaching individuals to make life changes and live to their fullest potential! In 2015\, Johnson &amp\; Johnson launched WiSTEM2D – Women in Science\, Technology\, Engineering\, Math\, Manufacturing\, and Design (STEM2D) – initiative to promote learning and career opportunities in STEM2D disciplines. Led by a network of volunteers from across Johnson &amp\; Johnson and its local operating companies\, this ambitious initiative seeks to promote learning across Youth\, University and Professionals. 
UID:120834-21845398@events.umich.edu
URL:https://events.umich.edu/event/120834
CLASS:PUBLIC
STATUS:CONFIRMED
CATEGORIES:
LOCATION:
CONTACT:
END:VEVENT
BEGIN:VEVENT
DTSTAMP:20240424T091434
DTSTART;TZID=America/Detroit:20240430T113000
DTEND;TZID=America/Detroit:20240430T130000
SUMMARY:Workshop / Seminar:CSCS Seminar | An allele-based evolution model of the population spread of SARS-CoV-2
DESCRIPTION:Coffee and snacks will be provided. This talk will be recorded for later viewing.\n\nAbstract: We present and analyze a dynamic evolution-oriented model of the spread of SARS-CoV-2 in a (homogeneous) population. Unlike previous such models\, we use alleles at the various virus sites as our basic building blocks – an approach that we find more natural and more effective in studying virus evolution. Even though it is restricted to two virus sites with two alleles at each site\, our approach uncovers many insights about virus evolution\, including the effects of parameter choices on the timing and patterns of strain evolution\, the staying power of the initial (seeded) strain\, and the key roles that immunity plays.
UID:121522-21846666@events.umich.edu
URL:https://events.umich.edu/event/121522
CLASS:PUBLIC
STATUS:CONFIRMED
CATEGORIES:Coronavirus,Computational Modeling
LOCATION:Weiser Hall - 747
CONTACT:
END:VEVENT
END:VCALENDAR