BEGIN:VCALENDAR
VERSION:2.0
PRODID:-//UM//UM*Events//EN
CALSCALE:GREGORIAN
BEGIN:VTIMEZONE
TZID:America/Detroit
TZURL:http://tzurl.org/zoneinfo/America/Detroit
X-LIC-LOCATION:America/Detroit
BEGIN:DAYLIGHT
TZOFFSETFROM:-0500
TZOFFSETTO:-0400
TZNAME:EDT
DTSTART:20070311T020000
RRULE:FREQ=YEARLY;BYMONTH=3;BYDAY=2SU
END:DAYLIGHT
BEGIN:STANDARD
TZOFFSETFROM:-0400
TZOFFSETTO:-0500
TZNAME:EST
DTSTART:20071104T020000
RRULE:FREQ=YEARLY;BYMONTH=11;BYDAY=1SU
END:STANDARD
END:VTIMEZONE
BEGIN:VEVENT
DTSTAMP:20240515T123106
DTSTART;TZID=America/Detroit:20240430T130000
DTEND;TZID=America/Detroit:20240430T140000
SUMMARY:Careers / Jobs:BOEM's Next-Gen Engineers: Discovering Petroleum Engineering for Undergrads (4/30/24)
DESCRIPTION:                                               🔥🛢️ Curious about a career in Petroleum Engineering? 🛢️🔥 \n\nJoin our 'Ask a Petroleum Engineer' 🎓 virtual event\, exclusively designed for undergraduates like you! \n\nDive 🏊‍♂️ into the dynamic and evolving world 🌎 of Petroleum Engineering with experts from the Bureau of Ocean Energy Management (BOEM). This is your golden ticket 🎫 to discover the ins and outs of a Petroleum Engineer's role\, from groundbreaking technologies 💡 to environmental stewardship 🌿. Engage in lively discussions💬\, get insider tips 🚀 on forging a successful career in this field\, and connect 🤝 with professionals who've turned their passion into a rewarding career. Perfect for those at the crossroads of their academic journey\, this event is not just about asking questions - it's about igniting 🔥 your passion for innovation and energy! 💥\n\nDon't miss out!
UID:121053-21845747@events.umich.edu
URL:https://events.umich.edu/event/121053
CLASS:PUBLIC
STATUS:CONFIRMED
CATEGORIES:
LOCATION:
CONTACT:
END:VEVENT
BEGIN:VEVENT
DTSTAMP:20240515T123112
DTSTART;TZID=America/Detroit:20240430T130000
DTEND;TZID=America/Detroit:20240430T134500
SUMMARY:Careers / Jobs:Medtronic Computer Science Panel
DESCRIPTION:Are you wondering what a Computer Science major at Medtronic does? Do you want to pick the minds of the people who are doing the work? Please join us for a Computer Science panel on Tuesday\, April 30th at 1:00pm CST. Log into Handshake to register for the event.
UID:121751-21847242@events.umich.edu
URL:https://events.umich.edu/event/121751
CLASS:PUBLIC
STATUS:CONFIRMED
CATEGORIES:
LOCATION:
CONTACT:
END:VEVENT
BEGIN:VEVENT
DTSTAMP:20240515T123118
DTSTART;TZID=America/Detroit:20240430T130000
DTEND;TZID=America/Detroit:20240430T140000
SUMMARY:Careers / Jobs:NACDD Public Health AmeriCorps Info Session - Last chance to applyin 2024!
DESCRIPTION:Step out of the classroom and into your community! Your knowledge and passion are all you need to serve. Join our information session tolearn more about how you can tackle real challenges facing your communityand jumpstart your career in public health with the National Association of Chronic Disease Directors (NACDD). NACDD is a national public health non-profit agency focused on the health of the public by strengthening stateand national leadership and expertise for chronic disease prevention and control. In this session\, the NACDD PHA team will provide an overview of the program\, discuss how to become a Service Member\, highlight existing Service Members’ experiences\, and create a space for questions and answers. To enhance public health resources across the country and support state and local public health settings respond to and recover from the COVID-19 pandemic\, the Public Health AmeriCorps (PHA) program supports the recruitment\, training\, and development of the next generation of public health leaders. In partnership with a State Health Department or similar agency\, local health department(s) or other community-based organization(s)\, and/or a local YMCA or YMCA State Alliance\, Service Members will be placed across fifteen states to advance existing efforts around food and nutrition security\, safe physical activity access\, social connectedness\, and health equity\, all within the context of the impact of the COVID-19 pandemic.\n\nPlease note we are specifically recruiting applicants to serve in Alaska\, Illinois\, Iowa\, Kansas\, Louisiana\, Minnesota\, Missouri\, Nevada\, New Jersey\, and South Carolina. \n\nThis is your last chance to apply to the NACDD Public Health AmeriCorps Program in 2024! The application deadline is Friday\, 5/3/24 at 11:59pm.
UID:121544-21846695@events.umich.edu
URL:https://events.umich.edu/event/121544
CLASS:PUBLIC
STATUS:CONFIRMED
CATEGORIES:
LOCATION:
CONTACT:
END:VEVENT
END:VCALENDAR