BEGIN:VCALENDAR
VERSION:2.0
PRODID:-//UM//UM*Events//EN
CALSCALE:GREGORIAN
BEGIN:VTIMEZONE
TZID:America/Detroit
TZURL:http://tzurl.org/zoneinfo/America/Detroit
X-LIC-LOCATION:America/Detroit
BEGIN:DAYLIGHT
TZOFFSETFROM:-0500
TZOFFSETTO:-0400
TZNAME:EDT
DTSTART:20070311T020000
RRULE:FREQ=YEARLY;BYMONTH=3;BYDAY=2SU
END:DAYLIGHT
BEGIN:STANDARD
TZOFFSETFROM:-0400
TZOFFSETTO:-0500
TZNAME:EST
DTSTART:20071104T020000
RRULE:FREQ=YEARLY;BYMONTH=11;BYDAY=1SU
END:STANDARD
END:VTIMEZONE
BEGIN:VEVENT
DTSTAMP:20240414T160904
DTSTART;TZID=America/Detroit:20240415T161500
DTEND;TZID=America/Detroit:20240415T173000
SUMMARY:Workshop / Seminar:GLNT: Eisenstein series and Euler systems
DESCRIPTION:I will explain a construction of Euler systems that begins with some simple cohomology classes defined by Eisenstein series. The construction recovers most known Euler systems and yields many more\, including one for the adjoint of a modular form and its twists\, along with their corresponding 'explicit reciprocity laws'.
UID:112534-21829088@events.umich.edu
URL:https://events.umich.edu/event/112534
CLASS:PUBLIC
STATUS:CONFIRMED
CATEGORIES:Mathematics
LOCATION:East Hall - 3088
CONTACT:
END:VEVENT
BEGIN:VEVENT
DTSTAMP:20240328T105202
DTSTART;TZID=America/Detroit:20240415T163000
DTEND;TZID=America/Detroit:20240415T180000
SUMMARY:Presentation:Knight-Hennessy Scholars Info Session: Graduate Scholarships at Stanford
DESCRIPTION:Join ONSF and Assistant Director of Admissions at the Knight-Hennessy Scholars Program\, Christian Tanja\, for an information session. Knight-Hennessy is a leadership program at Stanford University. Each year a group of 100 students with demonstrated leadership and civic commitment\, from a wide array of backgrounds\, receive full funding for up to three years of graduate education at Stanford and will participate in programming to develop their future leadership skills.​\n\nLearn more about how to apply for Knight-Hennessy at this event!
UID:120847-21845426@events.umich.edu
URL:https://events.umich.edu/event/120847
CLASS:PUBLIC
STATUS:CONFIRMED
CATEGORIES:Graduate School,Scholarship,Scholarships,Undergraduate
LOCATION:LSA Building - Multipurpose Room (1040)
CONTACT:
END:VEVENT
BEGIN:VEVENT
DTSTAMP:20240415T162023
DTSTART;TZID=America/Detroit:20240415T163000
DTEND;TZID=America/Detroit:20240415T180000
SUMMARY:Workshop / Seminar:Knight-Hennessy Scholars Info Session: Graduate Scholarships at Stanford
DESCRIPTION:Join ONSF and Assistant Director of Admissions at the Knight-Hennessy Scholars Program\, Christian Tanja\, for an information session. Knight-Hennessy is a leadership program at Stanford University. Each yearm a group of 100 students with demonstrated leadership and civic commitment\, from a wide array of backgrounds\, receive full funding for up to three years of graduate education at Stanford and will participate in programming to develop their future leadership skills.​ Learn more about how to apply for Knight-Hennessy at this event!There are limited spaces for this event. If you find that you cannot make it\, please email osnf.info@umich.edu and inform us so we can update your registration and someone else may take your place.
UID:120850-21845431@events.umich.edu
URL:https://events.umich.edu/event/120850
CLASS:PUBLIC
STATUS:CONFIRMED
CATEGORIES:Sessions
LOCATION:LSA Multipurpose Room 1040 (500 State St)
CONTACT:
END:VEVENT
END:VCALENDAR