BEGIN:VCALENDAR
VERSION:2.0
PRODID:-//UM//UM*Events//EN
CALSCALE:GREGORIAN
BEGIN:VTIMEZONE
TZID:America/Detroit
TZURL:http://tzurl.org/zoneinfo/America/Detroit
X-LIC-LOCATION:America/Detroit
BEGIN:DAYLIGHT
TZOFFSETFROM:-0500
TZOFFSETTO:-0400
TZNAME:EDT
DTSTART:20070311T020000
RRULE:FREQ=YEARLY;BYMONTH=3;BYDAY=2SU
END:DAYLIGHT
BEGIN:STANDARD
TZOFFSETFROM:-0400
TZOFFSETTO:-0500
TZNAME:EST
DTSTART:20071104T020000
RRULE:FREQ=YEARLY;BYMONTH=11;BYDAY=1SU
END:STANDARD
END:VTIMEZONE
BEGIN:VEVENT
DTSTAMP:20240805T110541
DTSTART;TZID=America/Detroit:20241113T200000
SUMMARY:Performance:Yarn
DESCRIPTION:“These artists know when to add country fuel & when to keep the rock n’ roll octane soaking slowly.” –Americana Highways\n\nYou might expect a band that calls itself Yarn to\, naturally\, tend to spin a yarn or two. “That’s what we do\, we tell stories\, live and in the studio\, truth and fiction”\, singer/songwriter Blake Christiana insists. “We don’t always opt for consistency. There’s a different vibe onstage from what comes through in our recordings. There’s a difference in every show as well\, you never know what you’re going to get.”\n\nYarn’s ability to persevere ought to come as no great surprise\, especially for a band that spent two years honing their chops during a Monday night residency at the famed Kenny’s Castaway in New York’s Greenwich Village. In effect\, it allowed them to rehearse onstage\, mostly in front of audiences that often ranged in size from five to a hundred people on any given night. 10 studio albums followed. The band then took to the road\, playing upwards of 170 shows a year at any number of prestigious venues. They have landed on the Grammy ballot 4 times\, garnered nods from the Americana Music Association\, placed top five on both Radio and Records and the AMA album charts\, been streamed millions of times on Spotify\, and accorded the “Download of the Day” from Rolling Stone. Shine the Light On found shared songwriting credits with John Oates (the Oates of Hall & Oates fame)\, and when audiences expressed their admiration\, it brought the band a populist cult following of diehard devotees\, popularly known as “the Yarmy.”  \n\nIt’s proof positive that the Brooklyn and Raleigh based band have made their mark\, and in dealing with their emotions\, scars and circumstances\, they find themselves in a position to share those experiences with others who have juggled similar sentiments.
UID:123773-21851875@events.umich.edu
URL:https://events.umich.edu/event/123773
CLASS:PUBLIC
STATUS:CONFIRMED
CATEGORIES:Ark,Mutotix
LOCATION:ARK Reserved
CONTACT:
END:VEVENT
BEGIN:VEVENT
DTSTAMP:20241215T120008
DTSTART;TZID=America/Detroit:20241114T000000
DTEND;TZID=America/Detroit:20241114T235959
SUMMARY:Meeting:Check Out the P4P Public Calendar Here
DESCRIPTION:bit.ly/p4pumcalendar
UID:127131-21858503@events.umich.edu
URL:https://events.umich.edu/event/127131
CLASS:PUBLIC
STATUS:CONFIRMED
CATEGORIES:
LOCATION:Online
CONTACT:
END:VEVENT
BEGIN:VEVENT
DTSTAMP:20241104T211104
DTSTART;TZID=America/Detroit:20241114T000000
DTEND;TZID=America/Detroit:20241114T230000
SUMMARY:Social / Informal Gathering:Whispers of the World: Alice Lloyd Edition
DESCRIPTION:Alice Lloyd residents are invited to share stories and tales close to their culture and background in a community journal. Want to share your favorite bedtime story? Stop by the Alice Lloyd Living Room.
UID:128707-21861540@events.umich.edu
URL:https://events.umich.edu/event/128707
CLASS:PUBLIC
STATUS:CONFIRMED
CATEGORIES:Community,Community Engagement,Culture,Dialogue,Discussion,free,Social
LOCATION:Alice Lloyd Hall - Alice Lloyd Living Room
CONTACT:
END:VEVENT
END:VCALENDAR