BEGIN:VCALENDAR
VERSION:2.0
PRODID:-//UM//UM*Events//EN
CALSCALE:GREGORIAN
BEGIN:VTIMEZONE
TZID:America/Detroit
TZURL:http://tzurl.org/zoneinfo/America/Detroit
X-LIC-LOCATION:America/Detroit
BEGIN:DAYLIGHT
TZOFFSETFROM:-0500
TZOFFSETTO:-0400
TZNAME:EDT
DTSTART:20070311T020000
RRULE:FREQ=YEARLY;BYMONTH=3;BYDAY=2SU
END:DAYLIGHT
BEGIN:STANDARD
TZOFFSETFROM:-0400
TZOFFSETTO:-0500
TZNAME:EST
DTSTART:20071104T020000
RRULE:FREQ=YEARLY;BYMONTH=11;BYDAY=1SU
END:STANDARD
END:VTIMEZONE
BEGIN:VEVENT
DTSTAMP:20240430T181517
DTSTART;TZID=America/Detroit:20240430T160000
SUMMARY:Sporting Event:Baseball vs Kent State
DESCRIPTION:Baseball vs Kent State
UID:121200-21845998@events.umich.edu
URL:https://events.umich.edu/event/121200
CLASS:PUBLIC
STATUS:CONFIRMED
CATEGORIES:Athletics,Athletics - Baseball
LOCATION:Ray Fisher Baseball Stadium
CONTACT:
END:VEVENT
BEGIN:VEVENT
DTSTAMP:20240515T123104
DTSTART;TZID=America/Detroit:20240430T160000
DTEND;TZID=America/Detroit:20240430T164500
SUMMARY:Careers / Jobs:Boosterthon Hiring Changemakers for Roles Starting August 2024!
DESCRIPTION:If you love the idea of impacting students\, working with an amazing team\, thriving in a high-energy environment\, and having fun\, Booster is the company for you! We have teams throughout the US who are hiring both part-time and full-time positions for Fall 2024 and would love to meet you! \n\n- WHO WE ARE: Booster is a vibrant\, mission-driven organization grounded in the belief that positivity and purpose are essential to creating a workplace where everyone can thrive. We are committed to fostering a culture where our team members feel empowered to achieve their full potential and make a positive impact on the world. \n\n- Guided by our six virtues: Gratitude\, Wisdom\, Care\, Courage\, Grit\, and Celebration\, we believe in cultivating leaders who change the world. We are a fun and exciting place to work\, where every day brings new opportunities to make a difference! \n\n- At Booster\, we empower schools across the nation through innovative and engaging fundraising services. We serve elementary\, middle\, and high schools nationwide\, offering a range of services from Fun Runs to a comprehensive school fundraising platform. We've proudly helped over 7\,500 schools profit more than $600 million in much-needed funds. Our mission is to raise $1 billion for schools by 2027\, and we're excited about every step we take toward this goal. \n\n- WHAT TO EXPECT: During this information session\, you will hear more about what Booster does as a company and you'll get the chance to make a personal connection with each of Booster's recruiters! We'll explore what Booster's company culture looks like and career growth opportunities within the company. We hope to see you there! \n\n- Check out our Career Page to learn more: https://www.choosebooster.com/careers
UID:120833-21845397@events.umich.edu
URL:https://events.umich.edu/event/120833
CLASS:PUBLIC
STATUS:CONFIRMED
CATEGORIES:
LOCATION:
CONTACT:
END:VEVENT
BEGIN:VEVENT
DTSTAMP:20240515T123100
DTSTART;TZID=America/Detroit:20240430T160000
DTEND;TZID=America/Detroit:20240430T180000
SUMMARY:Careers / Jobs:Chrysalis Health Wings: Mental Health & Psychology Workshop & Career Fair
DESCRIPTION:We are thrilled to invite you to our inaugural Wings program\,an exclusive initiative designed to support your professional development. The program will be led by our esteemed clinical providers\, including Adriana Santana\, MSW\, LCSW (Statewide Clinical Director)\, Tara Kellogg\,LMFT (State Director of Clinical Supervision and published author)\, Rebeca Gonzalez (Director of Therapist Success)\, and our Talent Acquisition team. Together we have over 100 years of Behavioral Healthcare clinical expertise to share with you. \n\nHere's a glimpse of what WINGS has in store for you: \n· Trauma Informed Care and Evidence-Based Practices \n· Adverse Childhood Experiences (ACEs) Practices\n· Licensure and Clinical Supervision Guidance\n· Importance of Clinician Self-Care and Boundaries \n· Optimizing your Clinical Practice & Therapy Experience\n\nWho we are looking for: \n- Students in their Last year of a Master’s Degree studying a Master’s of Psychology\, Social Work\, or Marriage & Family interested in Therapy Positions as part of our OPT & DJJ Therapist Development Career Path\n- Students in their last year of a bachelors degree studying a Bachelors in Psychology\, or Social Work interested in Case Management Positions as part of our Targeted Case Management Career Path (TCM)\n\n*Preferencegiven to Candidates with a Master’s degree from an accredited university or college in Psychology\, Social Work\, Marriage and Family Therapy\, Mental Health Counseling\, or related field. who are seeking to become Registered Interns in Florida and looking to launch their practice and receiveclinical supervision towards a license\n\n*We will review students who have degrees or majors in the following: Rehabilitation Counseling\, Human Services\, Forensic Psychology\, Community Counseling\, Psychology\, Youth Counseling\, Human Development\, Behavioral Science\, Art Therapy\, & Psychiatric Rehabilitation. In order for these curriculums to qualify transcripts must include at least four class codes that contain content from the following areas: Human Growth & Development\, Diagnosis and treatment of Psychology\, Human Sexuality\, Counseling Theories and Techniques\, Group Theories and Practice\, Dynamic of Marriage and Family Systems\, Individual Evaluation and Assessment\, Research and Program Evaluation\, Personality Theories\, Social and Cultural Foundations\, Counseling in Community Settings\, and Substance Use Disorders.
UID:119449-21842782@events.umich.edu
URL:https://events.umich.edu/event/119449
CLASS:PUBLIC
STATUS:CONFIRMED
CATEGORIES:
LOCATION:
CONTACT:
END:VEVENT
END:VCALENDAR