BEGIN:VCALENDAR
VERSION:2.0
PRODID:-//UM//UM*Events//EN
CALSCALE:GREGORIAN
BEGIN:VTIMEZONE
TZID:America/Detroit
TZURL:http://tzurl.org/zoneinfo/America/Detroit
X-LIC-LOCATION:America/Detroit
BEGIN:DAYLIGHT
TZOFFSETFROM:-0500
TZOFFSETTO:-0400
TZNAME:EDT
DTSTART:20070311T020000
RRULE:FREQ=YEARLY;BYMONTH=3;BYDAY=2SU
END:DAYLIGHT
BEGIN:STANDARD
TZOFFSETFROM:-0400
TZOFFSETTO:-0500
TZNAME:EST
DTSTART:20071104T020000
RRULE:FREQ=YEARLY;BYMONTH=11;BYDAY=1SU
END:STANDARD
END:VTIMEZONE
BEGIN:VEVENT
DTSTAMP:20240430T181529
DTSTART;TZID=America/Detroit:20240430T173000
DTEND;TZID=America/Detroit:20240430T183000
SUMMARY:Performance:Eduardo Martinez\, bassoon
DESCRIPTION:Undergraduate Eduardo Martinez performs a recital on the bassoon.
UID:120513-21844844@events.umich.edu
URL:https://events.umich.edu/event/120513
CLASS:PUBLIC
STATUS:CONFIRMED
CATEGORIES:Free,Music,North Campus
LOCATION:Walgreen Drama Center - Stamps Auditorium
CONTACT:
END:VEVENT
BEGIN:VEVENT
DTSTAMP:20240430T180006
DTSTART;TZID=America/Detroit:20240430T183000
DTEND;TZID=America/Detroit:20240430T213000
SUMMARY:Other:Technique Class
DESCRIPTION:LOCATION: the Phoenix Center at 220 S. Main St.PRICES: $10 for students\, included in monthly pass.Come join us for Technique class where we review the body movement and technique for the three styles you have seen throughout the last month plus the special wildcard style of cha cha! No partner necessary! Please bring dance shoes or socks.6:30pm - 8:30pm : open level (this is a 2 hour class!)8:30pm - 9:30pm : Social dancing (no partner necessary! All levels welcome!)We hope to see you then! 
UID:121119-21845851@events.umich.edu
URL:https://events.umich.edu/event/121119
CLASS:PUBLIC
STATUS:CONFIRMED
CATEGORIES:
LOCATION:Phoenix Center
CONTACT:
END:VEVENT
BEGIN:VEVENT
DTSTAMP:20240121T200932
DTSTART;TZID=America/Detroit:20240430T190000
DTEND;TZID=America/Detroit:20240430T200000
SUMMARY:Social / Informal Gathering:Guided Music Meditation
DESCRIPTION:✨Join us for a musical evening of sacred sound meditation✨\n\nIn addition to this musical experience\, we offer discussion about relevant topics related to yoga lifestyle and mental resilience\, mantra meditation\, reading circles\, and much more!\n\nWe have so many exciting insights and events to share! We also have vegetarian snacks!\n\nWe meet every Tuesday 7:00-8:00 PM at East Quad Room 1511\n\nWe are open to the student populous and public! Hope to see you there!
UID:117255-21839044@events.umich.edu
URL:https://events.umich.edu/event/117255
CLASS:PUBLIC
STATUS:CONFIRMED
CATEGORIES:Concert,Discussion,In Person,Meal,Mindfulness,Music,Social,Student Org,Well-being
LOCATION:East Quadrangle - 1511
CONTACT:
END:VEVENT
END:VCALENDAR