BEGIN:VCALENDAR
VERSION:2.0
PRODID:-//UM//UM*Events//EN
CALSCALE:GREGORIAN
BEGIN:VTIMEZONE
TZID:America/Detroit
TZURL:http://tzurl.org/zoneinfo/America/Detroit
X-LIC-LOCATION:America/Detroit
BEGIN:DAYLIGHT
TZOFFSETFROM:-0500
TZOFFSETTO:-0400
TZNAME:EDT
DTSTART:20070311T020000
RRULE:FREQ=YEARLY;BYMONTH=3;BYDAY=2SU
END:DAYLIGHT
BEGIN:STANDARD
TZOFFSETFROM:-0400
TZOFFSETTO:-0500
TZNAME:EST
DTSTART:20071104T020000
RRULE:FREQ=YEARLY;BYMONTH=11;BYDAY=1SU
END:STANDARD
END:VTIMEZONE
BEGIN:VEVENT
DTSTAMP:20240321T134958
DTSTART;TZID=America/Detroit:20240415T163000
DTEND;TZID=America/Detroit:20240415T180000
SUMMARY:Ceremony / Service:MIDAS Graduate Data Science Certificate Program 2024 Graduation
DESCRIPTION:Please join us to congratulate the MIDAS GDSC Program class of 2024.\nGraduates will have an opportunity to network with peers & faculty.\nMIDAS faculty will provide advising and mentoring\, as requested by students.\nProvide resume reviews\, mock interviews\, and career.\nadvising. Food will be provided. Please RSVP by April 6th (space capacity is limited)
UID:120546-21844893@events.umich.edu
URL:https://events.umich.edu/event/120546
CLASS:PUBLIC
STATUS:CONFIRMED
CATEGORIES:Graduation
LOCATION:Weiser Hall - MIDAS Suite
CONTACT:
END:VEVENT
BEGIN:VEVENT
DTSTAMP:20240415T162023
DTSTART;TZID=America/Detroit:20240415T170000
DTEND;TZID=America/Detroit:20240415T190000
SUMMARY:Workshop / Seminar:Kimbap Making Class
DESCRIPTION:A hands-on event with Chef Bou of MDining that invites people to learn the craft and make kimbap\, enjoy their food afterwards and learn about the cultural significance behind it.
UID:121161-21845908@events.umich.edu
URL:https://events.umich.edu/event/121161
CLASS:PUBLIC
STATUS:CONFIRMED
CATEGORIES:Sessions
LOCATION:South Quad Testing Kitchen
CONTACT:
END:VEVENT
BEGIN:VEVENT
DTSTAMP:20240119T143313
DTSTART;TZID=America/Detroit:20240415T173000
DTEND;TZID=America/Detroit:20240415T183000
SUMMARY:Well-being:SAPAC BIPOC Peer Led Support Group Winter 2024
DESCRIPTION:BIPOC PLSG (peer led support group)\, is a drop-in\, confidential healing space for survivors of sexual assault\, intimate partner violence\, stalking\, and/or sexual harassment\, who identify as people of color. Facilitated by student staff\, BIPOC PLSG is a place for survivors of color at UM to find not only community but healing opportunities\, including anxiety-reduction\, self-care activities\, and mindfulness.\n\nPOC PLSG offers low-key activities as well as a safe space for sharing experiences with racial/ethnic identity\, violence\, and the intersection between both\, as people are comfortable sharing. Survivors are welcome whether they experienced harm in college\, or earlier in life.\n\nThis space specifically centers UM student survivors who identify as people of color\; if you do not identify as a person of color\, we encourage you to consider joining SAPAC’s general Peer Led Support Group: sapac.umich.edu/PLSG\n\n \n\nTo fill out a confidential interest form and receive emails from facilitators: BIPOC PLSG Interest Form: forms.gle/uW7Nq6FfhoiwvtuL9\n\nEmail: bipoc-plsg@umich.edu\n\n \n\nWinter 2024 Meeting Schedule:\n\nWhen: \n\nMondays via Zoom - 5:30-6:30pm (first meeting on Monday Jan 22nd)\nFridays in person - 4:30-5:30pm (first meeting on Friday Jan 19th) \n\nLocation: \n\nIn person - SAPAC Office\, 4100 Michigan Union\, Virtual - Zoom
UID:117510-21839434@events.umich.edu
URL:https://events.umich.edu/event/117510
CLASS:PUBLIC
STATUS:CONFIRMED
CATEGORIES:free,Health & Wellness,peer education,sapac,Well-being
LOCATION:Off Campus Location
CONTACT:
END:VEVENT
END:VCALENDAR