BEGIN:VCALENDAR
VERSION:2.0
PRODID:-//UM//UM*Events//EN
CALSCALE:GREGORIAN
BEGIN:VTIMEZONE
TZID:America/Detroit
TZURL:http://tzurl.org/zoneinfo/America/Detroit
X-LIC-LOCATION:America/Detroit
BEGIN:DAYLIGHT
TZOFFSETFROM:-0500
TZOFFSETTO:-0400
TZNAME:EDT
DTSTART:20070311T020000
RRULE:FREQ=YEARLY;BYMONTH=3;BYDAY=2SU
END:DAYLIGHT
BEGIN:STANDARD
TZOFFSETFROM:-0400
TZOFFSETTO:-0500
TZNAME:EST
DTSTART:20071104T020000
RRULE:FREQ=YEARLY;BYMONTH=11;BYDAY=1SU
END:STANDARD
END:VTIMEZONE
BEGIN:VEVENT
DTSTAMP:20240430T123120
DTSTART;TZID=America/Detroit:20240415T180000
DTEND;TZID=America/Detroit:20240415T190000
SUMMARY:Careers / Jobs:Consulting Week 2024
DESCRIPTION:https://lu.ma/consultingkickoff?utm_source=umichannarbor
UID:120457-21844785@events.umich.edu
URL:https://events.umich.edu/event/120457
CLASS:PUBLIC
STATUS:CONFIRMED
CATEGORIES:
LOCATION:
CONTACT:
END:VEVENT
BEGIN:VEVENT
DTSTAMP:20240404T094718
DTSTART;TZID=America/Detroit:20240415T180000
DTEND;TZID=America/Detroit:20240415T200000
SUMMARY:Workshop / Seminar:PACE Speed-Networking Pitching Session
DESCRIPTION:Join Nike Jonah and Erwin Maas\, Co-Executive Directors of the global networking platform the Pan-African Creative Exchange\, to learn savvy ways to pitch artistic ideas and projects. Artists will pitch their work at tables with attendees. This has proven to be a valuable way of practicing pitching in an informal setting that allows for artists to connect with delegates in the field. As artists move from one table to the next\, attendees will learn about a variety of up-and-coming artistic projects and benefit from constructive feedback in a conversational setting.\n\nMonday\, April 15\, 2024\n6:00-8:00 pm followed by dinner\nRSVP: https://forms.gle/RV9vfTJpMowi8T9m7\n\nUniversity of Michigan Ann Arbor\nSchool of Social Work\, 1080 S University Ave\, Ann Arbor\, MI 48109\nRoom 2752\n\n*About Pan-African Creative Exchange (PACE)*\nPACE\, founded at the prestigious Vrystaat Arts Festival at the University of the Free State in Bloemfontein\, South Africa\, serves as a biennial arts market and showcase for African and African-diaspora artists. The platform provides a gateway for presenting tour-ready work\, showcasing excerpts\, pitching new creations\, facilitating producer exchanges\, hosting workshops\, and fostering critical debates—ultimately creating an invaluable network for artists and creatives. The 2024 U-M School of Social Work Artist Residency will feature a bi-coastal duo\, Nike Jonah and Erwin Maas\, who specialize in art consultancy across various creative sectors. Their residency\, taking place during two weeks in February (Feb. 8-14) and April (April 10-15) will encompass masterclasses\, workshops\, and conversations aimed at enriching the U-M community and the Southeast Michigan region.\n\n*Nike Jonah and Erwin Maas*\nJonah\, a British Nigerian based in London\, and Maas\, a Dutch-American based in NYC\, bring a wealth of international experience to U-M. Their diverse backgrounds and expertise promise a unique perspective on diversity\, equity\, and inclusion matters\, as well as the sustainability of performing arts professions in Africa and its diaspora.
UID:121142-21845872@events.umich.edu
URL:https://events.umich.edu/event/121142
CLASS:PUBLIC
STATUS:CONFIRMED
CATEGORIES:Art,artists,Arts Initiative,In Person,Workshop
LOCATION:School of Social Work Building - 2752
CONTACT:
END:VEVENT
BEGIN:VEVENT
DTSTAMP:20240415T172023
DTSTART;TZID=America/Detroit:20240415T180000
DTEND;TZID=America/Detroit:20240415T200000
SUMMARY:Workshop / Seminar:Student Staff Meetings
DESCRIPTION:
UID:117119-21838704@events.umich.edu
URL:https://events.umich.edu/event/117119
CLASS:PUBLIC
STATUS:CONFIRMED
CATEGORIES:Sessions
LOCATION:Trotter Multicultural Center - Multipurpose Rooms
CONTACT:
END:VEVENT
END:VCALENDAR