BEGIN:VCALENDAR
VERSION:2.0
PRODID:-//UM//UM*Events//EN
CALSCALE:GREGORIAN
BEGIN:VTIMEZONE
TZID:America/Detroit
TZURL:http://tzurl.org/zoneinfo/America/Detroit
X-LIC-LOCATION:America/Detroit
BEGIN:DAYLIGHT
TZOFFSETFROM:-0500
TZOFFSETTO:-0400
TZNAME:EDT
DTSTART:20070311T020000
RRULE:FREQ=YEARLY;BYMONTH=3;BYDAY=2SU
END:DAYLIGHT
BEGIN:STANDARD
TZOFFSETFROM:-0400
TZOFFSETTO:-0500
TZNAME:EST
DTSTART:20071104T020000
RRULE:FREQ=YEARLY;BYMONTH=11;BYDAY=1SU
END:STANDARD
END:VTIMEZONE
BEGIN:VEVENT
DTSTAMP:20241007T152309
DTSTART;TZID=America/Detroit:20241023T090000
DTEND;TZID=America/Detroit:20241023T160000
SUMMARY:Other:ELO | Theme Year Case Study Competition
DESCRIPTION:Join us for a case study competition!  \n\nWhat is a Case Study? \nA case competition is an academic competition where self-selected\, interdisciplinary teams receive a case study for a limited period of time. During this period\, the teams utilize their teamwork\, critical thinking\, analyzing\, and organizational skills to deduce a recommendation that they support in a presentation in front of judges or company sponsors. The teams must hone in on the most prominent issues related to the identified challenge and\, using a variety of resources\, develop a strategy to address these key issues in order to help companies achieve their goals.\n\nRegister and attend the Information Sessions to participate! Register for those sessions here: https://umsi.info/elo-register\n\nThe top case study teams will receive $2\,500 and $1\,000.
UID:127496-21859219@events.umich.edu
URL:https://events.umich.edu/event/127496
CLASS:PUBLIC
STATUS:CONFIRMED
CATEGORIES:Future Of Work,Engaged Learning Office
LOCATION:Off Campus Location
CONTACT:
END:VEVENT
BEGIN:VEVENT
DTSTAMP:20240830T104618
DTSTART;TZID=America/Detroit:20241023T090000
DTEND;TZID=America/Detroit:20241023T163000
SUMMARY:Exhibition:Guardians: Spirits of Protection
DESCRIPTION:This fall\, the Residential College Art Gallery proudly presents Guardians: Spirits of Protection\, an exhibition of evocative figurative sculptures by renowned artist Ann Savageau. The exhibition will be on display from August 26 to November 2\, 2024.\n\nWe invite the university community and the general public to explore this moving collection that delves into themes of loss\, grief\, healing\, and protection. The seventeen life-size figures\, crafted from found objects and beach flotsam\, are a poignant response to the tragedies in Savageau’s life\, including the loss of her three children. Through this deeply personal and powerful work\, Savageau reimagines discarded materials as symbols of new life and resilience\, reflecting the healing power of art.\n\nAnn Savageau will be in residence in Ann Arbor and the Residential College from September 16-20 and October 20-25\, 2024. During her stay\, you are warmly invited to join us for a special artist reception on October 23\, from 4:30 to 6:00 pm in the Gallery. Prior to the reception\, there will be an artist's talk in the Keene Theater at 3:30 pm\, where Savageau will share insights into her creative process and the inspiration behind Guardians.\n\nAnn Savageau\, a former Studio Art instructor at the Residential College from 1978 to 2002\, is not only an artist but also an activist and educator. Her contributions to the Prison Creative Arts Project\, where she taught a weekly art workshop at Jackson Prison for four years\, showcase her commitment to using art as a tool for social change.\n\nDon't miss this opportunity to witness the transformative impact of Savageau's work and engage with her during her residency. We look forward to seeing you at the RC Art Gallery.\n\nImportant Dates:\n\nExhibition: August 26 – November 2\, 2024\nArtist's Talk: October 23\, 2024\, at 3:30 pm\, RC Keene Theater\nArtist Reception: October 23\, 2024\, from 4:30 – 6:00 pm\, RC Art Gallery
UID:125338-21854816@events.umich.edu
URL:https://events.umich.edu/event/125338
CLASS:PUBLIC
STATUS:CONFIRMED
CATEGORIES:Art,Community Engagement,artists,artists and curators,arts,arts at michigan,Arts Initiative,Community
LOCATION:East Quadrangle - RC Art Gallery
CONTACT:
END:VEVENT
BEGIN:VEVENT
DTSTAMP:20240830T112455
DTSTART;TZID=America/Detroit:20241023T090000
DTEND;TZID=America/Detroit:20241023T200000
SUMMARY:Exhibition:Mrs. Dalloway and WWI: Home Front and War Front
DESCRIPTION:This exhibit explores the characters of Mrs. Dalloway through the lens of WWI and its aftershocks. It looks at those who fought in the trenches and those who watched from afar.\n\n[The exhibit includes references to suicide and Post Traumatic Stress Disorder\, which might be distressing for some visitors. Viewer discretion is advised.]\n\nWhile all of the action in Virginia Woolf’s modernist masterpiece takes place on a single day\, as preparations are made for Clarissa Dalloway’s evening party\, Woolf’s stream of consciousness writing takes us in the characters’ minds all the way from English drawing rooms to colonial India to the trenches of World War I.\n\nCheck today's Hatcher Gallery Exhibit Room hours: https://myumi.ch/PkQ2x
UID:123760-21851807@events.umich.edu
URL:https://events.umich.edu/event/123760
CLASS:PUBLIC
STATUS:CONFIRMED
CATEGORIES:Free,Writing,Literature,Library
LOCATION:Hatcher Graduate Library - Hatcher Gallery Exhibit Room, 1st Floor
CONTACT:
END:VEVENT
END:VCALENDAR