BEGIN:VCALENDAR
VERSION:2.0
PRODID:-//UM//UM*Events//EN
CALSCALE:GREGORIAN
BEGIN:VTIMEZONE
TZID:America/Detroit
TZURL:http://tzurl.org/zoneinfo/America/Detroit
X-LIC-LOCATION:America/Detroit
BEGIN:DAYLIGHT
TZOFFSETFROM:-0500
TZOFFSETTO:-0400
TZNAME:EDT
DTSTART:20070311T020000
RRULE:FREQ=YEARLY;BYMONTH=3;BYDAY=2SU
END:DAYLIGHT
BEGIN:STANDARD
TZOFFSETFROM:-0400
TZOFFSETTO:-0500
TZNAME:EST
DTSTART:20071104T020000
RRULE:FREQ=YEARLY;BYMONTH=11;BYDAY=1SU
END:STANDARD
END:VTIMEZONE
BEGIN:VEVENT
DTSTAMP:20240414T180012
DTSTART;TZID=America/Detroit:20240414T000000
DTEND;TZID=America/Detroit:20240414T235959
SUMMARY:Other:Sectionals
DESCRIPTION:Frisbee tournament in Monroe\, MI
UID:121081-21845783@events.umich.edu
URL:https://events.umich.edu/event/121081
CLASS:PUBLIC
STATUS:CONFIRMED
CATEGORIES:
LOCATION:Munson Park Soccer Fields
CONTACT:
END:VEVENT
BEGIN:VEVENT
DTSTAMP:20240415T060006
DTSTART;TZID=America/Detroit:20240414T000000
DTEND;TZID=America/Detroit:20240414T235959
SUMMARY:Other:USA Triathlon Collegiate Club National Championships
DESCRIPTION:USA Triathlon 
UID:118716-21841509@events.umich.edu
URL:https://events.umich.edu/event/118716
CLASS:PUBLIC
STATUS:CONFIRMED
CATEGORIES:
LOCATION:Lake Mission Viejo
CONTACT:
END:VEVENT
BEGIN:VEVENT
DTSTAMP:20240415T180006
DTSTART;TZID=America/Detroit:20240414T000000
DTEND;TZID=America/Detroit:20240414T235959
SUMMARY:Other:USACFC National Championships
DESCRIPTION:Travel for National Championships at Virginia Beach
UID:118717-21841514@events.umich.edu
URL:https://events.umich.edu/event/118717
CLASS:PUBLIC
STATUS:CONFIRMED
CATEGORIES:
LOCATION:Virginia Beach Sports Center
CONTACT:
END:VEVENT
END:VCALENDAR