BEGIN:VCALENDAR
VERSION:2.0
PRODID:-//UM//UM*Events//EN
CALSCALE:GREGORIAN
BEGIN:VTIMEZONE
TZID:America/Detroit
TZURL:http://tzurl.org/zoneinfo/America/Detroit
X-LIC-LOCATION:America/Detroit
BEGIN:DAYLIGHT
TZOFFSETFROM:-0500
TZOFFSETTO:-0400
TZNAME:EDT
DTSTART:20070311T020000
RRULE:FREQ=YEARLY;BYMONTH=3;BYDAY=2SU
END:DAYLIGHT
BEGIN:STANDARD
TZOFFSETFROM:-0400
TZOFFSETTO:-0500
TZNAME:EST
DTSTART:20071104T020000
RRULE:FREQ=YEARLY;BYMONTH=11;BYDAY=1SU
END:STANDARD
END:VTIMEZONE
BEGIN:VEVENT
DTSTAMP:20240430T123136
DTSTART;TZID=America/Detroit:20240415T180000
DTEND;TZID=America/Detroit:20240415T190000
SUMMARY:Careers / Jobs:Virtual Visit: University of St. Augustine for Health Sciences
DESCRIPTION:Come and learn more about about opportunities at the University of Saint Augustine for Health Sciences including Occupational Therapy\, Physical Therapy\, and Speech Language Pathology programs hosted by Priscilla Gonzalez-Ortiz\, University Representative. \n\nThe University of St. Augustine for Health Sciences (USAHS) is a graduate institution that offers degree programs in physical therapy\, occupational therapy\, nursing\, education\, and health science\, as well as continuing education programs. Founded in 1979\, USAHS has locations in San Marcos\, California\; St. Augustine\, Florida\; Dallas and  Austin\, Texas\; and Miami\, Florida. USAHSis regionally accredited by the Western Association of Schools and Colleges Senior College and University Commission (WSCUC). USAHS is one of more than 70 institutions in 25 countries that comprise the Laureate International Universities network.
UID:121297-21846355@events.umich.edu
URL:https://events.umich.edu/event/121297
CLASS:PUBLIC
STATUS:CONFIRMED
CATEGORIES:
LOCATION:
CONTACT:
END:VEVENT
BEGIN:VEVENT
DTSTAMP:20240402T090008
DTSTART;TZID=America/Detroit:20240415T183000
DTEND;TZID=America/Detroit:20240415T210000
SUMMARY:Social / Informal Gathering:Study Tables
DESCRIPTION:Study tables are designated times and spaces on college campuses for students to study and do academic work outside of class. They can be organized by student groups or the institution and may be supervised by faculty or tutors. The goal is to create a focused environment for students to concentrate on coursework\, complete assignments\, and prepare for exams\, while also offering opportunities for collaboration and academic support.
UID:121067-21845769@events.umich.edu
URL:https://events.umich.edu/event/121067
CLASS:PUBLIC
STATUS:CONFIRMED
CATEGORIES:Community,Diversity Peer Educators,Education,Study Night
LOCATION:Stockwell Hall - Rosa Parks Minority Lounge
CONTACT:
END:VEVENT
BEGIN:VEVENT
DTSTAMP:20240415T182022
DTSTART;TZID=America/Detroit:20240415T190000
SUMMARY:Workshop / Seminar:FSL Awards Night - 2024
DESCRIPTION:Event begins at 7:00! Light refreshments\, including vegan and vegetarian options\, will be available. See you there! Attire: Snappy Casual
UID:120526-21844864@events.umich.edu
URL:https://events.umich.edu/event/120526
CLASS:PUBLIC
STATUS:CONFIRMED
CATEGORIES:Sessions
LOCATION:Rogel Ballroom - Michigan Union
CONTACT:
END:VEVENT
END:VCALENDAR