BEGIN:VCALENDAR
VERSION:2.0
PRODID:-//UM//UM*Events//EN
CALSCALE:GREGORIAN
BEGIN:VTIMEZONE
TZID:America/Detroit
TZURL:http://tzurl.org/zoneinfo/America/Detroit
X-LIC-LOCATION:America/Detroit
BEGIN:DAYLIGHT
TZOFFSETFROM:-0500
TZOFFSETTO:-0400
TZNAME:EDT
DTSTART:20070311T020000
RRULE:FREQ=YEARLY;BYMONTH=3;BYDAY=2SU
END:DAYLIGHT
BEGIN:STANDARD
TZOFFSETFROM:-0400
TZOFFSETTO:-0500
TZNAME:EST
DTSTART:20071104T020000
RRULE:FREQ=YEARLY;BYMONTH=11;BYDAY=1SU
END:STANDARD
END:VTIMEZONE
BEGIN:VEVENT
DTSTAMP:20240403T140015
DTSTART;TZID=America/Detroit:20240415T190000
SUMMARY:Performance:Springfest
DESCRIPTION:The 2024 Springfest night show will take place on April 15 at 7 p.m. Come to the Michigan Theater and watch as this year's headliner\, Alexander 23\, brings a night of music to Ann Arbor! Presented by M.U.S.I.C. Matters.
UID:120149-21844157@events.umich.edu
URL:https://events.umich.edu/event/120149
CLASS:PUBLIC
STATUS:CONFIRMED
CATEGORIES:Music,Mutotix,Theater
LOCATION:GA -Michigan Theater
CONTACT:
END:VEVENT
BEGIN:VEVENT
DTSTAMP:20240415T121551
DTSTART;TZID=America/Detroit:20240415T193000
DTEND;TZID=America/Detroit:20240415T203000
SUMMARY:Performance:Annika De Jonge\, voice
DESCRIPTION:Undergraduate student Annika De Jonge performs a recital.
UID:120539-21844878@events.umich.edu
URL:https://events.umich.edu/event/120539
CLASS:PUBLIC
STATUS:CONFIRMED
CATEGORIES:Free,Music,North Campus
LOCATION:Earl V. Moore Building - Britton Recital Hall
CONTACT:
END:VEVENT
BEGIN:VEVENT
DTSTAMP:20240411T181622
DTSTART;TZID=America/Detroit:20240415T200000
DTEND;TZID=America/Detroit:20240415T220000
SUMMARY:Performance:Campus Band Chamber Concert
DESCRIPTION:
UID:121378-21846478@events.umich.edu
URL:https://events.umich.edu/event/121378
CLASS:PUBLIC
STATUS:CONFIRMED
CATEGORIES:Concert,Free,Music
LOCATION:Rackham Graduate School (Horace H.) - Rackham Auditorium
CONTACT:
END:VEVENT
END:VCALENDAR