BEGIN:VCALENDAR
VERSION:2.0
PRODID:-//UM//UM*Events//EN
CALSCALE:GREGORIAN
BEGIN:VTIMEZONE
TZID:America/Detroit
TZURL:http://tzurl.org/zoneinfo/America/Detroit
X-LIC-LOCATION:America/Detroit
BEGIN:DAYLIGHT
TZOFFSETFROM:-0500
TZOFFSETTO:-0400
TZNAME:EDT
DTSTART:20070311T020000
RRULE:FREQ=YEARLY;BYMONTH=3;BYDAY=2SU
END:DAYLIGHT
BEGIN:STANDARD
TZOFFSETFROM:-0400
TZOFFSETTO:-0500
TZNAME:EST
DTSTART:20071104T020000
RRULE:FREQ=YEARLY;BYMONTH=11;BYDAY=1SU
END:STANDARD
END:VTIMEZONE
BEGIN:VEVENT
DTSTAMP:20240814T093222
DTSTART;TZID=America/Detroit:20241023T090000
DTEND;TZID=America/Detroit:20241023T170000
SUMMARY:Exhibition:Susan Moran Exhibition
DESCRIPTION:Susan Moran’s work is inspired by the natural world and our place in it.  She collects and arranges images\, builds and subtracts\, and uses processes that suit the concepts and gives the pieces a reason for existing as textiles.  Simultaneously she strives to make the medium  influence the  outcome in such a way that cloth and image meld together. Moran uses  silkscreen\, shibori\, and stitching to embed images from her daily walks into the fabric. it's important that the work builds slowly\, involving meditative processes that connect her to the cloth and the source of the design.\n\nGallery hours:  Monday-Friday\, 9 am to 5pm or by appointment serrag@med.umich.edu
UID:124224-21852717@events.umich.edu
URL:https://events.umich.edu/event/124224
CLASS:PUBLIC
STATUS:CONFIRMED
CATEGORIES:Alumni,Art,Visual Arts,North Campus,Graduate Students,Free,Exhibition,Detroit,Culture
LOCATION:North Campus Research Complex Building 18 - Rotunda Gallery
CONTACT:
END:VEVENT
BEGIN:VEVENT
DTSTAMP:20241004T143940
DTSTART;TZID=America/Detroit:20241023T090000
DTEND;TZID=America/Detroit:20241023T120000
SUMMARY:Workshop / Seminar:Talent Acquisition Bootcamp
DESCRIPTION:Course details and registration are available on the Organizational Learning website.
UID:127423-21859047@events.umich.edu
URL:https://events.umich.edu/event/127423
CLASS:PUBLIC
STATUS:CONFIRMED
CATEGORIES:Human Resources,Diversity Equity and Inclusion
LOCATION:Off Campus Location
CONTACT:
END:VEVENT
BEGIN:VEVENT
DTSTAMP:20240829T141316
DTSTART;TZID=America/Detroit:20241023T090000
DTEND;TZID=America/Detroit:20241023T170000
SUMMARY:Exhibition:The Butch Closet
DESCRIPTION:In the multi-media installation *The Butch Closet*\, artist Phranc illustrates her life stories as a queer artist\, Jewish lesbian folk singer\, and \"cardboard cobbler.\" By meticulously re-creating personal objects and pieces of clothing out of paper\, cardboard\, thread\, and paint\, she revisits her own history\, contextualizing her experiences as an iconic performer\, and maker\, constructing\, reconstructing\, and re-imagining her image against a larger historical context of second-wave feminism and queer activism. The institute's presentation of *The Butch Closet* is the second iteration of the project\, offering a more intimate and immersive engagement with Phranc's sculptural works. As part of the installation\, visitors can peer into a closet built in the center of the gallery designed by the artist. Conceptually\, the space shifts from inside to outside\, public and private\, and explores themes of visibility and that which remains inaccessible or unseen.\n\nAbout the artist:\nPhranc is a jewish lesbian folksinger and queer artist who uses song\, painting and sculpture to champion personal identities and illustrate the struggle\, survival\, and victory of the queer individual. An internationally acclaimed and award winning performer. Phranc’s work integrates humor and a butch lesbian aesthetic. Her current project\, Phranc Talk: The Butch Closet\, is a multi-media memoir that spans her 40-year career. Phranc lives and works in Santa Monica\, California and Vancouver\, British Columbia.\n\n*Phranc is the 2024 Woodhead Visiting Artist at the Institute for the Humanities.*
UID:123255-21850640@events.umich.edu
URL:https://events.umich.edu/event/123255
CLASS:PUBLIC
STATUS:CONFIRMED
CATEGORIES:Humanities,visual arts,LGBT,Exhibition,american culture,Art,Feminism,Gender
LOCATION:Thayer Academic Building - Institute for the Humanities Gallery
CONTACT:
END:VEVENT
END:VCALENDAR