BEGIN:VCALENDAR
VERSION:2.0
PRODID:-//UM//UM*Events//EN
CALSCALE:GREGORIAN
BEGIN:VTIMEZONE
TZID:America/Detroit
TZURL:http://tzurl.org/zoneinfo/America/Detroit
X-LIC-LOCATION:America/Detroit
BEGIN:DAYLIGHT
TZOFFSETFROM:-0500
TZOFFSETTO:-0400
TZNAME:EDT
DTSTART:20070311T020000
RRULE:FREQ=YEARLY;BYMONTH=3;BYDAY=2SU
END:DAYLIGHT
BEGIN:STANDARD
TZOFFSETFROM:-0400
TZOFFSETTO:-0500
TZNAME:EST
DTSTART:20071104T020000
RRULE:FREQ=YEARLY;BYMONTH=11;BYDAY=1SU
END:STANDARD
END:VTIMEZONE
BEGIN:VEVENT
DTSTAMP:20240411T181621
DTSTART;TZID=America/Detroit:20240415T200000
DTEND;TZID=America/Detroit:20240415T220000
SUMMARY:Performance:Campus Orchestras
DESCRIPTION:The University of Michigan Campus Orchestras are made up of two main orchestras: Campus Philharmonia Orchestra (CPO) and Campus Symphony Orchestra (CSO). Both groups are comprised of non-music major students\, faculty members\, staff\, and alumni. The Campus Orchestras are conducted by SMTD graduate student conductors.\n\nAt this concert the CSO will perform with the winner of the group's annual Concerto Competition.\n\nPROGRAM\n\nCampus Philharmonia Orchestra\nNicholas Bromilow\, conductor\n\nRimsky Korsakov\, Overture on Russian Themes Op. 28 (1880 Version)\nSchubert\, Symphony No. 8 (Unfinished) Movement 1\nDelius\, *The Walk to the Paradise Garden*\nMozart\, *Magic Flute Overture*\n\nCampus Symphony Orchestra\nLuca Antonucci\, conductor\n\nGabrieli\, *Canzon Septimi Toni*\nVerdi\, *Overture to La Forza del Destino*\nRavel\, *Pavane*\nVaughan Williams\, Concerto for Oboe and Strings\, mvt 1\n- With CSO Concerto Competition Winner Joel Greene\, soloist\nTchaikovsky\, *Romeo and Juliet*  \n- Nicholas Finch\, conductor   
UID:108754-21820354@events.umich.edu
URL:https://events.umich.edu/event/108754
CLASS:PUBLIC
STATUS:CONFIRMED
CATEGORIES:Concert,Free,Music
LOCATION:Hill Auditorium
CONTACT:
END:VEVENT
BEGIN:VEVENT
DTSTAMP:20240411T181621
DTSTART;TZID=America/Detroit:20240415T200000
DTEND;TZID=America/Detroit:20240415T220000
SUMMARY:Performance:Contemporary Directions Ensemble
DESCRIPTION:The Contemporary Directions Ensemble performs works by Alyssa Morris\, Julia Perry\, Jennifer Higdon\, and Schoenberg.\n\nJayce Ogren\, conductor\nRoshanne Etezady\, artistic advisor\n\nThis ensemble\, composed exclusively of graduate music students\, performs contemporary classical music in a variety of instrumentations\, from solo works to chamber orchestra. The CDE frequently commissions and performs new works and hosts renowned guest artists and composer residencies.
UID:108755-21820355@events.umich.edu
URL:https://events.umich.edu/event/108755
CLASS:PUBLIC
STATUS:CONFIRMED
CATEGORIES:Concert,Free,Music,North Campus
LOCATION:Walgreen Drama Center - Stamps Auditorium
CONTACT:
END:VEVENT
BEGIN:VEVENT
DTSTAMP:20230914T090524
DTSTART;TZID=America/Detroit:20240415T200000
SUMMARY:Performance:Oumou Sangare
DESCRIPTION:One of Africa’s most renowned vocalists\n\n\"The Songbird of Wassoulou\" brings the music of Mali to Michigan! Oumou Sangaré is a true icon of West Africa whose powerful music and fierce feminism have inspired artists from Alicia Keys to Aya Nakamura to Beyoncé. The songs on her most recent album\, “Timbuktu\,”  were largely written in Baltimore during the lockdowns of the COVID pandemic. The album blends the sounds of traditional West African instruments with those of instruments most associated with the blues. Oumou will share music from this ambitious album as well as sounds from throughout her acclaimed career. How acclaimed? The New Yorker says\, \"Percussive\, danceable\, and haunting\, the singer's visionary mix is the primary reason that her voice has come to carry as much respect as Aretha Franklin's.\nPlease visit https://mutotix.umich.edu/4378/4379 for more detail.
UID:112076-21828404@events.umich.edu
URL:https://events.umich.edu/event/112076
CLASS:PUBLIC
STATUS:CONFIRMED
CATEGORIES:Ark,Mutotix
LOCATION:ARK Reserved
CONTACT:
END:VEVENT
END:VCALENDAR