BEGIN:VCALENDAR
VERSION:2.0
PRODID:-//UM//UM*Events//EN
CALSCALE:GREGORIAN
BEGIN:VTIMEZONE
TZID:America/Detroit
TZURL:http://tzurl.org/zoneinfo/America/Detroit
X-LIC-LOCATION:America/Detroit
BEGIN:DAYLIGHT
TZOFFSETFROM:-0500
TZOFFSETTO:-0400
TZNAME:EDT
DTSTART:20070311T020000
RRULE:FREQ=YEARLY;BYMONTH=3;BYDAY=2SU
END:DAYLIGHT
BEGIN:STANDARD
TZOFFSETFROM:-0400
TZOFFSETTO:-0500
TZNAME:EST
DTSTART:20071104T020000
RRULE:FREQ=YEARLY;BYMONTH=11;BYDAY=1SU
END:STANDARD
END:VTIMEZONE
BEGIN:VEVENT
DTSTAMP:20240415T180010
DTSTART;TZID=America/Detroit:20240416T000000
DTEND;TZID=America/Detroit:20240416T200000
SUMMARY:Other:2024 NCTA Nationals
DESCRIPTION:Come compete with us at the NCTA National Championships!
UID:119972-21843883@events.umich.edu
URL:https://events.umich.edu/event/119972
CLASS:PUBLIC
STATUS:CONFIRMED
CATEGORIES:
LOCATION:UC Berkley
CONTACT:
END:VEVENT
BEGIN:VEVENT
DTSTAMP:20240415T120011
DTSTART;TZID=America/Detroit:20240416T000000
DTEND;TZID=America/Detroit:20240416T140000
SUMMARY:Other:Azalea Bowl
DESCRIPTION:Regatta
UID:121008-21845679@events.umich.edu
URL:https://events.umich.edu/event/121008
CLASS:PUBLIC
STATUS:CONFIRMED
CATEGORIES:
LOCATION:NC State 
CONTACT:
END:VEVENT
BEGIN:VEVENT
DTSTAMP:20240501T120006
DTSTART;TZID=America/Detroit:20240416T000000
DTEND;TZID=America/Detroit:20240416T235959
SUMMARY:Social / Informal Gathering:IdeaHub Check-In
DESCRIPTION:Please check-in when visiting the IdeaHub.
UID:120861-21845472@events.umich.edu
URL:https://events.umich.edu/event/120861
CLASS:PUBLIC
STATUS:CONFIRMED
CATEGORIES:
LOCATION:IdeaHub
CONTACT:
END:VEVENT
END:VCALENDAR