BEGIN:VCALENDAR
VERSION:2.0
PRODID:-//UM//UM*Events//EN
CALSCALE:GREGORIAN
BEGIN:VTIMEZONE
TZID:America/Detroit
TZURL:http://tzurl.org/zoneinfo/America/Detroit
X-LIC-LOCATION:America/Detroit
BEGIN:DAYLIGHT
TZOFFSETFROM:-0500
TZOFFSETTO:-0400
TZNAME:EDT
DTSTART:20070311T020000
RRULE:FREQ=YEARLY;BYMONTH=3;BYDAY=2SU
END:DAYLIGHT
BEGIN:STANDARD
TZOFFSETFROM:-0400
TZOFFSETTO:-0500
TZNAME:EST
DTSTART:20071104T020000
RRULE:FREQ=YEARLY;BYMONTH=11;BYDAY=1SU
END:STANDARD
END:VTIMEZONE
BEGIN:VEVENT
DTSTAMP:20241022T095723
DTSTART;TZID=America/Detroit:20241023T100000
DTEND;TZID=America/Detroit:20241023T160000
SUMMARY:Exhibition:GalleryDAAS Exhibition: \"Hip Hop @ 50\"
DESCRIPTION:It's back! Brought to you by the Department of Afroamerican and African Studies (DAAS)\, GalleryDAAS celebrates the 50th anniversary of hip hop with “Hip Hop @ 50\,” an exhibition highlighting this constantly evolving phenomenon. Explore various aspects of hip hop culture\, including definitions\, dates\, divas\, the Detroit scene\, and a special tribute to J Dilla (James Dewitt Yancey)\, a prolific producer. Through examining the five pillars of hip hop — rapping\, break dancing\, DJing\, graffiti and historical knowledge — it becomes evident that what began as a musical genre has impacted society\, fashion\, language\, entertainment and even politics. Visitors will also be treated to a GREAT playlist! The gallery is open Monday–Friday from 10 a.m. to 4 p.m.
UID:122094-21860324@events.umich.edu
URL:https://events.umich.edu/event/122094
CLASS:PUBLIC
STATUS:CONFIRMED
CATEGORIES:african and afroamerican studies,african and african american studies,AEM Featured
LOCATION:Haven Hall - G648
CONTACT:
END:VEVENT
BEGIN:VEVENT
DTSTAMP:20240829T143440
DTSTART;TZID=America/Detroit:20241023T100000
DTEND;TZID=America/Detroit:20241023T110000
SUMMARY:Social / Informal Gathering:German Convo on the Go
DESCRIPTION:Meet at Burton Tower for a 1-hour walk and talk in German with Mary Gell (magell@umich.edu). This event happens 'rain or shine.'  Note that the group leaves at 10am sharp.
UID:125321-21854734@events.umich.edu
URL:https://events.umich.edu/event/125321
CLASS:PUBLIC
STATUS:CONFIRMED
CATEGORIES:German Studies,Germanic Languages And Literatures,German
LOCATION:Burton Memorial Tower
CONTACT:
END:VEVENT
BEGIN:VEVENT
DTSTAMP:20241015T114218
DTSTART;TZID=America/Detroit:20241023T100000
DTEND;TZID=America/Detroit:20241023T110000
SUMMARY:Workshop / Seminar:MCDB Defense> Characterizing Anillin’s role regulating RhoA mediated contractility during cell-cell junction remodeling and repair
DESCRIPTION:Mentor: Ann Miller
UID:127866-21859847@events.umich.edu
URL:https://events.umich.edu/event/127866
CLASS:PUBLIC
STATUS:CONFIRMED
CATEGORIES:Dissertation Defense,Life Science,Natural Sciences,Research,Science,Bsbsigns,Biosciences,Biology,Basic Science
LOCATION:Biological Sciences Building - 1010
CONTACT:
END:VEVENT
END:VCALENDAR