BEGIN:VCALENDAR
VERSION:2.0
PRODID:-//UM//UM*Events//EN
CALSCALE:GREGORIAN
BEGIN:VTIMEZONE
TZID:America/Detroit
TZURL:http://tzurl.org/zoneinfo/America/Detroit
X-LIC-LOCATION:America/Detroit
BEGIN:DAYLIGHT
TZOFFSETFROM:-0500
TZOFFSETTO:-0400
TZNAME:EDT
DTSTART:20070311T020000
RRULE:FREQ=YEARLY;BYMONTH=3;BYDAY=2SU
END:DAYLIGHT
BEGIN:STANDARD
TZOFFSETFROM:-0400
TZOFFSETTO:-0500
TZNAME:EST
DTSTART:20071104T020000
RRULE:FREQ=YEARLY;BYMONTH=11;BYDAY=1SU
END:STANDARD
END:VTIMEZONE
BEGIN:VEVENT
DTSTAMP:20241114T082035
DTSTART;TZID=America/Detroit:20241114T083000
DTEND;TZID=America/Detroit:20241115T160000
SUMMARY:Conference / Symposium:2024 Hacks with Friends
DESCRIPTION:\n\nRegister today for the 2024 Hacks with Friends (HWF) — a hack event sponsored by the U-M Office of the VPIT-CIO. All IT and technology professionals and advocates from across U-M's four campuses are invited to break away from their everyday activities and have some fun doing what they do best in a friendly competition. The 2024 Hacks with Friends (HWF) will take place on November 14 & 15 at Arbor Lakes.  \n\nNOTE: Registering after November 6 does not guarantee that meals will be available for you. You will need to find lunch on your own.
UID:127752-21859650@events.umich.edu
URL:https://events.umich.edu/event/127752
CLASS:PUBLIC
STATUS:CONFIRMED
CATEGORIES:Sessions
LOCATION:Arbor Lakes Dome
CONTACT:
END:VEVENT
BEGIN:VEVENT
DTSTAMP:20241114T082035
DTSTART;TZID=America/Detroit:20241114T083000
DTEND;TZID=America/Detroit:20241115T160000
SUMMARY:Conference / Symposium:2024 Hacks with Friends
DESCRIPTION:\n\nRegister today for the 2024 Hacks with Friends (HWF) — a hack event sponsored by the U-M Office of the VPIT-CIO. All IT and technology professionals and advocates from across U-M's four campuses are invited to break away from their everyday activities and have some fun doing what they do best in a friendly competition. The 2024 Hacks with Friends (HWF) will take place on November 14 & 15 at Arbor Lakes.  \n\nNOTE: Registering after November 6 does not guarantee that meals will be available for you. You will need to find lunch on your own.
UID:127752-21859651@events.umich.edu
URL:https://events.umich.edu/event/127752
CLASS:PUBLIC
STATUS:CONFIRMED
CATEGORIES:Sessions
LOCATION:Arbor Lakes Dome
CONTACT:
END:VEVENT
BEGIN:VEVENT
DTSTAMP:20241104T134217
DTSTART;TZID=America/Detroit:20241114T090000
DTEND;TZID=America/Detroit:20241114T133000
SUMMARY:Conference / Symposium:GLOBAL CHANGE BIOLOGY mini-symposium
DESCRIPTION:Join Us for the Institute for Global Change Biology Mini-Symposium!\n\nExplore the cutting-edge research advancing our understanding of public health\, sustainability\, and ecology at the Institute for Global Change Biology's upcoming mini-symposium. This event will highlight diverse and impactful projects led by our postdoctoral research fellows\, showcasing insights that address pressing global challenges. Enjoy a day of science\, discussion\, and discovery—with snacks and lunch provided!\n\n\n09:00        Coffee/Tea\n\n09:30        Khandaker Jafor Ahmed: Exploring climate\, health\, and environment in   \n                 coastal vs. Lake Victoria regions of Kenya\n\n09:45        Stephanie Schmiege: Living at the edge: Physiological controls of the\n                 northern limits of treeline\n\n10:00        Leo Ohyama: Macroecological dynamics of ant colony sizes\n\n10:15        Hengxing Zou: Functional shifts of North American avian communities over\n                 half a century\n\n10:30        Kirby Mills: Fire and drought conditions reshape habitat suitability for large\n                 mammals in the American West\n\n10:45        Sarah Raubenheimer: Competition and functional traits mediate CO2\n                 fertilization of plant growth\n\n11:00         Coffee/Tea Snacks\n\n11:20        Wenqi Luo: Continental-scale evaluation of soil fungal biodiversity under\n                 future climate and land-use changes\n\n11:35        Liting Zheng: Plant functional trait responses to long-term elevated CO2\n                and nitrogen enrichment\, and consequences for outcomes of species\n                interactions\n\n11:50        Tsun Fung Au: Tree growth responses to drought\, CO2\, and nitrogen\n                 deposition\n\n12:05        Thiago Gonçalves Souza: Increasing species turnover does not alleviate\n                 biodiversity loss in fragmented landscapes\n\n12:20        Kara Dobson: A global meta-analysis of passive experimental warming\n                 effects on plant traits and community properties\n\n12:35        Katie Rocci: Integrating microbial community data into ecosystem-scale\n                 models in the face of climate change\n\n12:50        Lunch
UID:128681-21861486@events.umich.edu
URL:https://events.umich.edu/event/128681
CLASS:PUBLIC
STATUS:CONFIRMED
CATEGORIES:Climate Change,Environment,Global Health,Public Health,Research
LOCATION:Dana Natural Resources  Building - 1024
CONTACT:
END:VEVENT
END:VCALENDAR