BEGIN:VCALENDAR
VERSION:2.0
PRODID:-//UM//UM*Events//EN
CALSCALE:GREGORIAN
BEGIN:VTIMEZONE
TZID:America/Detroit
TZURL:http://tzurl.org/zoneinfo/America/Detroit
X-LIC-LOCATION:America/Detroit
BEGIN:DAYLIGHT
TZOFFSETFROM:-0500
TZOFFSETTO:-0400
TZNAME:EDT
DTSTART:20070311T020000
RRULE:FREQ=YEARLY;BYMONTH=3;BYDAY=2SU
END:DAYLIGHT
BEGIN:STANDARD
TZOFFSETFROM:-0400
TZOFFSETTO:-0500
TZNAME:EST
DTSTART:20071104T020000
RRULE:FREQ=YEARLY;BYMONTH=11;BYDAY=1SU
END:STANDARD
END:VTIMEZONE
BEGIN:VEVENT
DTSTAMP:20241107T063200
DTSTART;TZID=America/Detroit:20241023T100000
DTEND;TZID=America/Detroit:20241023T130000
SUMMARY:Careers / Jobs:Naval Surface Warfare Center Philadelphia Division (NSWCPD) CareerFair 2024
DESCRIPTION:The Naval Surface Warfare Center Philadelphia Division (NSWCPD) is hosting a career fair open to the public!  We will be hosting a career fair for all positions on Wednesday\, October 23rd from 10am-1pm at the IATSE BALLROOM - 2401 S SWANSON ST. PHILADELPHIA\, PA 19148. Those interested can pre-register and upload a copy of their resume using the link provided. Even if you cannot attend the event in person\, we encourage interested students to upload their resume for consideration.REGISTRATION/APPLICATION LINK: https://tinyurl.com/24rygue8Entry Level Positions:\nContract Specialists\nCo-ops/Summer hires\nBusiness Operations Specialists\nFinancial Management Analysts\nLogistics Management Specialists\nMechanical Engineers\nElectrical Engineers\nMaterials Engineers\nChemical Engineers\nEnvironmental Engineers\nIndustrial Engineers\nComputer Engineers\nComputer Scientists\nFire Protection Engineers\nWelding Engineers\nMarine/Naval Engineers\nShift Test Engineers\nJourney Level Positions:\nBusiness Operations Specialists\nFinancial Management Analysts\nAccountants\nProgram Analysts\nIndustrial Support Program Analysts\nElectricians\nShift Test Engineer\nWeapons Handling System ISEA\nNAVLOGTD Senior Software Developer\nCVN/USCG SoftwareEngineer\nHardware Engineer\nControls Engineer\nLHD/A SSA/Tech Refresh Software Interdisciplinary Engineer\nDDGADCS Class Lead Engineer\nMain Reduction Gear Engineer\nLCS Diesel Readiness System Engineer\nISEA Engineer\nDDG-51 Machinery Control Systems ISEA Engineer\nSurface Ship Steering ISEA Engineer\nPLC Software Developer\nSurface Ship Air Conditioning and Refrigeration Engineer\nSystems Engineer\nCTF Facility Electric Plant Engineer\nGeneral Engineers/Scientists\nFire Protection Engineers\nMechanical Engineers\nMechanical Engineers (Radiographic Testing)\nAdvanced Power Systems Engineers\nMaterials Engineer\nElectrical Engineers\nFor more information on the Naval Surface Warfare Center Philadelphia Division check out our website: NSWC Philadelphia (navy.mil)
UID:127621-21859405@events.umich.edu
URL:https://events.umich.edu/event/127621
CLASS:PUBLIC
STATUS:CONFIRMED
CATEGORIES:
LOCATION:2401 South Swanson Street, Philadelphia, Pennsylvania 19148, United States
CONTACT:
END:VEVENT
BEGIN:VEVENT
DTSTAMP:20241023T060016
DTSTART;TZID=America/Detroit:20241023T100000
DTEND;TZID=America/Detroit:20241023T110000
SUMMARY:Reception / Open House:SC2 Coffee Hour
DESCRIPTION:Stop By for a Coffee. Just find us in the coffee shop\, and we will order it for you. Coffee Hour also provides an opportunity to ask any questions about the club or scientific computing in general. If the coffee hour is at M36\, be sure to check for us in the basement seating area. We will always have a sign so you can recognize us.
UID:127161-21858605@events.umich.edu
URL:https://events.umich.edu/event/127161
CLASS:PUBLIC
STATUS:CONFIRMED
CATEGORIES:
LOCATION:Mujo Cafe
CONTACT:
END:VEVENT
BEGIN:VEVENT
DTSTAMP:20240130T121550
DTSTART;TZID=America/Detroit:20241023T110000
DTEND;TZID=America/Detroit:20241023T170000
SUMMARY:Exhibition:A Gathering
DESCRIPTION:Welcome. Make Yourself At Home.\n \nA Gathering brings together the newest works of art to enter UMMA’s collection — many on display here for the first time. \n \nAs a free\, public museum\, UMMA staff takes care of art for the benefit of the community and society at large. The works on view in this exhibition\, all brought into the Museum between 2019 and the present\, shows how institutions like UMMA are becoming more permeable to societal challenges\, and more nimble in responding to them in service to all in their communities. In this exhibition you will find works that reflect on how global migrations\, race\, gender\, and ecological change shape the way we engage with the world and inform our visions for the future.\n \nThis collection of artistic engagements with issues give us tools to envision who we want to be as individuals\, as a museum\, and as a society\, connected to one another across space and experience.\n \nSo gather here to take in these latest works of art brought here for you. Gather here to be engulfed in their forms and meanings\, to discuss their takes\, to learn\, to disagree. Gather to relax\, make a friend\, drink a coffee\, finish the daily Wordle. Gather to feel full\, to be moved and inspired by all the possible imaginations of what is yet to come.\n \nCurated by Félix Zamora Gómez Irving Stenn\, Jr. Fellow in Public Humanities & Museum Pedagogy\n\nLead support for this exhibition is provided by Lizzie and Jonathan Tisch\, the Richard and Rosann Noel Endowment\, and the University of Michigan Office of the Provost.\n 
UID:107870-21817944@events.umich.edu
URL:https://events.umich.edu/event/107870
CLASS:PUBLIC
STATUS:CONFIRMED
CATEGORIES:Humanities,UMMA,Staff,Museum,Art,Free,Exhibition
LOCATION:Museum of Art - Lizzie and Jonathan Tisch Apse
CONTACT:
END:VEVENT
END:VCALENDAR