BEGIN:VCALENDAR
VERSION:2.0
PRODID:-//UM//UM*Events//EN
CALSCALE:GREGORIAN
BEGIN:VTIMEZONE
TZID:America/Detroit
TZURL:http://tzurl.org/zoneinfo/America/Detroit
X-LIC-LOCATION:America/Detroit
BEGIN:DAYLIGHT
TZOFFSETFROM:-0500
TZOFFSETTO:-0400
TZNAME:EDT
DTSTART:20070311T020000
RRULE:FREQ=YEARLY;BYMONTH=3;BYDAY=2SU
END:DAYLIGHT
BEGIN:STANDARD
TZOFFSETFROM:-0400
TZOFFSETTO:-0500
TZNAME:EST
DTSTART:20071104T020000
RRULE:FREQ=YEARLY;BYMONTH=11;BYDAY=1SU
END:STANDARD
END:VTIMEZONE
BEGIN:VEVENT
DTSTAMP:20241115T181510
DTSTART;TZID=America/Detroit:20241023T110000
DTEND;TZID=America/Detroit:20241023T170000
SUMMARY:Exhibition:Arbor Glyph
DESCRIPTION:Arbor Glyph is an installation centered around a collective painting of trees\, created by Stamps students and activated by a colorful projection repurposing hand-painted elements and bringing them to life. The goal of the exhibition is to foster collaboration among student artists and engage the Stamps community\, encouraging participation through a student painting party earlier this month\, with a focus on inclusion\, expression\, and finding solace in local landscapes.The Student-led Exhibition Committee (SEC) is a newly-formed group of students\, faculty\, and staff\, aiming to create more opportunities for undergrads to exhibit on campus. Arbor Glyph follows their Winter 2024 salon-style exhibition L'Assemblage in the Stamps Art &amp\; Architecture Building\, further developing students' experience planning extracurricular exhibitions by showing in the Stamps Gallery\, and taking a new approach to creating/curating artwork.
UID:127895-21859889@events.umich.edu
URL:https://events.umich.edu/event/127895
CLASS:PUBLIC
STATUS:CONFIRMED
CATEGORIES:Art
LOCATION:Off Campus Location
CONTACT:
END:VEVENT
BEGIN:VEVENT
DTSTAMP:20251028T151720
DTSTART;TZID=America/Detroit:20241023T110000
DTEND;TZID=America/Detroit:20241023T130000
SUMMARY:Social / Informal Gathering:Bachelor in General Studies (BGS) Open House
DESCRIPTION:Join us for a BGS Open House in the Newnan Academic Advising Center! Drop by anytime between 11am and 1pm to pick up a free BGS t-shirt\, grab some snacks\, and chat with advisors and other BGS students. We'd love to see you!
UID:127825-21859733@events.umich.edu
URL:https://events.umich.edu/event/127825
CLASS:PUBLIC
STATUS:CONFIRMED
CATEGORIES:Advising,In Person,Majors,Newnan,Social,Undergraduate
LOCATION:Angell Hall - LSA Newnan Advising Center
CONTACT:
END:VEVENT
BEGIN:VEVENT
DTSTAMP:20241009T100417
DTSTART;TZID=America/Detroit:20241023T110000
DTEND;TZID=America/Detroit:20241023T120000
SUMMARY:Lecture / Discussion:ECE Distinguished Seminar Series - Antimonide type-II superlattices and heterovalent integration: From MBE growth\, materials physics\, to device applications
DESCRIPTION:Abstract\nThe talk consists of two parts:\n1. Antimonide type-II superlattice for IR applications: The study of InAs/InAsSb T2SL on GaSb and its application to IR lasers was started in the early ’90s. The observation of a 412 ns long carrier lifetime in a long-wavelength infrared (LWIR) InAs/InAsSb T2SL in 2011 triggered extensive research on the fundamental materials properties and device applications. Pressure-dependent photoluminescence (PL) experiments revealed some underlying material physics of these long carrier lifetimes. Some of the device applications will also be discussed.\n2. Heterovalent integration and device applications: The study the monolithic integration of these families: II-VI (BeMgZnCdHg)(SeTe)\, III-V (AlGaIn)(BiPAsSb)\, IV-IV (SiGeSn)\, and IV-VI (PbSe\, PbTe) semiconductor binaries and their alloys lattice-matched to GaAs\, GaSb\, InP\, InAs or InSb substrates. These materials have direct bandgaps covering a very broad energy spectrum from far IR to UV (0 ~ 4 eV) and small thermal mismatch\, offering opportunities to study new physics in quantum materials\, such as electrical-field-induced topological insulators in heterovalent superlattice and thin-film superconductor on semiconductor (a-Sn/InSb)\, but also enables new solar cells\, multi-color photodetectors\, resonant tunneling diodes\, and facilitates monolithic integration of various materials without misfit dislocations to ensure the highest quality for device applications.\n\nBio\n\nProfessor Zhang did his thesis research at the Max Planck Institute for Solid States and received this doctoral degree in physics from the University of Stuttgart in 1991. He then worked as an Assistant Research Engineer at UCSB before he joined Hughes Research Labs (HRL) in 1993. In 1996\, he was appointed Associate Professor in the Department of Electrical Engineering at ASU and was promoted to full professor in 2000. He edited 3 books\, published 4 book chapters and more than 300 peer-reviewed journal and conference proceeding papers\, presented 400 invited and contributed conference presentations\, 18 issued and pending US patents\, advised over 30 PhD students and supervised over 40 postdocs and visiting scholars. He is a fellow of IEEE and OSA and has served as the Associate Dean for Research at the Fulton Schools of Engineering\, the director and Chair of the Governance Board of ASU NanoFab\, and the founding director of the Center for Photonics Innovation. His areas of research interest include Molecular Beam Epitaxy (MBE) growth of II-VI\, III-V\, IV-IV\, and IV-VI materials\, optical properties of semiconductor heterostructures and their applications in solar cells\, photodetectors\, lasers\, and transistors. He is currently the chair and the co-chair of the international advisory boards for the International Conference on MBE and the North America Conference on MBE\, respectively.
UID:126927-21858147@events.umich.edu
URL:https://events.umich.edu/event/126927
CLASS:PUBLIC
STATUS:CONFIRMED
CATEGORIES:Computer Engineering,Electrical And Computer Engineering,Electrical Engineering and Computer Science,engineering,Lecture
LOCATION:Electrical Engineering and Computer Science Building - 3316
CONTACT:
END:VEVENT
END:VCALENDAR