BEGIN:VCALENDAR
VERSION:2.0
PRODID:-//UM//UM*Events//EN
CALSCALE:GREGORIAN
BEGIN:VTIMEZONE
TZID:America/Detroit
TZURL:http://tzurl.org/zoneinfo/America/Detroit
X-LIC-LOCATION:America/Detroit
BEGIN:DAYLIGHT
TZOFFSETFROM:-0500
TZOFFSETTO:-0400
TZNAME:EDT
DTSTART:20070311T020000
RRULE:FREQ=YEARLY;BYMONTH=3;BYDAY=2SU
END:DAYLIGHT
BEGIN:STANDARD
TZOFFSETFROM:-0400
TZOFFSETTO:-0500
TZNAME:EST
DTSTART:20071104T020000
RRULE:FREQ=YEARLY;BYMONTH=11;BYDAY=1SU
END:STANDARD
END:VTIMEZONE
BEGIN:VEVENT
DTSTAMP:20240920T145113
DTSTART;TZID=America/Detroit:20241023T110000
DTEND;TZID=America/Detroit:20241023T140000
SUMMARY:Careers / Jobs:Engineering Company Day
DESCRIPTION:Company Days allow engineering students the opportunity to engage with organizations for recruitment and networking purposes.\n\nEvent attendance is limited to U-M Ann Arbor College of Engineering Students\, LSA declared Computer Science students\, LSA declared Data Science students\, and LSA declared Physics students. Students will be required to check-in with their MCard in order to access companies\, and access will be restricted to students meeting this eligibility criteria. A list of participating companies and event location will be available within the Events section of Engineering Careers\, by 12twenty and within Career Fair Plus.
UID:124755-21853733@events.umich.edu
URL:https://events.umich.edu/event/124755
CLASS:PUBLIC
STATUS:CONFIRMED
CATEGORIES:Career,Undergraduate Students,Michigan Engineering,Graduate Students
LOCATION:Pierpont Commons - East Room
CONTACT:
END:VEVENT
BEGIN:VEVENT
DTSTAMP:20240916T110611
DTSTART;TZID=America/Detroit:20241023T110000
DTEND;TZID=America/Detroit:20241023T120000
SUMMARY:Lecture / Discussion:Great Lakes Seminar Series: Stephanie C. Kane
DESCRIPTION:How do we pull together those with skills and talents steeped in disciplinary knowledge and  inhabitant experience to interpret and respond appropriately to the radical uncertainties of rivers and lakes enacting climate change extremes?  Based on her ethnography of flood control in urbanized Manitoban floodplains\, Stephanie Kane identifies and recasts key aspects of traditional expert-inhabitant forecasting. She proposes touchstones for a place-based/planet-informed path forward that affectively and effectively grounds engineering\, science and law in environmental and social justice.\n\nAbout the speaker: Stephanie C. Kane is a cultural anthropologist and Emerit Professor of International Studies in the Hamilton Lugar School of Global and International Studies. Her earlier book on water and cities is entitled Where Rivers Meet the Sea: The Political Ecology of Water (2012\, Temple). Her most recent book\, Just One Rain Away: The Ethnography of River-city Flood Control (2022 McGill Queen’s) brings together diverse experimental fieldwork-based methods. Using geoscience and flood forecasting\, Kane interprets the perspective of water and ice as earth-shaping riverine actors who encounter collective humans in the form of cities. By drawing on official post-disaster reports\, novels\, a play\, personal experience narratives and an emergency press conference\, Just One Rain Away writes humanity’s existential climate-changing moment into the peculiar place-based intersection of historical and geological time.
UID:126501-21857207@events.umich.edu
URL:https://events.umich.edu/event/126501
CLASS:PUBLIC
STATUS:CONFIRMED
CATEGORIES:Environmental Justice,Free,Great Lakes,Public Policy,seminar
LOCATION:Off Campus Location
CONTACT:
END:VEVENT
BEGIN:VEVENT
DTSTAMP:20240916T110611
DTSTART;TZID=America/Detroit:20241023T110000
DTEND;TZID=America/Detroit:20241023T120000
SUMMARY:Lecture / Discussion:Great Lakes Seminar Series: Stephanie C. Kane
DESCRIPTION:How do we pull together those with skills and talents steeped in disciplinary knowledge and  inhabitant experience to interpret and respond appropriately to the radical uncertainties of rivers and lakes enacting climate change extremes?  Based on her ethnography of flood control in urbanized Manitoban floodplains\, Stephanie Kane identifies and recasts key aspects of traditional expert-inhabitant forecasting. She proposes touchstones for a place-based/planet-informed path forward that affectively and effectively grounds engineering\, science and law in environmental and social justice.\n\nAbout the speaker: Stephanie C. Kane is a cultural anthropologist and Emerit Professor of International Studies in the Hamilton Lugar School of Global and International Studies. Her earlier book on water and cities is entitled Where Rivers Meet the Sea: The Political Ecology of Water (2012\, Temple). Her most recent book\, Just One Rain Away: The Ethnography of River-city Flood Control (2022 McGill Queen’s) brings together diverse experimental fieldwork-based methods. Using geoscience and flood forecasting\, Kane interprets the perspective of water and ice as earth-shaping riverine actors who encounter collective humans in the form of cities. By drawing on official post-disaster reports\, novels\, a play\, personal experience narratives and an emergency press conference\, Just One Rain Away writes humanity’s existential climate-changing moment into the peculiar place-based intersection of historical and geological time.
UID:126501-21857206@events.umich.edu
URL:https://events.umich.edu/event/126501
CLASS:PUBLIC
STATUS:CONFIRMED
CATEGORIES:Environmental Justice,Free,Great Lakes,Public Policy,seminar
LOCATION:Off Campus Location - Lake Superior Hall
CONTACT:
END:VEVENT
END:VCALENDAR