BEGIN:VCALENDAR
VERSION:2.0
PRODID:-//UM//UM*Events//EN
CALSCALE:GREGORIAN
BEGIN:VTIMEZONE
TZID:America/Detroit
TZURL:http://tzurl.org/zoneinfo/America/Detroit
X-LIC-LOCATION:America/Detroit
BEGIN:DAYLIGHT
TZOFFSETFROM:-0500
TZOFFSETTO:-0400
TZNAME:EDT
DTSTART:20070311T020000
RRULE:FREQ=YEARLY;BYMONTH=3;BYDAY=2SU
END:DAYLIGHT
BEGIN:STANDARD
TZOFFSETFROM:-0400
TZOFFSETTO:-0500
TZNAME:EST
DTSTART:20071104T020000
RRULE:FREQ=YEARLY;BYMONTH=11;BYDAY=1SU
END:STANDARD
END:VTIMEZONE
BEGIN:VEVENT
DTSTAMP:20241022T124308
DTSTART;TZID=America/Detroit:20241114T090000
DTEND;TZID=America/Detroit:20241114T170000
SUMMARY:Exhibition:Touch
DESCRIPTION:Ericka Lopez is a visual artist born in Mexico and living in Los Angeles. Lopez lost her sight at an early age and is mostly non-verbal. This exhibition of tactile assemblage works and gestural coiled pots were created by the artist through touch and texture\, colored by memory. The works are sensory\, physical\, immediate\, reaffirming\, and deeply expressive. Viewers to this exhibition are invited to touch the work. \n\nDuring her residency\, the artist and her support team\, which includes her mother and translator\, will engage directly with students in the exhibition space\, offering a transformative experience based on human expression and connection through art. Because Ericka feels most comfortable when she is working\, she plans to make artwork with students as part of the class engagements with the exhibition.\n\nAbout Ericka Lopez\nBorn 1987 in Mexico\, Ericka Lopez has been making art at Tierra del Sol Studios since 2019. Working across ceramic\, fiber\, and mixed media constructions\, Lopez’s practice is centralized around her exploration of touch. Lopez was born with limited vision and is now completely blind. Lopez trained in massage therapy and previously volunteered at a soup kitchen when an encounter with Tierra’s ceramics studio shifted her trajectory toward fine art. Her masterful command of clay hand-building techniques enables Lopez to create intricate\, dynamic\, and organically structured coil vessels. Lopez’s works are informed by her finite recollection of color\; she requests specific shades and combinations of glazes that generate spontaneous\, distinctive surfaces when fired. This intuitive approach continues in her fiber wall works and mixed media sculptures. Utilizing punch rug embroidery\, Lopez creates abstract fields of yarn and found objects\, often repeatedly punching through the same area to yield densely layered sections. Lopez has learned to identify the color of her materials via scent and feel\, a process that is difficult to put into words. Her mixed media sculptures are created almost entirely by touch\, consisting of threads\, buttons\, beads\, fabric scraps\, and found objects instinctively stitched together using simple sewing techniques. Lopez hopes her works can be experienced through an inquiry of touch.\n\nEricka Lopez has exhibited her artwork at Laband Gallery and Tierra del Sol Gallery in Los Angeles\, CA. Lopez’s debut solo exhibition\, “Continuous Touch\,” was curated by jill moniz for Tierra del Sol Gallery in the Spring of 2023. She has had works acquired by notable private collections such as that of Beth DeWoody and by the Kleefeld Contemporary Art Museum at UC Long Beach.
UID:123257-21850651@events.umich.edu
URL:https://events.umich.edu/event/123257
CLASS:PUBLIC
STATUS:CONFIRMED
CATEGORIES:Visual Arts,Art,Humanities
LOCATION:Thayer Academic Building - Institute for the Humanities Gallery
CONTACT:
END:VEVENT
BEGIN:VEVENT
DTSTAMP:20240130T121550
DTSTART;TZID=America/Detroit:20241114T100000
DTEND;TZID=America/Detroit:20241114T200000
SUMMARY:Exhibition:A Gathering
DESCRIPTION:Welcome. Make Yourself At Home.\n \nA Gathering brings together the newest works of art to enter UMMA’s collection — many on display here for the first time. \n \nAs a free\, public museum\, UMMA staff takes care of art for the benefit of the community and society at large. The works on view in this exhibition\, all brought into the Museum between 2019 and the present\, shows how institutions like UMMA are becoming more permeable to societal challenges\, and more nimble in responding to them in service to all in their communities. In this exhibition you will find works that reflect on how global migrations\, race\, gender\, and ecological change shape the way we engage with the world and inform our visions for the future.\n \nThis collection of artistic engagements with issues give us tools to envision who we want to be as individuals\, as a museum\, and as a society\, connected to one another across space and experience.\n \nSo gather here to take in these latest works of art brought here for you. Gather here to be engulfed in their forms and meanings\, to discuss their takes\, to learn\, to disagree. Gather to relax\, make a friend\, drink a coffee\, finish the daily Wordle. Gather to feel full\, to be moved and inspired by all the possible imaginations of what is yet to come.\n \nCurated by Félix Zamora Gómez Irving Stenn\, Jr. Fellow in Public Humanities & Museum Pedagogy\n\nLead support for this exhibition is provided by Lizzie and Jonathan Tisch\, the Richard and Rosann Noel Endowment\, and the University of Michigan Office of the Provost.\n 
UID:107870-21817963@events.umich.edu
URL:https://events.umich.edu/event/107870
CLASS:PUBLIC
STATUS:CONFIRMED
CATEGORIES:Art,UMMA,Staff,Museum,Exhibition,Free,Humanities
LOCATION:Museum of Art - Lizzie and Jonathan Tisch Apse
CONTACT:
END:VEVENT
BEGIN:VEVENT
DTSTAMP:20241129T063120
DTSTART;TZID=America/Detroit:20241114T100000
DTEND;TZID=America/Detroit:20241114T140000
SUMMARY:Careers / Jobs:CHS Mental Health In-Person Recruitment Fair Nov 14\, 2024
DESCRIPTION:We would like to invite you to our in-person Mental Health Fair – Hiring Event\, Hosted by Correctional Health Services/NYC Health &amp\; Hospitals. This event will take place on Thursday\, November 14\, 2024\, from 10AM to 2PM. Senior Psychiatrist (H+H) - Annual Salary $309\,600- $329\,600Education: M.D. orD.O. degree with active NY State license in good standing Completion of a4-year psychiatric residency training program Active certification by theAmerican Board of Psychiatry and Neurology in PsychiatryExperience:At least two years of post-residency experience working with individuals with mental illness in a criminal justice setting (jail\, prison\, probation and/or parole) or public health community setting At least one year of post-residency experience working with individualswith serious mental illness an equivalent and satisfactory combination ofeducation and experience may be considered.Psychiatrist - Annual Salary1. (Health +Hospitals)- Please visit www.nychealthandhospitals.org/careers/2. (PAGNY)- Please visit https://www.pagny.org/careers/Graduation from an approved medical school Possession of a valid license to practice medicine in the State of New York\; and\, Completion of three years of approved residency training in psychiatry\; or fellowship in the specialty or sub-specialty and Board eligible or certified or Subboard eligible or certifiedClinical Supervisor (H+H) - Annual Salary $120\,000Master’s Degree in Public Administration\, Public Health\, Health Care Specialization\, Social Work\, Psychology or related field\; and 1. Three (3) years of increasingly responsible experience in hospital or regulatory agency administration\,with particular emphasis development and evaluation of mental health on delivery services\; or2. Possession of a valid license and current registration to practice in a mental health field issued by the New York State Education Department (NYSED).Mental Health Clinician - Annual Salary(Health +Hospitals)- Please visit www.nychealthandhospitals.org/careers/Master’s degree in Social Work\, Psychology\, or related field. A valid License or Limited Permit issued by the New York State Education Department to practice as a Mental Health Counselor\, New York State License in Social Work or licensure in PsychologyPAGNY- 2. Please visit https://www.pagny.org/careers/ Master’s degree in Social Work\, Psychology\, or related field. New York State License in Social Work\, License in Mental Health Counseling\, or licensure in Psychology
UID:127800-21859702@events.umich.edu
URL:https://events.umich.edu/event/127800
CLASS:PUBLIC
STATUS:CONFIRMED
CATEGORIES:
LOCATION:Queens, New York, United States
CONTACT:
END:VEVENT
END:VCALENDAR