BEGIN:VCALENDAR
VERSION:2.0
PRODID:-//UM//UM*Events//EN
CALSCALE:GREGORIAN
BEGIN:VTIMEZONE
TZID:America/Detroit
TZURL:http://tzurl.org/zoneinfo/America/Detroit
X-LIC-LOCATION:America/Detroit
BEGIN:DAYLIGHT
TZOFFSETFROM:-0500
TZOFFSETTO:-0400
TZNAME:EDT
DTSTART:20070311T020000
RRULE:FREQ=YEARLY;BYMONTH=3;BYDAY=2SU
END:DAYLIGHT
BEGIN:STANDARD
TZOFFSETFROM:-0400
TZOFFSETTO:-0500
TZNAME:EST
DTSTART:20071104T020000
RRULE:FREQ=YEARLY;BYMONTH=11;BYDAY=1SU
END:STANDARD
END:VTIMEZONE
BEGIN:VEVENT
DTSTAMP:20240802T151114
DTSTART;TZID=America/Detroit:20241114T100000
DTEND;TZID=America/Detroit:20241114T120000
SUMMARY:Workshop / Seminar:Communication Styles in the Workplace
DESCRIPTION:Course details and registration are available on the Organizational Learning website.
UID:123767-21851866@events.umich.edu
URL:https://events.umich.edu/event/123767
CLASS:PUBLIC
STATUS:CONFIRMED
CATEGORIES:Career,Communication,Professional Development
LOCATION:Off Campus Location
CONTACT:
END:VEVENT
BEGIN:VEVENT
DTSTAMP:20241022T095723
DTSTART;TZID=America/Detroit:20241114T100000
DTEND;TZID=America/Detroit:20241114T160000
SUMMARY:Exhibition:GalleryDAAS Exhibition: \"Hip Hop @ 50\"
DESCRIPTION:It's back! Brought to you by the Department of Afroamerican and African Studies (DAAS)\, GalleryDAAS celebrates the 50th anniversary of hip hop with “Hip Hop @ 50\,” an exhibition highlighting this constantly evolving phenomenon. Explore various aspects of hip hop culture\, including definitions\, dates\, divas\, the Detroit scene\, and a special tribute to J Dilla (James Dewitt Yancey)\, a prolific producer. Through examining the five pillars of hip hop — rapping\, break dancing\, DJing\, graffiti and historical knowledge — it becomes evident that what began as a musical genre has impacted society\, fashion\, language\, entertainment and even politics. Visitors will also be treated to a GREAT playlist! The gallery is open Monday–Friday from 10 a.m. to 4 p.m.
UID:122094-21860346@events.umich.edu
URL:https://events.umich.edu/event/122094
CLASS:PUBLIC
STATUS:CONFIRMED
CATEGORIES:AEM Featured,african and african american studies,african and afroamerican studies
LOCATION:Haven Hall - G648
CONTACT:
END:VEVENT
BEGIN:VEVENT
DTSTAMP:20241105T124740
DTSTART;TZID=America/Detroit:20241114T100000
DTEND;TZID=America/Detroit:20241114T120000
SUMMARY:Workshop / Seminar:Neurodiversity in the Workplace (Part 1)
DESCRIPTION:Neurodiversity is the new hot topic in the realm of disability inclusion and accessibility—and with good reason. A significant percentage of people are now recognized as having neurotypes that are not well supported by societal norms and our collective understanding of how to communicate across and support neurodiversity is still developing. Fortunately researchers\, educators\, and advocates who identify as neurodivergent are contributing to a growing body of best practices. \n\nJoin the LSA Faculty & Staff Disability Navigators for this two-part workshop to learn about neurodiversity and how we can all start creating more neuroinclusive workplaces. \n\nParticipants will:\n1. Understand what neurodiversity is and how the concept has evolved over time.\n2. Reflect on the ways neurodiversity shapes our experiences\, behaviors\, aptitudes\, and understanding of the world.\n3. Gain insight into how contemporary work norms can exclude and create barriers for a range of neurotypes.\n4. Explore neuroinclusive practices we can proactively integrate into our workplaces.\n5. Become familiar with relevant resources for LSA employees. \n\nAudience: This is a beginner-level workshop open to any LSA employee\, including our student employees. LSA employees receive priority access\, so while external guests are welcome to register they may be waitlisted and allocated spots as space allows.\n\nImportant note: Please do your best to register for and attend both parts 1 and 2 as the content builds on itself. This workshop will not be recorded.
UID:127843-21859810@events.umich.edu
URL:https://events.umich.edu/event/127843
CLASS:PUBLIC
STATUS:CONFIRMED
CATEGORIES:Accessibility,Disability,Diversity,Equity,Inclusion
LOCATION:Off Campus Location
CONTACT:
END:VEVENT
END:VCALENDAR