BEGIN:VCALENDAR
VERSION:2.0
PRODID:-//UM//UM*Events//EN
CALSCALE:GREGORIAN
BEGIN:VTIMEZONE
TZID:America/Detroit
TZURL:http://tzurl.org/zoneinfo/America/Detroit
X-LIC-LOCATION:America/Detroit
BEGIN:DAYLIGHT
TZOFFSETFROM:-0500
TZOFFSETTO:-0400
TZNAME:EDT
DTSTART:20070311T020000
RRULE:FREQ=YEARLY;BYMONTH=3;BYDAY=2SU
END:DAYLIGHT
BEGIN:STANDARD
TZOFFSETFROM:-0400
TZOFFSETTO:-0500
TZNAME:EST
DTSTART:20071104T020000
RRULE:FREQ=YEARLY;BYMONTH=11;BYDAY=1SU
END:STANDARD
END:VTIMEZONE
BEGIN:VEVENT
DTSTAMP:20231205T144915
DTSTART;TZID=America/Detroit:20240416T090000
DTEND;TZID=America/Detroit:20240416T230000
SUMMARY:Exhibition:Orson Welles as Family Man: Son\, Husband\, Father
DESCRIPTION:This exhibit provides a unique glimpse into the actor/director Orson Welles’ private life. Unlike previous U-M Library exhibits that focused on the artist at work\, this display shows him in informal and familial environments\, revealing a depth and complexity of character that are often overshadowed by his fame and professional achievements. The photographs and documents displayed showcase a variety of emotional tones — warmth\, humor\, tenderness\, and passion. Candid and relaxed more than posed\, they are similar to most people's pictures in old family albums.\n\nCulled from the Orson Welles-Beatrice Welles materials that are part of the Mavericks & Makers collection within the U-M Library’s Special Collections Research Center\, each photo or letter tells a story of a connection Welles held dearly. The materials included are from two periods: the late 1920s and early 1930s\, when Welles was a teenager\, and the mid-1950s to early 1960s\, during the early years of his marriage to his third wife\, Paola Mori. \n\nIt should be noted that Welles’s personal life was messy at best. Other collections housed at U-M that include personal materials related to Welles document his first and second marriages\, including the Welles-Feder Collection and the Wilson-Welles Collection. The items on display here were saved by his third and final child\, Beatrice Welles\, and reflect her childhood memories of her parents.\n\nThe exhibit is available during Hatcher Gallery Exhibit Room hours (https://umlib.us/hatchergalleryexhibits).
UID:115811-21835648@events.umich.edu
URL:https://events.umich.edu/event/115811
CLASS:PUBLIC
STATUS:CONFIRMED
CATEGORIES:Exhibition,Free,Library
LOCATION:Hatcher Graduate Library - Gallery Exhibit Room (1st floor)
CONTACT:
END:VEVENT
BEGIN:VEVENT
DTSTAMP:20240501T123125
DTSTART;TZID=America/Detroit:20240416T100000
DTEND;TZID=America/Detroit:20240416T110000
SUMMARY:Careers / Jobs:Become a School Climate Coordinators in San Francisco Unified School District!
DESCRIPTION:Come to our info session to learn more about the opportunitiesin San Francisco Unified School District. We're currently hiring a cohortof School Climate Coordinators to join our Healthy Choices AmeriCorps program starting in August 2024. \n\nThese individuals will have the chance to work full-time alongside our amazing School Social Workers and build their professional networks\, do meaningful service for our students and families\, participate in impactful professional development weekly along withthe learning community of other coordinators\, and receive a $10\,000 educational award at the end of their term of service!
UID:121042-21845736@events.umich.edu
URL:https://events.umich.edu/event/121042
CLASS:PUBLIC
STATUS:CONFIRMED
CATEGORIES:
LOCATION:
CONTACT:
END:VEVENT
BEGIN:VEVENT
DTSTAMP:20240322T154355
DTSTART;TZID=America/Detroit:20240416T100000
DTEND;TZID=America/Detroit:20240416T140000
SUMMARY:Social / Informal Gathering:Spring 2024 Power Up Event
DESCRIPTION:Join Information and Technology Services for the Spring Power Up Event! We'll bring the snacks\, swag\, and juice. You bring yourself.\n\nYou + snacks + studying = solid exams
UID:120624-21845050@events.umich.edu
URL:https://events.umich.edu/event/120624
CLASS:PUBLIC
STATUS:CONFIRMED
CATEGORIES:Food,Free,In Person,North Campus
LOCATION:Duderstadt Center
CONTACT:
END:VEVENT
END:VCALENDAR