BEGIN:VCALENDAR
VERSION:2.0
PRODID:-//UM//UM*Events//EN
CALSCALE:GREGORIAN
BEGIN:VTIMEZONE
TZID:America/Detroit
TZURL:http://tzurl.org/zoneinfo/America/Detroit
X-LIC-LOCATION:America/Detroit
BEGIN:DAYLIGHT
TZOFFSETFROM:-0500
TZOFFSETTO:-0400
TZNAME:EDT
DTSTART:20070311T020000
RRULE:FREQ=YEARLY;BYMONTH=3;BYDAY=2SU
END:DAYLIGHT
BEGIN:STANDARD
TZOFFSETFROM:-0400
TZOFFSETTO:-0500
TZNAME:EST
DTSTART:20071104T020000
RRULE:FREQ=YEARLY;BYMONTH=11;BYDAY=1SU
END:STANDARD
END:VTIMEZONE
BEGIN:VEVENT
DTSTAMP:20241107T123148
DTSTART;TZID=America/Detroit:20241023T120000
DTEND;TZID=America/Detroit:20241023T130000
SUMMARY:Careers / Jobs:All Majors Welcomed: A Career at Creative Artists Agency (CAA)
DESCRIPTION:CAA is a leading entertainment\, sports\, and media agency.     We represent many of the most successful professionals working in television\, film\, music\, theatre\, video games\, sports\, and digital content. We also provide a range of strategic and marketingconsulting services to corporate clients.    In this session\, learn how any college major is welcomed for a career at CAA\, and how to use the skills you are learning to be successful and elevate yourself as a professional.    Join us to learn more about our Summer 2025 Internship and full-time opportunities within departments such as music\, sports\, digital media\, motion pictures\, television\, and more! 
UID:127034-21858321@events.umich.edu
URL:https://events.umich.edu/event/127034
CLASS:PUBLIC
STATUS:CONFIRMED
CATEGORIES:
LOCATION:
CONTACT:
END:VEVENT
BEGIN:VEVENT
DTSTAMP:20240926T113729
DTSTART;TZID=America/Detroit:20241023T120000
DTEND;TZID=America/Detroit:20241023T130000
SUMMARY:Lecture / Discussion:Contemporary Ukrainian Poetry
DESCRIPTION:Marianna Kiyanovska\, one of Ukraine’s most acclaimed poets\, will read from her renowned work The Voices of Babyn Yar (trans. by Oksana Maksymchuk and Max Rosochinsky)\, which won the Shevchenko Prize\, Ukraine’s highest honor for works of literature and culture\, as well as the Zbigniew Herbert International Literary Award and the Peterson Literary Award. In conversation with Alex Averbuch\, Kiyanovska will discuss Ukraine’s past and present\, exploring its horrors and inspirations\, as well as its rich multiculturalism and multiethnicity.
UID:126181-21856635@events.umich.edu
URL:https://events.umich.edu/event/126181
CLASS:PUBLIC
STATUS:CONFIRMED
CATEGORIES:Judaic,Creees
LOCATION:Weiser Hall - 555
CONTACT:
END:VEVENT
BEGIN:VEVENT
DTSTAMP:20241001T120726
DTSTART;TZID=America/Detroit:20241023T120000
DTEND;TZID=America/Detroit:20241023T130000
SUMMARY:Lecture / Discussion:HET Brown Bag Seminar | Two Exact Results on 2d CFTs
DESCRIPTION:As I will discuss in my Ta-You Wu Lecture\, exact statements about conformal field theories can be used to identify and derive constraints on quantum gravity theories. In this technical talk\, I will present a couple of new results on conformal field theory in two dimensions motivated by gravitational theories in three dimensions.
UID:124231-21852776@events.umich.edu
URL:https://events.umich.edu/event/124231
CLASS:PUBLIC
STATUS:CONFIRMED
CATEGORIES:Brown Bag Seminar,Science,Physics,brown bag
LOCATION:Randall Laboratory - 3481
CONTACT:
END:VEVENT
END:VCALENDAR