BEGIN:VCALENDAR
VERSION:2.0
PRODID:-//UM//UM*Events//EN
CALSCALE:GREGORIAN
BEGIN:VTIMEZONE
TZID:America/Detroit
TZURL:http://tzurl.org/zoneinfo/America/Detroit
X-LIC-LOCATION:America/Detroit
BEGIN:DAYLIGHT
TZOFFSETFROM:-0500
TZOFFSETTO:-0400
TZNAME:EDT
DTSTART:20070311T020000
RRULE:FREQ=YEARLY;BYMONTH=3;BYDAY=2SU
END:DAYLIGHT
BEGIN:STANDARD
TZOFFSETFROM:-0400
TZOFFSETTO:-0500
TZNAME:EST
DTSTART:20071104T020000
RRULE:FREQ=YEARLY;BYMONTH=11;BYDAY=1SU
END:STANDARD
END:VTIMEZONE
BEGIN:VEVENT
DTSTAMP:20240130T121549
DTSTART;TZID=America/Detroit:20240416T110000
DTEND;TZID=America/Detroit:20240416T170000
SUMMARY:Exhibition:Angkor Complex: ​Cultural Heritage and Post-Genocide Memory in Cambodia.
DESCRIPTION:Care in Uncertain Times\n \nAs crises of public health\, economic instability\, authoritarian regimes\, racial injustice\, and climate change spread around the globe\, millions are experiencing distress\, conflict\, uncertainty\, and vulnerability. This troubling combination of experiences is nothing new for Cambodians. Between 1975-1979\, when the Khmer Rouge ruled Cambodia\, about a quarter of the country’s populations died of infectious diseases\, weapon wounds\, and malnutrition.\n \nThis exhibition brings together more than 80 works of art spanning a millennium to present how the visual culture of Cambodia and its diaspora has evolved in the face of cultural upheaval. Showcasing works from worldwide collections\, including those from some of the foremost members of the Cambodian contemporary art scene\, Angkor Complex allows viewers to encounter the still-fresh scars of a genocide and critically appreciate the strategies evolved to nurture resilience in trying times.\n\nLead support for this exhibition is provided by the U-M Office of the Provost\, U-M Office of the President\, National Endowment for the Arts\, Michigan Arts and Culture Council\, Eleanor Noyes Crumpacker Endowment Fund\, and U-M Ross School of Business.\n 
UID:114750-21833478@events.umich.edu
URL:https://events.umich.edu/event/114750
CLASS:PUBLIC
STATUS:CONFIRMED
CATEGORIES:UMMA,Art,Culture,Exhibition,Museum,Public Health
LOCATION:Museum of Art - A. Alfred Taubman Gallery I
CONTACT:
END:VEVENT
BEGIN:VEVENT
DTSTAMP:20240130T121547
DTSTART;TZID=America/Detroit:20240416T110000
DTEND;TZID=America/Detroit:20240416T170000
SUMMARY:Exhibition:Curriculum / Collection
DESCRIPTION:In Curriculum / Collection\, an incredible variety of University of Michigan courses take material form. Collected for each course are objects that address the nature of materiality\, time\, and human interaction in relation to our environments\, our wars\, our relationships\, and our eccentricities. \n \nWorking in collaboration with University faculty\, the works in this exhibition were selected for their capacity to provoke engagement with the guiding questions and themes of their specific courses\, while also offering students inspiration for research and art projects in their areas of study. The exhibition demonstrates some of the diverse and creative ways art plays a central role in learning across the disciplines. It also asks us to consider what we can learn from art objects across an infinite variety of specialties and subject matter.\n \nAs classes begin in Fall of 2021\, you’ll be able to use these pages to explore the collections designed for each course\, dive into the works themselves\, and hear from the professors and students about how they are engaging with art and objects in new ways. Who knows\, maybe you’ll learn something surprising along the way\, too.\n\nLead support for this exhibition is provided by the University of Michigan Office of the Provost\, Erica Gervais Pappendick and Ted Pappendick\, and the Eleanor Noyes Crumpacker Endowment Fund\, and the Oakriver Foundation.\n 
UID:86001-21795863@events.umich.edu
URL:https://events.umich.edu/event/86001
CLASS:PUBLIC
STATUS:CONFIRMED
CATEGORIES:Research,UMMA,Art,Exhibition,Faculty,Nature,Museum
LOCATION:Museum of Art - Eleanor Noyes Crumpacker Gallery
CONTACT:
END:VEVENT
BEGIN:VEVENT
DTSTAMP:20240501T123131
DTSTART;TZID=America/Detroit:20240416T110000
DTEND;TZID=America/Detroit:20240416T123000
SUMMARY:Careers / Jobs:FBI San Francisco Division | Professional Staff Info Session 2024
DESCRIPTION:Join an elite team that protects the American people and upholds the US Constitution. Whatever your background or experience\, you can find a career like no other with the FBI.\n\nIn this session we will provide information on the Professional Staff roles (not including Special Agents)\, Federal Resume writing\, Interview tips as well as  application and hiring process. \n\nFBI representatives will present a short overview of Operations Support Technician (OST)  opportunity at San Francisco field office. They will then be available to answer your questions.\n\nPlease note that we are actively hiring for several positions in the San Francisco office. This is a great opportunity for graduating seniors Spring 2024 or Fall2024 to get into the FBI.\n\nPlease note the following:\n1) You must be aUS Citizen to apply for the Professional Staff position.\n2) Please come prepared with 1-2 questions for the info sessions related to opportunitieson the professional side of the FBI .\n3) Check out FBIjobs.gov for more information on the Professional Staff application process.
UID:121135-21845867@events.umich.edu
URL:https://events.umich.edu/event/121135
CLASS:PUBLIC
STATUS:CONFIRMED
CATEGORIES:
LOCATION:
CONTACT:
END:VEVENT
END:VCALENDAR