BEGIN:VCALENDAR
VERSION:2.0
PRODID:-//UM//UM*Events//EN
CALSCALE:GREGORIAN
BEGIN:VTIMEZONE
TZID:America/Detroit
TZURL:http://tzurl.org/zoneinfo/America/Detroit
X-LIC-LOCATION:America/Detroit
BEGIN:DAYLIGHT
TZOFFSETFROM:-0500
TZOFFSETTO:-0400
TZNAME:EDT
DTSTART:20070311T020000
RRULE:FREQ=YEARLY;BYMONTH=3;BYDAY=2SU
END:DAYLIGHT
BEGIN:STANDARD
TZOFFSETFROM:-0400
TZOFFSETTO:-0500
TZNAME:EST
DTSTART:20071104T020000
RRULE:FREQ=YEARLY;BYMONTH=11;BYDAY=1SU
END:STANDARD
END:VTIMEZONE
BEGIN:VEVENT
DTSTAMP:20250328T172651
DTSTART;TZID=America/Detroit:20241023T120000
DTEND;TZID=America/Detroit:20241023T130000
SUMMARY:Lecture / Discussion:Is Sign Language Universal? A Brief History of ASL
DESCRIPTION:Come learn about the history of American Sign Language (ASL) and its fascinating origins. In this workshop\, we will take a brief look at the evolution of ASL\, some linguistic differences that set it apart from other languages\, variations within the language\, Deaf culture\, and more! No prior knowledge of ASL or linguistics is required to attend.
UID:123547-21851067@events.umich.edu
URL:https://events.umich.edu/event/123547
CLASS:PUBLIC
STATUS:CONFIRMED
CATEGORIES:Culture,Deaf,Disability,Virtual,Accessibility
LOCATION:Off Campus Location
CONTACT:
END:VEVENT
BEGIN:VEVENT
DTSTAMP:20240116T141648
DTSTART;TZID=America/Detroit:20241023T120000
DTEND;TZID=America/Detroit:20241023T123000
SUMMARY:Well-being:North Campus Mindfulness Meditation Drop-In (Online)
DESCRIPTION:Take a moment to create some space to breathe and invite a sense of calm into your day. This is a guided mindfulness meditation drop-in session. No experience necessary. Free and open to all. \n\nEmail dmitryb@umich.edu to sign up for the mailing list. You will receive a weekly reminder with the zoom link. Also\, you can add the sessions to your Google Calendar: https://tinyurl.com/y3kbkwd6
UID:40967-21859831@events.umich.edu
URL:https://events.umich.edu/event/40967
CLASS:PUBLIC
STATUS:CONFIRMED
CATEGORIES:Well-being,Virtual,Stress Reduction,North campus,Mindfulness\, Meditation,Mindfulness,Meditation,Health & Wellness
LOCATION:Off Campus Location
CONTACT:
END:VEVENT
BEGIN:VEVENT
DTSTAMP:20240904T181923
DTSTART;TZID=America/Detroit:20241023T120000
DTEND;TZID=America/Detroit:20241023T123000
SUMMARY:Performance:Tiffany Ng\, carillon
DESCRIPTION:University Carillonist Tiffany Ng performs on the Charles Baird Carillon\, an instrument of 53 bronze bells located inside the Burton Memorial Tower. The largest bell\, which strikes the hour\, weighs 12 tons\, while the smallest bell\, 4½ octaves above\, weighs just 15 pounds.\n\nThirty-minute recitals are performed on the Charles Baird Carillon at noon every weekday that classes are in session\, followed by visitor Q&A with the carillonist. The bell chamber may be accessed via a combination of elevator and stairs. Take the elevator to the highest floor possible (floor 8)\, and then climb two flights of stairs (39 steps) to the bell chamber (floor 10). Earplugs are available from the carillonist upon request. Be prepared to walk on ice and snow in the bell chamber during winter. Built in 1936\, the Charles Baird Carillon is not ADA accessible. Visitors with mobility concerns are invited to visit the Lurie Carillon: https://smtd.umich.edu/facilities/ann-and-robert-h-lurie-carillon/
UID:125731-21855677@events.umich.edu
URL:https://events.umich.edu/event/125731
CLASS:PUBLIC
STATUS:CONFIRMED
CATEGORIES:Talk,Music,Free,Faculty
LOCATION:Burton Memorial Tower
CONTACT:
END:VEVENT
END:VCALENDAR