BEGIN:VCALENDAR
VERSION:2.0
PRODID:-//UM//UM*Events//EN
CALSCALE:GREGORIAN
BEGIN:VTIMEZONE
TZID:America/Detroit
TZURL:http://tzurl.org/zoneinfo/America/Detroit
X-LIC-LOCATION:America/Detroit
BEGIN:DAYLIGHT
TZOFFSETFROM:-0500
TZOFFSETTO:-0400
TZNAME:EDT
DTSTART:20070311T020000
RRULE:FREQ=YEARLY;BYMONTH=3;BYDAY=2SU
END:DAYLIGHT
BEGIN:STANDARD
TZOFFSETFROM:-0400
TZOFFSETTO:-0500
TZNAME:EST
DTSTART:20071104T020000
RRULE:FREQ=YEARLY;BYMONTH=11;BYDAY=1SU
END:STANDARD
END:VTIMEZONE
BEGIN:VEVENT
DTSTAMP:20241129T123127
DTSTART;TZID=America/Detroit:20241114T110000
DTEND;TZID=America/Detroit:20241114T120000
SUMMARY:Careers / Jobs:Monument Health Rapid City Hospital PGY1 & PGY2 Residencies (SouthDakota)
DESCRIPTION:Join us to get to know our team and program! Talk with the Residency Program Directors and residents. Sign-up here! Please RSVP by November 5th. We will email you a link to join the virtual open house when the date gets closer. https://monument.health/careers/residencies/rapid-city-hospital-pharmacy-residency/recruiting-events/  Monument Health Rapid City Hospital (RCH) in Rapid City\, South Dakota is recruiting three PGY1 pharmacy residents for the 2025-2026 residencyyear. The mission of the Monument Health Rapid City Hospital pharmacy residency program is to develop capable\, confident\, and independent pharmacists through impactful learning experiences led by preceptors that challenge\, inspire\, and support residents. For our PGY1 program\, we offer experiences in both acute and ambulatory settings. Required rotations include orientation\, ambulatory care\, critical care\, infectious disease\, internal medicine\, and pediatrics/neonatology and longitudinal drug information\, HIV clinic\, management\, project\, and staffing. Electives are available for ambulatory care cardiology\, antimicrobial stewardship\, cardiology (inpatient)\, emergency medicine\, evening ICU\, family medicine ambulatory care\, home infusion/home care\, internal medicine II\, medication safety\, nephrology\, oncology\, psychiatry\, specialty pharmacy\, and surgical ICU/OR. A teaching certificate as well as leadership certificate are offered. Our site offers PGY2 residency programs specializing in critical care and oncology. Our residency program offers:  Flexible &amp\; tailored program for each resident Solid foundation of corerotations &amp\; a wide variety of elective rotations Excellent preceptors Elective teaching certificate  Elective leadership certificate Four weeks of project time Opportunities for publication Competitive salary Multiple presentation opportunities Weekly residency meetings Resident-led penicillin skin testing service Private office space for residents Resident staffing every third weekend in both decentralized and centralized locations Financial support to attend the ASHP Midyear Clinical Meeting\, Midwest Pharmacy Residents Conference in Omaha\, and SDSHP Annual Meeting as well as SDSHP Resident Conference. PGY2 residency programs in critical care and oncology For more information\, please see our website at http://monument.health/pharmacyresidency orcontact Katie Hayes at khayes@monument.health.
UID:127612-21859396@events.umich.edu
URL:https://events.umich.edu/event/127612
CLASS:PUBLIC
STATUS:CONFIRMED
CATEGORIES:
LOCATION:
CONTACT:
END:VEVENT
BEGIN:VEVENT
DTSTAMP:20240620T181506
DTSTART;TZID=America/Detroit:20241114T110200
DTEND;TZID=America/Detroit:20241114T170000
SUMMARY:Exhibition:Michelle Hinojosa: Logcabins
DESCRIPTION:Stamps Gallery commissioned Michelle Hinojosa (MFA\, 2023) to reimagine the pillars on Division Street that flank the Gallery. Hinojosa has created log cabin quilts to adorn the columns in front of Stamps Gallery. The log cabin quilts traditionally represent the warm hearth at the center of a home. This installation reflects on the interplay between home\, placemaking\, labor\, and intergenerational memories of migration. Rather than quilting cotton designed to softly embrace the body\, these quilts are sewn from outdoor grade\, UV-resistant polyester. The quilt is an ode to Hinojosa’s grandmother who illegally crossed the US/Mexico border holding her babies and her quilts. As she and her family drove across the United States to work in the fields of the Salinas Valley\, the quilts offered a safe space for her and her family. Hinojosa celebrates their resilience to her grandmother and elders while also drawing attention to precarity and violence experienced by refugees and migrants crossing the US-Mexico border in our present today.\nArtist’s bio:\nMichelle Inez Hinojosa is an artist\, educator\, and researcher whose work is informed by Indigenous and Latine/x/a/o studies. Born and raised in Texas\, she earned her Bachelor of Fine Arts degree in both drawing and painting and art education with a minor in art history at the University of North Texas. She holds a Master of Fine Arts from the University of Michigan. She works with quilting\, bead weaving\, embroidery\, jewelry\, transparent film installations\, painting\, ceramics\, and sculpture to honor and explore the history of migration in her family and humanize the current discourse around migration still occurring at the southern border. Alongside her artwork she maintains a writing practice to re-story\, re-make\, and re-claim the often subordinated narratives of Latinx\, Chicanx\, Mexican\, and Texican peoples. \n\nRecently\, Hinojosa was named an inaugural Creative Careers Artist in Residence at the University of Michigan\, she has also attended residencies at Mildred's Lane (Pennsylvania)\, Anderson Ranch Art Center (Aspen\, CO) and The Cedars Union (Dallas\, TX). 
UID:122384-21848787@events.umich.edu
URL:https://events.umich.edu/event/122384
CLASS:PUBLIC
STATUS:CONFIRMED
CATEGORIES:Art
LOCATION:Off Campus Location
CONTACT:
END:VEVENT
BEGIN:VEVENT
DTSTAMP:20241015T133831
DTSTART;TZID=America/Detroit:20241114T113000
DTEND;TZID=America/Detroit:20241114T130000
SUMMARY:Workshop / Seminar:Agriculture\, Trade\, and the Spatial Efficiency of Global Water Use - co-authored with Tamma Carleton and Levi Crews
DESCRIPTION:--
UID:127878-21859860@events.umich.edu
URL:https://events.umich.edu/event/127878
CLASS:PUBLIC
STATUS:CONFIRMED
CATEGORIES:Economics,International,seminar
LOCATION:Lorch Hall - 201
CONTACT:
END:VEVENT
END:VCALENDAR