BEGIN:VCALENDAR
VERSION:2.0
PRODID:-//UM//UM*Events//EN
CALSCALE:GREGORIAN
BEGIN:VTIMEZONE
TZID:America/Detroit
TZURL:http://tzurl.org/zoneinfo/America/Detroit
X-LIC-LOCATION:America/Detroit
BEGIN:DAYLIGHT
TZOFFSETFROM:-0500
TZOFFSETTO:-0400
TZNAME:EDT
DTSTART:20070311T020000
RRULE:FREQ=YEARLY;BYMONTH=3;BYDAY=2SU
END:DAYLIGHT
BEGIN:STANDARD
TZOFFSETFROM:-0400
TZOFFSETTO:-0500
TZNAME:EST
DTSTART:20071104T020000
RRULE:FREQ=YEARLY;BYMONTH=11;BYDAY=1SU
END:STANDARD
END:VTIMEZONE
BEGIN:VEVENT
DTSTAMP:20241007T121556
DTSTART;TZID=America/Detroit:20241023T120000
DTEND;TZID=America/Detroit:20241023T160000
SUMMARY:Well-being:Transfer Student Week Relaxation Station
DESCRIPTION:M-Connect and METS invite you to celebrate Transfer Student Week by relaxing! Transfer students in any major are invited to join us for lunch from 12-1 (or while it lasts!)\, and then sign up for a chair massage (times offered between 1:00-4:00 pm). We'll also have board games\, Legos\, snacks\, and a special visit from Therapaws between 2-4 pm.
UID:127477-21859200@events.umich.edu
URL:https://events.umich.edu/event/127477
CLASS:PUBLIC
STATUS:CONFIRMED
CATEGORIES:M-connect,Mets,Transfer Students,Tsw24
LOCATION:Duderstadt Center - Basesment
CONTACT:
END:VEVENT
BEGIN:VEVENT
DTSTAMP:20250207T161055
DTSTART;TZID=America/Detroit:20241023T123000
DTEND;TZID=America/Detroit:20241023T130000
SUMMARY:Tours:Coral Reef Tank Visit
DESCRIPTION:Join Professor Jim Bardwell for a peek behind the scenes at his large coral reef tank featuring many species of coral\, anemone\, and fish. Explore reef ecology and\, if you're lucky\, get a glimpse of a reclusive octopus!  30 minutes\, limit 12 people. This program takes place in the research area of the Biological Sciences Building and is recommended for ages 6 and up.\nSpace is available first come\, first served. Sign up and meet at the Welcome desk.
UID:125537-21855349@events.umich.edu
URL:https://events.umich.edu/event/125537
CLASS:PUBLIC
STATUS:CONFIRMED
CATEGORIES:Museum,natural history museum
LOCATION:Museum of Natural History
CONTACT:
END:VEVENT
BEGIN:VEVENT
DTSTAMP:20241023T122044
DTSTART;TZID=America/Detroit:20241023T124500
DTEND;TZID=America/Detroit:20241023T141500
SUMMARY:Workshop / Seminar:LSA's Residential College
DESCRIPTION:
UID:127823-21859730@events.umich.edu
URL:https://events.umich.edu/event/127823
CLASS:PUBLIC
STATUS:CONFIRMED
CATEGORIES:Sessions
LOCATION:East Quad, Room 1423
CONTACT:
END:VEVENT
END:VCALENDAR