BEGIN:VCALENDAR
VERSION:2.0
PRODID:-//UM//UM*Events//EN
CALSCALE:GREGORIAN
BEGIN:VTIMEZONE
TZID:America/Detroit
TZURL:http://tzurl.org/zoneinfo/America/Detroit
X-LIC-LOCATION:America/Detroit
BEGIN:DAYLIGHT
TZOFFSETFROM:-0500
TZOFFSETTO:-0400
TZNAME:EDT
DTSTART:20070311T020000
RRULE:FREQ=YEARLY;BYMONTH=3;BYDAY=2SU
END:DAYLIGHT
BEGIN:STANDARD
TZOFFSETFROM:-0400
TZOFFSETTO:-0500
TZNAME:EST
DTSTART:20071104T020000
RRULE:FREQ=YEARLY;BYMONTH=11;BYDAY=1SU
END:STANDARD
END:VTIMEZONE
BEGIN:VEVENT
DTSTAMP:20241001T145540
DTSTART;TZID=America/Detroit:20241114T113000
DTEND;TZID=America/Detroit:20241114T130000
SUMMARY:Lecture / Discussion:Math LCIT Discussion
DESCRIPTION:In the Math LCIT\, individuals interested in inclusive teaching in mathematics meet to discuss topics related to this subject.  Details of each meeting are found on the U(M) Math Learning Community on Inclusive Teaching page\, which is included in the links for this event.
UID:127254-21858741@events.umich.edu
URL:https://events.umich.edu/event/127254
CLASS:PUBLIC
STATUS:CONFIRMED
CATEGORIES:Inclusion,Mathematics,Teaching
LOCATION:
CONTACT:
END:VEVENT
BEGIN:VEVENT
DTSTAMP:20240820T111444
DTSTART;TZID=America/Detroit:20241114T120000
DTEND;TZID=America/Detroit:20241114T133000
SUMMARY:Lecture / Discussion:CJS Noon Lecture Series | Tyrannical Tigers and Endangered Cats: Why Are the Korean Scholar-Bureaucrats Always So Important in Modern Japan?
DESCRIPTION:Please note: This lecture will be held in person in room 1010 Weiser Hall and virtually via Zoom. This webinar is free and open to the public\, but registration is required. Once you've registered\, the joining information will be sent to your email. Register for the Zoom webinar at: https://myumi.ch/RmN4G\n   \n   The Korean scholar-bureaucrats (yangban) have been drawing public attention among Japanese intellectuals since the beginning of the 20th century. This lecture reviews how Japanese magazines represented yangban\, tracing how their image changed from the evil noblemen that kept Korean society stagnant to the graceful embodiers of vanishing authentic Korean culture. Both these images\, and even the transition from one to the other\, were driven by a Japanese version of orientalism.\n   \n   Shimpei Cole Ota is a sociocultural anthropologist trained both in Seoul National University (ABD\, 2003) and Osaka University (Ph.D.\, 2007). His basic question focuses on what brings drastic changes to societies and cultures\, especially before and after modernization\, liberalization\, and globalization in South Korea and Korean America.\n   \n   This lecture is made possible with the generous support of the U.S. Department of Education Title VI grant.\n\nIf there is anything we can do to make this event accessible to you\, please contact us at umcjs@umich.edu. Please be aware that advance notice is necessary as some accommodations may require more time for the university to arrange.
UID:124603-21853255@events.umich.edu
URL:https://events.umich.edu/event/124603
CLASS:PUBLIC
STATUS:CONFIRMED
CATEGORIES:Asian Languages And Cultures,japan,Japanese Studies
LOCATION:Weiser Hall - Room 1010
CONTACT:
END:VEVENT
BEGIN:VEVENT
DTSTAMP:20241106T123311
DTSTART;TZID=America/Detroit:20241114T120000
DTEND;TZID=America/Detroit:20241114T123000
SUMMARY:Careers / Jobs:Cool role spotlight: how this chef combines her passions for culinary arts and sales
DESCRIPTION:No career path is a straight line\, sometimes you have to funnel your passions into new directions. On November 14 at 12:00PM PT joinus for a virtual session with Chef and Sales Manager Juliet Hope. During the event Juliet will share her insights into her role and career journey\, including:\nPivoting your career to find the right path for you\nWhat a day in the life of a Regional Sales Manager looks like\nTips for a successful career in the food industry\nHope to see you there! 
UID:128807-21861649@events.umich.edu
URL:https://events.umich.edu/event/128807
CLASS:PUBLIC
STATUS:CONFIRMED
CATEGORIES:
LOCATION:
CONTACT:
END:VEVENT
END:VCALENDAR