BEGIN:VCALENDAR
VERSION:2.0
PRODID:-//UM//UM*Events//EN
CALSCALE:GREGORIAN
BEGIN:VTIMEZONE
TZID:America/Detroit
TZURL:http://tzurl.org/zoneinfo/America/Detroit
X-LIC-LOCATION:America/Detroit
BEGIN:DAYLIGHT
TZOFFSETFROM:-0500
TZOFFSETTO:-0400
TZNAME:EDT
DTSTART:20070311T020000
RRULE:FREQ=YEARLY;BYMONTH=3;BYDAY=2SU
END:DAYLIGHT
BEGIN:STANDARD
TZOFFSETFROM:-0400
TZOFFSETTO:-0500
TZNAME:EST
DTSTART:20071104T020000
RRULE:FREQ=YEARLY;BYMONTH=11;BYDAY=1SU
END:STANDARD
END:VTIMEZONE
BEGIN:VEVENT
DTSTAMP:20241001T143833
DTSTART;TZID=America/Detroit:20241114T120000
DTEND;TZID=America/Detroit:20241114T130000
SUMMARY:Other:ELO | UMSI Semester Exchange Meet & Greet
DESCRIPTION:UMSI Semester Exchange Program: Meet & Greet Lunches\n\nThis lunchtime event is intended for student who have or will participate in a UMSI Semester Exchange Program. Students will have the opportunity to share their experiences\, ask and answer questions\, and network with other UMSI students who have already or will soon study abroad!\n \n\nLunch will be provided to those that register. Register here! - https://umsi.info/elo-register
UID:127242-21858726@events.umich.edu
URL:https://events.umich.edu/event/127242
CLASS:PUBLIC
STATUS:CONFIRMED
CATEGORIES:Engaged Learning Office,Study Abroad
LOCATION:North Quad - Space 2435
CONTACT:
END:VEVENT
BEGIN:VEVENT
DTSTAMP:20241113T000024
DTSTART;TZID=America/Detroit:20241114T120000
DTEND;TZID=America/Detroit:20241114T223000
SUMMARY:Recreational / Games:Gaming & Esports Lounge!
DESCRIPTION:Recreational Sports\, in partnership with Michigan Esports and Alienware\, are hosting a drop-in gaming and esports lounge at the Intramural Sports Building from November 12th - 17th!\n\nThe game lounge will be open at 11am daily for drop-in play for all students and recreational sports members\, and will also feature competitive performances from the Michigan Esports team in the evenings!\n\nDuring the week\, there will also be giveaways for participants\, and lots of product demos for participants to test the latest and greatest gaming equipment!\n\nStop by with some friends and play games together!
UID:128858-21861708@events.umich.edu
URL:https://events.umich.edu/event/128858
CLASS:PUBLIC
STATUS:CONFIRMED
CATEGORIES:
LOCATION:Intramural Sports Building
CONTACT:
END:VEVENT
BEGIN:VEVENT
DTSTAMP:20241104T154026
DTSTART;TZID=America/Detroit:20241114T120000
DTEND;TZID=America/Detroit:20241114T130000
SUMMARY:Lecture / Discussion:Leveraging Focused Ultrasound to Drive Tissue Regeneration via On-Demand Modulation of Microenvironmental Cues
DESCRIPTION:Oral Health Sciences Seminar Series\n\nLeveraging Focused Ultrasound to Drive Tissue Regeneration via On-Demand Modulation of Microenvironmental Cues\n\nMario L. Fabiilli\, Ph.D.\nAssociate Professor\nDepartment of Radiology\nDepartment of Biomedical Engineering\n\nThursday\, November 14\, 2024\n12:00 – 1:00pm\nDENT G550\nHost: Dr. Renny Franceschi\nSponsored by TEAM\n\n*CE credit will be given to the School of Dentistry Faculty. If you would like CE credit\, please sign in at the seminar
UID:125460-21855154@events.umich.edu
URL:https://events.umich.edu/event/125460
CLASS:PUBLIC
STATUS:CONFIRMED
CATEGORIES:Biomedical Engineering,Health Science,seminar
LOCATION:Dental & W.K. Kellogg Institute - DENT G550
CONTACT:
END:VEVENT
END:VCALENDAR