BEGIN:VCALENDAR
VERSION:2.0
PRODID:-//UM//UM*Events//EN
CALSCALE:GREGORIAN
BEGIN:VTIMEZONE
TZID:America/Detroit
TZURL:http://tzurl.org/zoneinfo/America/Detroit
X-LIC-LOCATION:America/Detroit
BEGIN:DAYLIGHT
TZOFFSETFROM:-0500
TZOFFSETTO:-0400
TZNAME:EDT
DTSTART:20070311T020000
RRULE:FREQ=YEARLY;BYMONTH=3;BYDAY=2SU
END:DAYLIGHT
BEGIN:STANDARD
TZOFFSETFROM:-0400
TZOFFSETTO:-0500
TZNAME:EST
DTSTART:20071104T020000
RRULE:FREQ=YEARLY;BYMONTH=11;BYDAY=1SU
END:STANDARD
END:VTIMEZONE
BEGIN:VEVENT
DTSTAMP:20240110T090741
DTSTART;TZID=America/Detroit:20240416T120000
DTEND;TZID=America/Detroit:20240416T140000
SUMMARY:Workshop / Seminar:CommuniTea Event at the Trotter Multicultural Center Every Tuesday!
DESCRIPTION:CommuniTea FlyerCommuniTEA is a weekly tea gathering on Tuesdays for students\, staff and faculty to build community and share information about what they are experiencing during the week. Organizations and units are encouraged to collaborate and offer light refreshments or share tea practices that center their cultural practices.
UID:116458-21836977@events.umich.edu
URL:https://events.umich.edu/event/116458
CLASS:PUBLIC
STATUS:CONFIRMED
CATEGORIES:Sessions
LOCATION:Trotter Multicultural Center - Sankofa Lounge
CONTACT:
END:VEVENT
BEGIN:VEVENT
DTSTAMP:20240501T123118
DTSTART;TZID=America/Detroit:20240416T120000
DTEND;TZID=America/Detroit:20240416T123000
SUMMARY:Careers / Jobs:Exact Sciences Virtual Meet and Greet - Interviewing Tips from Recruiters
DESCRIPTION:About the Event:\n\nDuring this interactive session\, you'll have the opportunity to hear from seasoned recruiters who specialize in talent acquisition for one of the leading biotechnology companies in the industry. Whether you're preparing for internships\, co-op programs\, or full-time positions\, this event is designed to equip you with the knowledge and skills you need to ace your interviews and stand out from the crowd.\n\nWhat You'll Learn:\n-Insider tips for crafting a standout resume tailored to the biotech industry\n-Strategies for effectively preparing and researching for interviews\n-Common interview pitfalls to avoid and how to overcome them\n-Techniques for showcasing your skills and experience in a compelling way\n-Insights into the qualities and attributes that biotech companies look for in candidates\n\nWhy Attend:\n-Gain firsthand advice from recruiters who understand the unique demands of the biotechnology sector\n-Network with fellow students who share your passion for science and innovation\n-Receive actionable tips and resources to help you succeed in your future interviews\n-Explore potential career opportunities and learn about theexciting projects happening at Exact Sciences\n\nAt Exact Sciences\, we are cancer fighters. We are united by our mission to change lives by providing earlier\, smarter answers. Through advances in cancer detection and treatment guidance\, we will help eradicate the disease and the suffering itcauses. We are driven to find ambitious\, dynamic individuals who thrive in a team-based environment and can help us take another step toward winning the war on cancer through early detection. Are you interested in playing a part in the fight against cancer? Would you like to learn more about how to get your career started in the biotechnology industry? Register and join us in a virtual meet &amp\; greet session to learn more about Exact Sciences and to learn more from our recruiters about tips and tricks to jumpstart your career in this industry.\n
UID:120452-21844780@events.umich.edu
URL:https://events.umich.edu/event/120452
CLASS:PUBLIC
STATUS:CONFIRMED
CATEGORIES:
LOCATION:
CONTACT:
END:VEVENT
BEGIN:VEVENT
DTSTAMP:20240401T155806
DTSTART;TZID=America/Detroit:20240416T120000
DTEND;TZID=America/Detroit:20240416T130000
SUMMARY:Lecture / Discussion:LRCCS Noon Lecture Series | Untamed Shrews: Negotiating New Womanhood in Modern China
DESCRIPTION:We regret that Siqi Zheng\, MIT\, had to cancel her talk for April 16th due to unforeseen circumstances. She will be rescheduling to the Fall Term 2024 lecture series.\n\nIf you would like to attend this lecture via Zoom\, please register at https://myumi.ch/zXwJd\n\nThis lecture traces the evolution of unruly women in Chinese literature and culture\, from the reviled “shrew” to the celebrated “new woman.” Rather than meeting her demise\, the shrew persisted\, and her negative qualities became the basis for many forms of the new woman\, ranging from the early Republican suffragettes and Chinese Noras\, to the Communist and socialist radicals. This lecture focuses on the yinfu (wanton woman) and revolution from the women’s suffrage movement to Jiang Qing and the Yan’an campaign.\n\nShu Yang is an Associate Professor in the Department of World Languages and Literatures at Western Michigan University\, specializing in literary\, cultural and gender studies on modern China. She has published in leading journals including *Gender & History*\, *Nan Nü*\, *CLEAR*\, and *Modern Chinese Literature and Culture*. Her recent book *Untamed Shrews* came out under the Cornell East Asia Series by Cornell University Press (July 2023). Now Shu Yang is continuing her exploration of gender and modernity by writing on the discourse of hysteria in Republican China.\n\nIf there is anything we can do to make this event accessible to you\, please contact us. Please be aware that advance notice is necessary as some accommodations may require more time for the university to arrange.
UID:121018-21845696@events.umich.edu
URL:https://events.umich.edu/event/121018
CLASS:PUBLIC
STATUS:CONFIRMED
CATEGORIES:Asia,China,women's studies
LOCATION:Weiser Hall - Room 110
CONTACT:
END:VEVENT
END:VCALENDAR