BEGIN:VCALENDAR
VERSION:2.0
PRODID:-//UM//UM*Events//EN
CALSCALE:GREGORIAN
BEGIN:VTIMEZONE
TZID:America/Detroit
TZURL:http://tzurl.org/zoneinfo/America/Detroit
X-LIC-LOCATION:America/Detroit
BEGIN:DAYLIGHT
TZOFFSETFROM:-0500
TZOFFSETTO:-0400
TZNAME:EDT
DTSTART:20070311T020000
RRULE:FREQ=YEARLY;BYMONTH=3;BYDAY=2SU
END:DAYLIGHT
BEGIN:STANDARD
TZOFFSETFROM:-0400
TZOFFSETTO:-0500
TZNAME:EST
DTSTART:20071104T020000
RRULE:FREQ=YEARLY;BYMONTH=11;BYDAY=1SU
END:STANDARD
END:VTIMEZONE
BEGIN:VEVENT
DTSTAMP:20241016T201952
DTSTART;TZID=America/Detroit:20241023T130000
DTEND;TZID=America/Detroit:20241023T160000
SUMMARY:Well-being:Plant with Us!
DESCRIPTION:Do you want to start a garden? We will be providing free pots\, soil\, seeds\, and decoration supplies for anyone who wants to take home a plant and watch it grow!
UID:127957-21859973@events.umich.edu
URL:https://events.umich.edu/event/127957
CLASS:PUBLIC
STATUS:CONFIRMED
CATEGORIES:Free,green,Health & Wellness,sustainability
LOCATION:LSA Building - 1040
CONTACT:
END:VEVENT
BEGIN:VEVENT
DTSTAMP:20241015T103520
DTSTART;TZID=America/Detroit:20241023T130000
DTEND;TZID=America/Detroit:20241023T140000
SUMMARY:Livestream / Virtual:Positive Links Speaker Series
DESCRIPTION:Positive Links Speaker Series: The Untapped Power of Discovery: How to Create Change that Inspires a Better Future\nKaren Golden-Biddle\nWednesday\, October 23\, 2024\n1:00 - 2:00 p.m. ET \nFree\, registration required to obtain login information\nOnline\n \nEvent link: \nhttps://positiveorgs.bus.umich.edu/events/the-untapped-power-of-discovery/\n \nPositive Links: \nThe Positive Links Speaker Series\, presented by Michigan Ross’ Center for Positive Organizations\, offers inspiring and practical science-based strategies to build and bolster thriving organizations. Attendees learn from leading positive organizational scholars and connect with our community of academics\, students\, staff\, and leaders. \n \nAbout the talk: \nNavigating change is one of the hardest tasks that leaders face. How can discovery produce \"ahas \" and insights to meet the challenge of effectively leading during a time of unprecedented change? \n \nJoin Karen Golden-Biddle\, author of  \"The Untapped Power of Discovery: How to Create Change that Inspires a Better Future\,\" to learn about her compelling framework and actionable strategies that will help you champion discovery for change in work and life. Through science and storytelling\, Karen will explain how to leverage opportunities once unseen\, open the door to temporary not knowing\, and launch new solutions that reimagine unsettled situations. Learn how you and your organization can experience remarkable benefits from catalyzing discovery. \n \nAbout Golden-Biddle: \nKaren Golden-Biddle is an organizational ethnographer\, educator\, and author of \"The Untapped Power of Discovery.\" She is sought after for her voice on discovery\, transformation\, and navigating change.   \n\nKaren’s award-winning research on change revealed a powerful but undeveloped and undervalued leadership capacity: the practice of discovery. Her research finds that at its core\, discovery depends on a process of creative inquiry that is shared and experience based. Karen is committed to supporting leaders’ efforts to cultivate discovery as a conscious practice. \"The Untapped Power of Discovery\" and website stem from that commitment.  \n\nHost: \nMonica Worline\, Faculty Director\, Center for Positive Organizations\n \nSeries Sponsors: \nThe Center for Positive Organizations thanks the Sanger Leadership Center\, Tauber Institute for Global Operations\, and Samuel Zell & Robert H. Lurie Institute for Entrepreneurial Studies for their support of the 2024-25 Positive Links Speaker Series. \n \nSeries Promotional Partners: \nAdditionally\, we thank Ann Arbor SPARK\, the Managerial and Organizational Cognition (MOC) Division of the Academy of Management\, and the Organization Development and Change (ODC) Division of the Academy of Management for their Positive Links Speaker Series promotional partnerships.
UID:127340-21858917@events.umich.edu
URL:https://events.umich.edu/event/127340
CLASS:PUBLIC
STATUS:CONFIRMED
CATEGORIES:Business,Center For Positive Organizations,Free,Graduate,Staff,Talk,Undergraduate
LOCATION:Off Campus Location
CONTACT:
END:VEVENT
BEGIN:VEVENT
DTSTAMP:20241023T095618
DTSTART;TZID=America/Detroit:20241023T130000
DTEND;TZID=America/Detroit:20241023T160000
SUMMARY:Livestream / Virtual:Pre-Law Drop-Ins
DESCRIPTION:During pre-law drop-in hours\, pre-law advisors are available to answer quick questions from all U-M Ann Arbor students and alumni.\n\nhttps://officehours.it.umich.edu/queue/1145
UID:124244-21860476@events.umich.edu
URL:https://events.umich.edu/event/124244
CLASS:PUBLIC
STATUS:CONFIRMED
CATEGORIES:Pre-Law
LOCATION:Off Campus Location
CONTACT:
END:VEVENT
END:VCALENDAR