BEGIN:VCALENDAR
VERSION:2.0
PRODID:-//UM//UM*Events//EN
CALSCALE:GREGORIAN
BEGIN:VTIMEZONE
TZID:America/Detroit
TZURL:http://tzurl.org/zoneinfo/America/Detroit
X-LIC-LOCATION:America/Detroit
BEGIN:DAYLIGHT
TZOFFSETFROM:-0500
TZOFFSETTO:-0400
TZNAME:EDT
DTSTART:20070311T020000
RRULE:FREQ=YEARLY;BYMONTH=3;BYDAY=2SU
END:DAYLIGHT
BEGIN:STANDARD
TZOFFSETFROM:-0400
TZOFFSETTO:-0500
TZNAME:EST
DTSTART:20071104T020000
RRULE:FREQ=YEARLY;BYMONTH=11;BYDAY=1SU
END:STANDARD
END:VTIMEZONE
BEGIN:VEVENT
DTSTAMP:20240913T120550
DTSTART;TZID=America/Detroit:20241023T130000
DTEND;TZID=America/Detroit:20241023T140000
SUMMARY:Meeting:Psycholinguistics
DESCRIPTION:The psycholinguistics discussion group is a meeting of several lab groups from Linguistics\, Psychology\, and other departments that all share common interests in language processing\, including comprehension\, production\, and acquisition. The discussion group is an informal venue for presenting research findings\, for developing new ideas\, and for connecting with the many language scientists across the University who are interested in the psychology and neuroscience of human language.
UID:126358-21857005@events.umich.edu
URL:https://events.umich.edu/event/126358
CLASS:PUBLIC
STATUS:CONFIRMED
CATEGORIES:Language Processing,Psychology
LOCATION:Off Campus Location - 2234 East Hall
CONTACT:
END:VEVENT
BEGIN:VEVENT
DTSTAMP:20241107T123158
DTSTART;TZID=America/Detroit:20241023T130000
DTEND;TZID=America/Detroit:20241023T134000
SUMMARY:Careers / Jobs:Sikich: Sneak Peek of Mentorship/Training for Interns
DESCRIPTION:Join us for the virtual event \"Sikich: Sneak Peek of Onboarding/Training for Interns\" from 1:00 PM to 1:45 PM CT. If you're an accounting student\, this is a great opportunity for you.During this session\, you'll discover key information about our Sikich Scholar onboarding training. It’s an interactive event where you can engage with our campusteam and learn more about our training programs at Sikich.Click here to join the virtual event: Join the meeting now
UID:127601-21859385@events.umich.edu
URL:https://events.umich.edu/event/127601
CLASS:PUBLIC
STATUS:CONFIRMED
CATEGORIES:
LOCATION:
CONTACT:
END:VEVENT
BEGIN:VEVENT
DTSTAMP:20240904T181924
DTSTART;TZID=America/Detroit:20241023T132000
DTEND;TZID=America/Detroit:20241023T135000
SUMMARY:Performance:Jenna Moon\, carillon
DESCRIPTION:SMTD doctoral alumna Jenna Moon performs on the Ann & Robert H. Lurie Carillon\, an instrument of 60 bells with the lowest bell (bourdon) weighing 6 tons.\n\nThirty-minute recitals are performed on the Lurie Carillon every weekday that classes are in session. During these recitals\, visitors may take the elevator to level 2 to view the largest bells\, or to level 3 to see the carillonist performing. (Visitors subject to acrophobia are recommended to visit level 2 only.) An optional spiral stairway between levels 2 and 3 allows for up-close views of some of the largest bells.
UID:125732-21855678@events.umich.edu
URL:https://events.umich.edu/event/125732
CLASS:PUBLIC
STATUS:CONFIRMED
CATEGORIES:Alumni,Free,Music,North Campus,Talk
LOCATION:Lurie Ann & Robert H. Tower
CONTACT:
END:VEVENT
END:VCALENDAR